From mboxrd@z Thu Jan 1 00:00:00 1970 Return-Path: Received: from mails.dpdk.org (mails.dpdk.org [217.70.189.124]) by inbox.dpdk.org (Postfix) with ESMTP id 154F04886F for ; Tue, 30 Sep 2025 11:59:26 +0200 (CEST) Received: from mails.dpdk.org (localhost [127.0.0.1]) by mails.dpdk.org (Postfix) with ESMTP id 119CA400D7; Tue, 30 Sep 2025 11:59:26 +0200 (CEST) Received: from mail-io1-f98.google.com (mail-io1-f98.google.com [209.85.166.98]) by mails.dpdk.org (Postfix) with ESMTP id 671E7400D7 for ; Tue, 30 Sep 2025 11:59:24 +0200 (CEST) Received: by mail-io1-f98.google.com with SMTP id ca18e2360f4ac-92c4adc8bfeso133636539f.0 for ; Tue, 30 Sep 2025 02:59:24 -0700 (PDT) DKIM-Signature: v=1; a=rsa-sha256; c=relaxed/relaxed; d=iol.unh.edu; s=unh-iol; t=1759226364; x=1759831164; darn=dpdk.org; h=references:in-reply-to:cc:to:from:subject:message-id:date:from:to :cc:subject:date:message-id:reply-to; bh=qOZSExBMeBbPRR+iWRnHwoBI6CldqqHQoc53kLX5u7I=; b=GZGcJhpfC4JvpWSXZLA9raI3a+kBRJgBpZzx3wsgcSGmH+gT6k1luSgmJgkaLzDiX8 /+92XUOhnBrzxemCj4S842q2L9kW1tOrpI+Uf/f41IuLeojUIS/V87P8W8/f0ldO5SYv F9jWiBX8ONizoiSGdfJk6BrnmSRIZinDDldFg= X-Google-DKIM-Signature: v=1; a=rsa-sha256; c=relaxed/relaxed; d=1e100.net; s=20230601; t=1759226364; x=1759831164; h=references:in-reply-to:cc:to:from:subject:message-id:date :x-gm-message-state:from:to:cc:subject:date:message-id:reply-to; bh=qOZSExBMeBbPRR+iWRnHwoBI6CldqqHQoc53kLX5u7I=; b=uw377wcsSPu0JR2g06Kx/1ttajQh6CF00ZNIdAKc2ZvmTjNpUqallbW7mitFo6AJTP ReCKi9P96AKfqIYBYwsKQ+BpmYqfnW2bMPJ1hy2YtHKKfCT+qbJH/1zLRVUxZGe5HlW9 zfUoK+Ogk/xg0iNUEi2Iow4QT11/VQFYGAi4vbTwyIxSpkPORpikqdibC3ZWHcQz3A8g 2xRcC5jb5qlOpJBzF8FAZdT5OdaiOWZLM2LrWGT8vp6+gyBgP+91qxML9randbIApB+O ww5/YYr22I5JbYhgjmHUlxw62xJ00U9q2ihTsK1nC5KaqVGErOxWntwg3tYPnnhU3jHQ //mQ== X-Gm-Message-State: AOJu0Yxt+Ll/IpFf7S7lNKAE+d+NfwFQ4pDi2jKSERI3v/6YPeEqe0Ds CHjazFL/wmFDCR+BnOA1s1BLyksk2xmUzpu/sbRGg3bW9tWI2w3S40tyCEf1oe/qQzTIv+Xdlio kMdtVr0C5uN1ZMJ4ntHQH3LIQntrYN6KTUXynkxK3GT/eHVo0opS4uf4GbsMW X-Gm-Gg: ASbGncvH0gJkGmglN15E3Nx5QawxCC6/K+OWznDOWOVkpAvubibzv1p2PdtlaIsiiG3 gmD8d3H4pOeUyGlR2L+Td27xczQ/IwqgaHEWUw26GGrwbGL9z2aRFbosVEdtpEbieMowuibNIVF LQx/KNOvxtIiKcTpfxcJ4Y8A/9dscjM+NH8/JbcOzELwSLM5Jbc/GicZLxrz/Je6F6r55oKtjkz Pa8rT6hp5UJ6Tf59cBDyAKklURNHSnwrcniTjf9DEPLe6sXWVHsLlFHgxm4RhupfgRWwhcGcmMI y2f579uWUUTGfRgbgibwhrfVFCq2CAo96OBWN2ZQVFEZ1fxIuPAdolo= X-Google-Smtp-Source: AGHT+IGPEewg0zkVkkhY21NbADMf5NzG/24k0g7j+JRmTUiQKjK1TYmxe6CREY4prMrjfRerAEyLf4b0VpWz X-Received: by 2002:a92:c26d:0:b0:42d:7f42:93eb with SMTP id e9e14a558f8ab-42d7f4295edmr2525765ab.4.1759226363754; Tue, 30 Sep 2025 02:59:23 -0700 (PDT) Received: from postal.iol.unh.edu (postal.iol.unh.edu. [2606:4100:3880:1234::84]) by smtp-relay.gmail.com with ESMTPS id e9e14a558f8ab-425bf6d4f21sm10691085ab.29.2025.09.30.02.59.23 (version=TLS1_2 cipher=ECDHE-ECDSA-AES128-GCM-SHA256 bits=128/128); Tue, 30 Sep 2025 02:59:23 -0700 (PDT) X-Relaying-Domain: iol.unh.edu Date: Tue, 30 Sep 2025 02:59:23 -0700 (PDT) Message-ID: <68dba9fb.920a0220.361cbe.fa85SMTPIN_ADDED_MISSING@mx.google.com> Received: from [172.21.0.3] (unknown [172.18.0.240]) by postal.iol.unh.edu (Postfix) with ESMTP id 4943E6051830; Tue, 30 Sep 2025 05:59:23 -0400 (EDT) Subject: |SUCCESS| pw157112-157113 [PATCH] [v4,2/2] net/idpf: enable AVX2 for From: dpdklab@iol.unh.edu To: Test Report Cc: dpdk-test-reports@iol.unh.edu, Bruce Richardson In-Reply-To: <20250930090709.2521114-3-shaiq.wani@intel.com> References: <20250930090709.2521114-3-shaiq.wani@intel.com> Content-Type: text/plain X-BeenThere: test-report@dpdk.org X-Mailman-Version: 2.1.29 Precedence: list List-Id: automatic DPDK test reports List-Unsubscribe: , List-Archive: List-Post: List-Help: List-Subscribe: , Errors-To: test-report-bounces@dpdk.org Test-Label: iol-compile-amd64-testing Test-Status: SUCCESS http://dpdk.org/patch/157113 _Testing PASS_ Submitter: Shaiq Wani Date: Tuesday, September 30 2025 09:07:09 DPDK git baseline: Repo:dpdk-next-net-intel Branch: master CommitID:9845e5848bbe337306fb6ae2a6b1ce5e6ab5b714 157112-157113 --> testing pass Upstream job id: Windows-Compile-DPDK-VS#7058 Test environment and result as below: +---------------------+--------------------+-------------------+ | Environment | dpdk_meson_compile | dpdk_msvc_compile | +=====================+====================+===================+ | FreeBSD 14.2 | PASS | SKIPPED | +---------------------+--------------------+-------------------+ | Ubuntu 20.04 | PASS | SKIPPED | +---------------------+--------------------+-------------------+ | Windows Server 2022 | SKIPPED | PASS | +---------------------+--------------------+-------------------+ FreeBSD 14.2 Kernel: 14.2-RELEASE Compiler: clang 18.1.6 Ubuntu 20.04 Kernel: 4.19 Compiler: gcc gcc (Ubuntu 9.4.0-1ubuntu1~20.04.2) 9.4.0 Windows Server 2022 Kernel: 10.0.20348.2031 Compiler: clang 15.0.7, gcc 14.1.0 (MinGW), and MSVC VS 19.39.33521 To view detailed results, visit: https://lab.dpdk.org/results/dashboard/patchsets/34179/ UNH-IOL DPDK Community Lab To manage your email subscriptions, visit: https://lab.dpdk.org/results/dashboard/preferences/subscriptions/