From mboxrd@z Thu Jan 1 00:00:00 1970 Return-Path: Received: from mails.dpdk.org (mails.dpdk.org [217.70.189.124]) by inbox.dpdk.org (Postfix) with ESMTP id E2E554886F for ; Tue, 30 Sep 2025 12:00:46 +0200 (CEST) Received: from mails.dpdk.org (localhost [127.0.0.1]) by mails.dpdk.org (Postfix) with ESMTP id 5D2D740E0C; Tue, 30 Sep 2025 12:00:46 +0200 (CEST) Received: from mail-qv1-f98.google.com (mail-qv1-f98.google.com [209.85.219.98]) by mails.dpdk.org (Postfix) with ESMTP id 33BAD40A67 for ; Tue, 30 Sep 2025 12:00:44 +0200 (CEST) Received: by mail-qv1-f98.google.com with SMTP id 6a1803df08f44-78f30dac856so51164096d6.2 for ; Tue, 30 Sep 2025 03:00:44 -0700 (PDT) DKIM-Signature: v=1; a=rsa-sha256; c=relaxed/relaxed; d=iol.unh.edu; s=unh-iol; t=1759226443; x=1759831243; darn=dpdk.org; h=references:in-reply-to:cc:to:from:subject:message-id:date:from:to :cc:subject:date:message-id:reply-to; bh=O0H0SalJW01gt/FIKiBzOfwwRDRaBu3ZKgKHTu2Ezic=; b=eyOblGi2P90n8J6GE4mDqDwVeNTdMBVVBjiHKH98KCOO7tdNpCQZMLOtWTzxnToleT u5WOL7VxXwxjaokFVAGaz4iVXggJOyYJTif0JCu0cr6fJ8LDXjssUAYJcpltvbaM2jeh 3W5nHBtnDBbia1fkVwIGmA8HU9YuCPyXh84rg= X-Google-DKIM-Signature: v=1; a=rsa-sha256; c=relaxed/relaxed; d=1e100.net; s=20230601; t=1759226443; x=1759831243; h=references:in-reply-to:cc:to:from:subject:message-id:date :x-gm-message-state:from:to:cc:subject:date:message-id:reply-to; bh=O0H0SalJW01gt/FIKiBzOfwwRDRaBu3ZKgKHTu2Ezic=; b=NQorNvyPooI88iq3nuxXWE0v7Ztf/eUTFNb8ixrw+zMaDl3Iu7PA3V5eQwxsSVeBTy 8WF6yUWFWQa7iGtEmJlU4bZ0UUJL+wVcucdpkVhVc7JhV5Wl+xZT68BBrJCTIEc2eH4y OCrYBuI40AnFE0WKD1SF/dbrDYag/O8Gbhqt0hg82SLe+PnjcU1o26Pyp+GOiLFFvipC AE9h14WFZh//bLrkgyR0UZx4lrPGXJonWzkLf8J9iYnA8J3nnet4n5UC1YizayQ0Vfbs 0LSGQIo0r1ivPjhkBo5owDkCCg4sQPQrr2GR3gjNfD21U62XSFDr9MYwiiD77x9zcyuZ 9kPw== X-Gm-Message-State: AOJu0YxpC4YTIvszw1h+q8wsIBWpGE5H1tRxLTUm+3iLr/81q1iX9rGm jOZdKkwNsL2f7lxUJRoH5bZXOszhxOJpEVP7LLgYNE8+xn36Q+LbZfpfDJrrokV9beergLPAq7G qni3FB4g1ot3n64Ll+057zaq3PDEjXv44TRtAwYBUQhoh X-Gm-Gg: ASbGncsR2pPESMkKJTP715BEtGKcH7EYRwPMu9snpVFAC3rEOt0Q+ZN/x4PKx9e/IGd hcHGdXfzpqowPqJrH9wi+j7BqArFDPtrvOel9QB8LzZNDSdnXIpavvCxcM1FRvxYz/ah0pxP+3T +Inc3dkmacY3ZGQcXRbhuitP8fxrtDHam9fk5B0qxJLVRh+letO+6mmGpraXpnPacdWzOtdtSyK SdKKQ50hSg9il93j+uieiPd/IJBB33nujeWwZU19dbTbpF3924sqsSlqDNLi8hvt70qbZWEZA3m kEjhBhtLpcLWJ4xlTLoC8Ih0bxkwvnV3K0JQkTkxw0ZVtyFPqVgZNQbJLlNgwVwiEJC6hQFBZJq 5Ww== X-Google-Smtp-Source: AGHT+IHzLeZ3f032w+TzQoo33Ip3YfVuSQYm/zL0D3mU0Xbdj2ZgWRG40yX3CInalv5fesWKPsc2nzk4pdq4 X-Received: by 2002:a05:6214:27ea:b0:793:9d56:3f8b with SMTP id 6a1803df08f44-7fc38410894mr273170996d6.17.1759226443241; Tue, 30 Sep 2025 03:00:43 -0700 (PDT) Received: from postal.iol.unh.edu (postal.iol.unh.edu. [132.177.123.84]) by smtp-relay.gmail.com with ESMTPS id 6a1803df08f44-80161a317b1sm9749026d6.27.2025.09.30.03.00.43 (version=TLS1_2 cipher=ECDHE-ECDSA-AES128-GCM-SHA256 bits=128/128); Tue, 30 Sep 2025 03:00:43 -0700 (PDT) X-Relaying-Domain: iol.unh.edu Date: Tue, 30 Sep 2025 03:00:43 -0700 (PDT) Message-ID: <68dbaa4b.050a0220.10ef94.a350SMTPIN_ADDED_MISSING@mx.google.com> Received: from [172.21.0.3] (unknown [172.18.0.240]) by postal.iol.unh.edu (Postfix) with ESMTP id F0A406051830; Tue, 30 Sep 2025 06:00:41 -0400 (EDT) Subject: |SUCCESS| pw157111 [PATCH] net/mlx5: fix IPv6 DSCP offset in NT HWS From: dpdklab@iol.unh.edu To: Test Report Cc: dpdk-test-reports@iol.unh.edu In-Reply-To: <20250930072827.9630-1-gavinl@nvidia.com> References: <20250930072827.9630-1-gavinl@nvidia.com> Content-Type: text/plain X-BeenThere: test-report@dpdk.org X-Mailman-Version: 2.1.29 Precedence: list List-Id: automatic DPDK test reports List-Unsubscribe: , List-Archive: List-Post: List-Help: List-Subscribe: , Errors-To: test-report-bounces@dpdk.org Test-Label: iol-compile-amd64-testing Test-Status: SUCCESS http://dpdk.org/patch/157111 _Testing PASS_ Submitter: Gavin Li Date: Tuesday, September 30 2025 07:28:27 DPDK git baseline: Repo:dpdk-next-net-mlx Branch: master CommitID:2374f33e1d964e100895fd294966380c46f0886d 157111 --> testing pass Upstream job id: Windows-Compile-DPDK-Native#31318 Test environment and result as below: +---------------------+--------------------+-------------------+-------------------------+----------------------+ | Environment | dpdk_meson_compile | dpdk_msvc_compile | dpdk_llvm_clang_compile | dpdk_mingw64_compile | +=====================+====================+===================+=========================+======================+ | Ubuntu 20.04 | PASS | SKIPPED | SKIPPED | SKIPPED | +---------------------+--------------------+-------------------+-------------------------+----------------------+ | FreeBSD 14.2 | PASS | SKIPPED | SKIPPED | SKIPPED | +---------------------+--------------------+-------------------+-------------------------+----------------------+ | Windows Server 2022 | SKIPPED | PASS | PASS | PASS | +---------------------+--------------------+-------------------+-------------------------+----------------------+ Ubuntu 20.04 Kernel: 4.19 Compiler: gcc gcc (Ubuntu 9.4.0-1ubuntu1~20.04.2) 9.4.0 FreeBSD 14.2 Kernel: 14.2-RELEASE Compiler: clang 18.1.6 Windows Server 2022 Kernel: 10.0.20348.2031 Compiler: clang 15.0.7, gcc 14.1.0 (MinGW), and MSVC VS 19.39.33521 To view detailed results, visit: https://lab.dpdk.org/results/dashboard/patchsets/34178/ UNH-IOL DPDK Community Lab To manage your email subscriptions, visit: https://lab.dpdk.org/results/dashboard/preferences/subscriptions/