From mboxrd@z Thu Jan 1 00:00:00 1970 Return-Path: Received: from mails.dpdk.org (mails.dpdk.org [217.70.189.124]) by inbox.dpdk.org (Postfix) with ESMTP id 3525D4886F for ; Tue, 30 Sep 2025 12:09:22 +0200 (CEST) Received: from mails.dpdk.org (localhost [127.0.0.1]) by mails.dpdk.org (Postfix) with ESMTP id 2CA9A40150; Tue, 30 Sep 2025 12:09:22 +0200 (CEST) Received: from mail-il1-f226.google.com (mail-il1-f226.google.com [209.85.166.226]) by mails.dpdk.org (Postfix) with ESMTP id E748A400D7 for ; Tue, 30 Sep 2025 12:09:20 +0200 (CEST) Received: by mail-il1-f226.google.com with SMTP id e9e14a558f8ab-429a0630be3so23063475ab.1 for ; Tue, 30 Sep 2025 03:09:20 -0700 (PDT) DKIM-Signature: v=1; a=rsa-sha256; c=relaxed/relaxed; d=iol.unh.edu; s=unh-iol; t=1759226960; x=1759831760; darn=dpdk.org; h=references:in-reply-to:cc:to:from:subject:message-id:date:from:to :cc:subject:date:message-id:reply-to; bh=hxJX2v8d+7R58dVx89/5I9BbmcUwkqypbCqHGW/iwD4=; b=UHuHp16ThE8CgyPWL0z2mwj4bwNkeqwBIZPhJGTcl8u3SCJ6OCUdp9F5sSll7ohu/9 Gi4eqBstvC7vg7LNYehtqgaIpq9SWv9lYPUpy55dRAFqcI9pWRHUBlum2D4e6PSYBUlo O8IWMh9dQHsc8KZ9r7eV9fnAg+Ad6VuE6axKg= X-Google-DKIM-Signature: v=1; a=rsa-sha256; c=relaxed/relaxed; d=1e100.net; s=20230601; t=1759226960; x=1759831760; h=references:in-reply-to:cc:to:from:subject:message-id:date :x-gm-message-state:from:to:cc:subject:date:message-id:reply-to; bh=hxJX2v8d+7R58dVx89/5I9BbmcUwkqypbCqHGW/iwD4=; b=tcAFdHYnqcycpoAcZF5Saq4k5gONfVNKeiUBR8uaocxDDjXiD/No9wnMgOMIANzUzb LJFPiNBJfhHxUPLJYlr5utcaRR9J0EH3XccbvTvpenf7HX9LXWcXA7Oc+7arG3ybbk0B 59AiiFJa1haIUL9/lrdwlaBjTtDkE01+N/YCF9VWLQpPxwn7214xDc0DdnivMf5Pn2D3 5RvfJLmtE2JeQPWHGgZ/ZcxzvGNyRDg2DDazF2P83KiMJcAI6LI0Vi3nDJ0eUVp7IvGS AHHvxgfPIEQF1FAjEy+ljfnt8Uy/D70GJGFfEa4F+OYTu9HAtcZ3O5SrYf+WPQVFlasE 6VtA== X-Gm-Message-State: AOJu0YyID9V/klYwXxN1+JL4nQf1maCySwjUmKWKMx+uNNAR7QhSbbjL GbpFnNa2RzCEknc5vWlkbtwvDSHJlTYAPsnIXwrCVtnAkX/JrzPxCYcynVuNibTK1lQQN+VJbLK PdozurfRd5JqGmAxNwj3Snl8yMRwv9SOpuhtjViTNvRkI0gCUHJmcRRPCkIYL X-Gm-Gg: ASbGncuxYAPdQ3vkaPoxjntJWjvlmcU4LWIKI0QDH7eqhUAgHEzG1kCuZzx/99+9pBd cczE+boIVapjRE6tiVLq8bvPXiyj1bxNhVPvU8D76mxNBWX87+80Zuy/MoCsE+eKLfYyq5qRVF0 D/vQ/VMk2kCJ0LR2QX+QaXt/BO/xENyyC2H/dugdBE7AI/VizFSfchLiVlxwbF52ngxBsxQfoFk XdviGI4wHIAcFiso6eVw8d/AKsc16LXjTEvAL8cpbHly7j8EcdlUJnBys+v56f2Va9/Nf303Z4u Y8SJteXgAxhu9QskcI5PFVy8XhqLKAqV9ehzAdk3qssY/OT5G5VdahA= X-Google-Smtp-Source: AGHT+IGWsUtjGUaoZTrL+iDOgYv64T+h7siQ5gQyiJAoSPxbQur5Jqlt4PJYSQbdj430YgTwOX66Go6rCsN0 X-Received: by 2002:a05:6e02:2141:b0:429:46ef:de49 with SMTP id e9e14a558f8ab-42946efdfb8mr146209315ab.26.1759226960214; Tue, 30 Sep 2025 03:09:20 -0700 (PDT) Received: from postal.iol.unh.edu (postal.iol.unh.edu. [2606:4100:3880:1234::84]) by smtp-relay.gmail.com with ESMTPS id 8926c6da1cb9f-56a6a5afa4csm808247173.35.2025.09.30.03.09.20 (version=TLS1_2 cipher=ECDHE-ECDSA-AES128-GCM-SHA256 bits=128/128); Tue, 30 Sep 2025 03:09:20 -0700 (PDT) X-Relaying-Domain: iol.unh.edu Date: Tue, 30 Sep 2025 03:09:20 -0700 (PDT) Message-ID: <68dbac50.050a0220.387de0.fe36SMTPIN_ADDED_MISSING@mx.google.com> Received: from [172.21.0.2] (unknown [172.18.0.240]) by postal.iol.unh.edu (Postfix) with ESMTP id B574C60003E8; Tue, 30 Sep 2025 06:09:19 -0400 (EDT) Subject: |SUCCESS| pw157112-157113 [PATCH] [v4,2/2] net/idpf: enable AVX2 for From: dpdklab@iol.unh.edu To: Test Report Cc: dpdk-test-reports@iol.unh.edu, Bruce Richardson In-Reply-To: <20250930090709.2521114-3-shaiq.wani@intel.com> References: <20250930090709.2521114-3-shaiq.wani@intel.com> Content-Type: text/plain X-BeenThere: test-report@dpdk.org X-Mailman-Version: 2.1.29 Precedence: list List-Id: automatic DPDK test reports List-Unsubscribe: , List-Archive: List-Post: List-Help: List-Subscribe: , Errors-To: test-report-bounces@dpdk.org Test-Label: iol-unit-amd64-testing Test-Status: SUCCESS http://dpdk.org/patch/157113 _Testing PASS_ Submitter: Shaiq Wani Date: Tuesday, September 30 2025 09:07:09 DPDK git baseline: Repo:dpdk-next-net-intel Branch: master CommitID:9845e5848bbe337306fb6ae2a6b1ce5e6ab5b714 157112-157113 --> testing pass Upstream job id: Generic-VM-Unit-Test-DPDK#31488 Test environment and result as below: +-------------------------------+----------------+ | Environment | dpdk_unit_test | +===============================+================+ | Fedora Linux 40 | PASS | +-------------------------------+----------------+ | CentOS Stream 9 | PASS | +-------------------------------+----------------+ | CentOS Stream 10 | PASS | +-------------------------------+----------------+ | Debian GNU/Linux 12 | PASS | +-------------------------------+----------------+ | Fedora Linux 42 | PASS | +-------------------------------+----------------+ | Fedora Linux 41 | PASS | +-------------------------------+----------------+ | Red Hat Enterprise Linux 9.5 | PASS | +-------------------------------+----------------+ | Ubuntu 24.04 | PASS | +-------------------------------+----------------+ | Red Hat Enterprise Linux 8.10 | PASS | +-------------------------------+----------------+ | Ubuntu 20.04 | PASS | +-------------------------------+----------------+ | Ubuntu 22.04 | PASS | +-------------------------------+----------------+ | Windows Server 2022 | PASS | +-------------------------------+----------------+ Fedora Linux 40 Kernel: 5.15 Compiler: gcc gcc (GCC) 14.2.1 20240912 (Red Hat 14.2.1-3) CentOS Stream 9 Kernel: 5.15 Compiler: gcc gcc (GCC) 11.5.0 20240719 (Red Hat 11.5.0-11) CentOS Stream 10 Kernel: 5.15 Compiler: gcc gcc (GCC) 14.2.1 20250110 (Red Hat 14.2.1-8) Debian GNU/Linux 12 Kernel: 5.15 Compiler: gcc gcc (Debian 12.2.0-14+deb12u1) 12.2.0 Fedora Linux 42 Kernel: 5.15 Compiler: clang gcc (GCC) 15.2.1 20250808 (Red Hat 15.2.1-1) Fedora Linux 41 Kernel: 5.15 Compiler: clang gcc (GCC) 14.3.1 20250523 (Red Hat 14.3.1-1) Red Hat Enterprise Linux 9.5 Kernel: 5.15 Compiler: gcc gcc (GCC) 11.5.0 20240719 (Red Hat 11.5.0-2) Ubuntu 24.04 Kernel: 5.15 Compiler: gcc gcc (Ubuntu 13.3.0-6ubuntu2~24.04) 13.3.0 Red Hat Enterprise Linux 8.10 Kernel: 5.15 Compiler: gcc gcc (GCC) 8.5.0 20210514 (Red Hat 8.5.0-22) Ubuntu 20.04 Kernel: 5.15 Compiler: gcc gcc (Ubuntu 9.4.0-1ubuntu1~20.04.2) 9.4.0 Ubuntu 22.04 Kernel: 5.15 Compiler: gcc gcc (Ubuntu 11.4.0-1ubuntu1~22.04) 11.4.0 Windows Server 2022 Kernel: 10.0.20348.2031 Compiler: clang 15.0.7, gcc 14.1.0 (MinGW), and MSVC VS 19.39.33521 To view detailed results, visit: https://lab.dpdk.org/results/dashboard/patchsets/34179/ UNH-IOL DPDK Community Lab To manage your email subscriptions, visit: https://lab.dpdk.org/results/dashboard/preferences/subscriptions/