From mboxrd@z Thu Jan 1 00:00:00 1970 Return-Path: Received: from mails.dpdk.org (mails.dpdk.org [217.70.189.124]) by inbox.dpdk.org (Postfix) with ESMTP id 528D84886F for ; Tue, 30 Sep 2025 12:09:53 +0200 (CEST) Received: from mails.dpdk.org (localhost [127.0.0.1]) by mails.dpdk.org (Postfix) with ESMTP id 4E06E400D7; Tue, 30 Sep 2025 12:09:53 +0200 (CEST) Received: from mail-il1-f227.google.com (mail-il1-f227.google.com [209.85.166.227]) by mails.dpdk.org (Postfix) with ESMTP id 78D89400D7 for ; Tue, 30 Sep 2025 12:09:52 +0200 (CEST) Received: by mail-il1-f227.google.com with SMTP id e9e14a558f8ab-42593858280so24297765ab.1 for ; Tue, 30 Sep 2025 03:09:52 -0700 (PDT) DKIM-Signature: v=1; a=rsa-sha256; c=relaxed/relaxed; d=iol.unh.edu; s=unh-iol; t=1759226992; x=1759831792; darn=dpdk.org; h=references:in-reply-to:cc:to:from:subject:message-id:date:from:to :cc:subject:date:message-id:reply-to; bh=zV9vV9B0pdJlv1zNZcMHMQkUtIL5igiSUBe9aY+hXPk=; b=YVZuyRItzNdMqlfv8F910y7Li/aEZpF2JSTw1vS8YaCjmIwBxXlo+l3rHMB6EtQ9SA 5RRaOZFhgL3If3SM6aHVCz7m50Y4MMIUHYvCuGrRLSGbJYXeC08ylOos528FGPF674l8 MUbrDw59BqPudj1NXDng3Xsxs+zbqZVAWf+Ec= X-Google-DKIM-Signature: v=1; a=rsa-sha256; c=relaxed/relaxed; d=1e100.net; s=20230601; t=1759226992; x=1759831792; h=references:in-reply-to:cc:to:from:subject:message-id:date :x-gm-message-state:from:to:cc:subject:date:message-id:reply-to; bh=zV9vV9B0pdJlv1zNZcMHMQkUtIL5igiSUBe9aY+hXPk=; b=vY7di5qKj8zxc81CqClvoLAglq6YmpvvZIbwoOuVRa+areswdcA+HoDJqYv/Ap3kHJ CCb+3MHSTp2M3awdtlCd9UVJXMwjeUyKBcunxcGpjoeNs9diQC1ldIUBK5TeYAL4aTe6 pgloCybLoZ9rjKN13cKTfB1ZnEQddPBaqWtYasSShlU6nvKuUemDoCTjzxF5OuJN/3yA HbiqoOfvyt9mk4LY0jaDmpKfvmU59DkiipQ5mSdJY4P0ZlXocxvMEr8RVMBW5nMfDNpL 5R4t5NUZza6pa7uyr2AsP5XJ5C7S4aI7NFkB4hmDuzWWXqnp0Mfu4ka/cG8yVHBHBzJO i7tA== X-Gm-Message-State: AOJu0YxOnP7wb9Z1LFOH9IEfeVz7siAqh9iqwvXKbF9uppuEFRkKqqFj GWEp6IqRfsS+WET2HQv/KNXtDmewDZi3NuTwj39kVNJdi30Cs7mUEwPxmSdQmhkrTYvB1bPsOx7 YnNmdq4j53xwFS1A/VhtRcR2qr2ccP/l6ddRjjzbruYYDQbj/lIrPZ3XHIvqE X-Gm-Gg: ASbGnctgbS3tQ9SErbkghXzdDPWlZddzgrc3JvmamFBbZ7cGtu4i4PxCNy2hphoPeeG /bDk0Ed/Cg7nEwZ1pwLKw+QLm9oSpwGB7XC+0ouG7g9tSTK5qpb0K4Cpdj7JtM5rJi3qFy2jkL6 Gkz3wBlayY3SLwOeg7KO72fnCfZhIafXAlShYCQ+/J6Y+TuRwVKMG+1RyEk7HOZOS9HeMlvS9CI /nmk14+5ZK0Jval+JhodqNRGsL3dDia20ApoK26LLzXhmp6O7q/4cx9dYOh2gFcwg3z6onpf0o9 h828tcrbnUyNu7ih1i9AyzghI4XlROCOk0IoqLz+o9yi3vymteOE220= X-Google-Smtp-Source: AGHT+IEqeTLJdN6mrkIs3balnUie+nt2r2C5r/0w4UaGnntLmZcMP4YWRtowbMBxrTnXljnmjXE3IaXVCIzr X-Received: by 2002:a05:6e02:2588:b0:42a:dd1d:c3e4 with SMTP id e9e14a558f8ab-42add1dce71mr112019995ab.15.1759226991851; Tue, 30 Sep 2025 03:09:51 -0700 (PDT) Received: from postal.iol.unh.edu (postal.iol.unh.edu. [2606:4100:3880:1234::84]) by smtp-relay.gmail.com with ESMTPS id e9e14a558f8ab-42d7d121156sm556145ab.2.2025.09.30.03.09.51 (version=TLS1_2 cipher=ECDHE-ECDSA-AES128-GCM-SHA256 bits=128/128); Tue, 30 Sep 2025 03:09:51 -0700 (PDT) X-Relaying-Domain: iol.unh.edu Date: Tue, 30 Sep 2025 03:09:51 -0700 (PDT) Message-ID: <68dbac6f.050a0220.148b36.2ff7SMTPIN_ADDED_MISSING@mx.google.com> Received: from [172.21.0.2] (unknown [172.18.0.240]) by postal.iol.unh.edu (Postfix) with ESMTP id 67CF96051830; Tue, 30 Sep 2025 06:09:51 -0400 (EDT) Subject: |SUCCESS| pw157044-157046 [PATCH] [v6,3/3] dts: update tx_offload te From: dpdklab@iol.unh.edu To: Test Report Cc: dpdk-test-reports@iol.unh.edu In-Reply-To: <20250929172734.218467-4-abailey@iol.unh.edu> References: <20250929172734.218467-4-abailey@iol.unh.edu> Content-Type: text/plain X-BeenThere: test-report@dpdk.org X-Mailman-Version: 2.1.29 Precedence: list List-Id: automatic DPDK test reports List-Unsubscribe: , List-Archive: List-Post: List-Help: List-Subscribe: , Errors-To: test-report-bounces@dpdk.org Test-Label: iol-unit-arm64-testing Test-Status: SUCCESS http://dpdk.org/patch/157046 _Testing PASS_ Submitter: Andrew Bailey Date: Monday, September 29 2025 17:27:34 DPDK git baseline: Repo:dpdk-next-dts Branch: master CommitID:b71d7bdf2b663f9fedc1d344b81a8cf65518026c 157044-157046 --> testing pass Upstream job id: Generic-Unit-Test-DPDK#376368 Test environment and result as below: +------------------------------+--------------+---------------------------+------------------------------+----------------+ | Environment | lpm_autotest | cryptodev_sw_zuc_autotest | cryptodev_sw_snow3g_autotest | dpdk_unit_test | +==============================+==============+===========================+==============================+================+ | Ubuntu 20.04 | PASS | SKIPPED | SKIPPED | PASS | +------------------------------+--------------+---------------------------+------------------------------+----------------+ | Debian 12 (arm) | SKIPPED | PASS | PASS | SKIPPED | +------------------------------+--------------+---------------------------+------------------------------+----------------+ | Ubuntu 22.04 | SKIPPED | SKIPPED | SKIPPED | PASS | +------------------------------+--------------+---------------------------+------------------------------+----------------+ | CentOS Stream 9 | SKIPPED | SKIPPED | SKIPPED | PASS | +------------------------------+--------------+---------------------------+------------------------------+----------------+ | CentOS Stream 10 | SKIPPED | SKIPPED | SKIPPED | PASS | +------------------------------+--------------+---------------------------+------------------------------+----------------+ | Fedora Linux 40 | SKIPPED | SKIPPED | SKIPPED | PASS | +------------------------------+--------------+---------------------------+------------------------------+----------------+ | Debian GNU/Linux 12 | SKIPPED | SKIPPED | SKIPPED | PASS | +------------------------------+--------------+---------------------------+------------------------------+----------------+ | Fedora Linux 41 | SKIPPED | SKIPPED | SKIPPED | PASS | +------------------------------+--------------+---------------------------+------------------------------+----------------+ | Fedora Linux 42 | SKIPPED | SKIPPED | SKIPPED | PASS | +------------------------------+--------------+---------------------------+------------------------------+----------------+ | Ubuntu 24.04 | SKIPPED | SKIPPED | SKIPPED | PASS | +------------------------------+--------------+---------------------------+------------------------------+----------------+ | Red Hat Enterprise Linux 9.5 | SKIPPED | SKIPPED | SKIPPED | PASS | +------------------------------+--------------+---------------------------+------------------------------+----------------+ Ubuntu 20.04 Kernel: 5.4 Compiler: gcc gcc (Ubuntu 9.4.0-1ubuntu1~20.04.2) 9.4.0 Debian 12 (arm) Kernel: Depends on container host Compiler: gcc (Debian 12.2.0-14) 12.2.0 Ubuntu 22.04 Kernel: 5.15 Compiler: gcc gcc (Ubuntu 11.4.0-1ubuntu1~22.04.2) 11.4.0 CentOS Stream 9 Kernel: 5.4 Compiler: gcc gcc (GCC) 11.5.0 20240719 (Red Hat 11.5.0-11) CentOS Stream 10 Kernel: 5.4 Compiler: gcc gcc (GCC) 14.2.1 20250110 (Red Hat 14.2.1-8) Fedora Linux 40 Kernel: 5.4 Compiler: gcc gcc (GCC) 14.2.1 20240912 (Red Hat 14.2.1-3) Debian GNU/Linux 12 Kernel: 5.4 Compiler: gcc gcc (Debian 12.2.0-14+deb12u1) 12.2.0 Fedora Linux 41 Kernel: 5.4 Compiler: clang gcc (GCC) 14.3.1 20250523 (Red Hat 14.3.1-1) Fedora Linux 42 Kernel: 5.4 Compiler: gcc gcc (GCC) 15.2.1 20250808 (Red Hat 15.2.1-1) Ubuntu 24.04 Kernel: 5.4 Compiler: gcc gcc (Ubuntu 13.3.0-6ubuntu2~24.04) 13.3.0 Red Hat Enterprise Linux 9.5 Kernel: 5.4 Compiler: gcc gcc (GCC) 11.5.0 20240719 (Red Hat 11.5.0-2) To view detailed results, visit: https://lab.dpdk.org/results/dashboard/patchsets/34174/ UNH-IOL DPDK Community Lab To manage your email subscriptions, visit: https://lab.dpdk.org/results/dashboard/preferences/subscriptions/