From mboxrd@z Thu Jan 1 00:00:00 1970 Return-Path: Received: from mails.dpdk.org (mails.dpdk.org [217.70.189.124]) by inbox.dpdk.org (Postfix) with ESMTP id CAA7C4886F for ; Tue, 30 Sep 2025 12:14:11 +0200 (CEST) Received: from mails.dpdk.org (localhost [127.0.0.1]) by mails.dpdk.org (Postfix) with ESMTP id C672C400D7; Tue, 30 Sep 2025 12:14:11 +0200 (CEST) Received: from mail-pj1-f99.google.com (mail-pj1-f99.google.com [209.85.216.99]) by mails.dpdk.org (Postfix) with ESMTP id 22782400D7 for ; Tue, 30 Sep 2025 12:14:11 +0200 (CEST) Received: by mail-pj1-f99.google.com with SMTP id 98e67ed59e1d1-3306d93e562so6070330a91.1 for ; Tue, 30 Sep 2025 03:14:11 -0700 (PDT) DKIM-Signature: v=1; a=rsa-sha256; c=relaxed/relaxed; d=iol.unh.edu; s=unh-iol; t=1759227250; x=1759832050; darn=dpdk.org; h=references:in-reply-to:cc:to:from:subject:message-id:date:from:to :cc:subject:date:message-id:reply-to; bh=I2OXrrvmsgei8yLPl3Pyc27EZzvNef5DWvVlfS6boUM=; b=VIe7HB7yRi2mLytsjCIWEBFo5sSYfsBAp561e+z7+lmcyhHANk4kjTcz+SE17L1dyV Zxi6l9vm7U72XEl7si9WIx3wZUQvN5r3tO+/BNRLjLUGHvTdMWQ3bH4j6yVrtsBQ+nte gWvcmyKpYGzkpPrlUUFSi8HEQOOzLl/f+Catk= X-Google-DKIM-Signature: v=1; a=rsa-sha256; c=relaxed/relaxed; d=1e100.net; s=20230601; t=1759227250; x=1759832050; h=references:in-reply-to:cc:to:from:subject:message-id:date :x-gm-message-state:from:to:cc:subject:date:message-id:reply-to; bh=I2OXrrvmsgei8yLPl3Pyc27EZzvNef5DWvVlfS6boUM=; b=R2MgL6z72soiBnbcY56YkHoM78nnRbthJ1Lwz6/mXagE7WqgQJ8gApT12mcyhUp6gd GiQjh6i7orc9bHm+mKhrAbx5QX1mHX26PqnkiksSHbffb3g3ijU2z+IdczqeMy221hoN 0FbaXShq6T/KFaMGogW6imBWJqmE5tkYPoNVI7ugvSrgXK6TM9yOZJak6qCFDxSpBVNI eJ3eLaUROBxCw1uvB7rfWbVx6sfe8RcTeSBJ9UPmL2vIJgC4LN1HcPmO8dRx2jSQvqPf 7nwExOZ4vXjYcuJtB+GmSU22P8yYDxpOkvUJDfl+bEWyKwMBozQ4cSsY8LUIdULhqY95 GrfQ== X-Gm-Message-State: AOJu0YxcGovnEj+OlfoSD5087XVwvIe5t416uHaTW5pg5W8dAm7zpVgE YeKPcACg0C778xH1LYaJfzh1fm4Co5/oq9hp+6LoSHhzIeP5/L4g3qzpARapQrOaL4KfZ4tDGS+ 5jCO3HFl5J59bGVS9Mp8IodnygkoyCIaGO/7jnGpqBYtzuSTm8SY4ChsgbYJI X-Gm-Gg: ASbGnctniCzmtl4GmcCKMQpgRBPxWrxDVrezX8SKS8Jk3cj7S3KMEMFvUTJnc6eRxnW X09gRsuGSQg6mxzn2PJ0sNT0H9nyq2hLpIDDpfCsZijbBYhe7pCGpdAu/KOEW67E5UF8xikDotY TknHBZbw047VshJ7npS9WeMopgCZ8Ji/aQylIE2COJqL16KARuS6b5LDltoKBPcyiZ/Xrw/HOyQ 2eTmGqNlSKRDZdU9rggBtSfCmqu3cSvmC9o0RDx2PfLKVL1+yIPtdbi1jQDdITsbKosrX/y3rgy xP0xT6rHEBMXg8MA422s2D8LJiM5bJE+dyAABO3btjaflhUW+0gvlYU= X-Google-Smtp-Source: AGHT+IEz2CAVO2aY57VXdvUv7cMiu3X/cTA/hMpuOSErB6gyWgxC0idEeeqLnVdEAjrK6BYSCO9OOVDx+mM9 X-Received: by 2002:a17:90b:33c7:b0:32e:753d:76da with SMTP id 98e67ed59e1d1-3342a2abad6mr21670362a91.20.1759227250264; Tue, 30 Sep 2025 03:14:10 -0700 (PDT) Received: from postal.iol.unh.edu (postal.iol.unh.edu. [2606:4100:3880:1234::84]) by smtp-relay.gmail.com with ESMTPS id 41be03b00d2f7-b57c53c1a74sm750652a12.2.2025.09.30.03.14.10 (version=TLS1_2 cipher=ECDHE-ECDSA-AES128-GCM-SHA256 bits=128/128); Tue, 30 Sep 2025 03:14:10 -0700 (PDT) X-Relaying-Domain: iol.unh.edu Date: Tue, 30 Sep 2025 03:14:10 -0700 (PDT) Message-ID: <68dbad72.050a0220.2dc7c0.e8c9SMTPIN_ADDED_MISSING@mx.google.com> Received: from [172.21.0.2] (unknown [172.18.0.240]) by postal.iol.unh.edu (Postfix) with ESMTP id 7F7CB6051830; Tue, 30 Sep 2025 06:14:09 -0400 (EDT) Subject: |SUCCESS| pw157112-157113 [PATCH] [v4,2/2] net/idpf: enable AVX2 for From: dpdklab@iol.unh.edu To: Test Report Cc: dpdk-test-reports@iol.unh.edu, Bruce Richardson In-Reply-To: <20250930090709.2521114-3-shaiq.wani@intel.com> References: <20250930090709.2521114-3-shaiq.wani@intel.com> Content-Type: text/plain X-BeenThere: test-report@dpdk.org X-Mailman-Version: 2.1.29 Precedence: list List-Id: automatic DPDK test reports List-Unsubscribe: , List-Archive: List-Post: List-Help: List-Subscribe: , Errors-To: test-report-bounces@dpdk.org Test-Label: iol-compile-amd64-testing Test-Status: SUCCESS http://dpdk.org/patch/157113 _Testing PASS_ Submitter: Shaiq Wani Date: Tuesday, September 30 2025 09:07:09 DPDK git baseline: Repo:dpdk-next-net-intel Branch: master CommitID:9845e5848bbe337306fb6ae2a6b1ce5e6ab5b714 157112-157113 --> testing pass Upstream job id: Windows-Compile-DPDK-Native#31320 Test environment and result as below: +---------------------+--------------------+-------------------+-------------------------+----------------------+ | Environment | dpdk_meson_compile | dpdk_msvc_compile | dpdk_llvm_clang_compile | dpdk_mingw64_compile | +=====================+====================+===================+=========================+======================+ | FreeBSD 14.2 | PASS | SKIPPED | SKIPPED | SKIPPED | +---------------------+--------------------+-------------------+-------------------------+----------------------+ | Ubuntu 20.04 | PASS | SKIPPED | SKIPPED | SKIPPED | +---------------------+--------------------+-------------------+-------------------------+----------------------+ | Windows Server 2022 | SKIPPED | PASS | PASS | PASS | +---------------------+--------------------+-------------------+-------------------------+----------------------+ FreeBSD 14.2 Kernel: 14.2-RELEASE Compiler: clang 18.1.6 Ubuntu 20.04 Kernel: 4.19 Compiler: gcc gcc (Ubuntu 9.4.0-1ubuntu1~20.04.2) 9.4.0 Windows Server 2022 Kernel: 10.0.20348.2031 Compiler: clang 15.0.7, gcc 14.1.0 (MinGW), and MSVC VS 19.39.33521 To view detailed results, visit: https://lab.dpdk.org/results/dashboard/patchsets/34179/ UNH-IOL DPDK Community Lab To manage your email subscriptions, visit: https://lab.dpdk.org/results/dashboard/preferences/subscriptions/