From mboxrd@z Thu Jan 1 00:00:00 1970 Return-Path: Received: from mails.dpdk.org (mails.dpdk.org [217.70.189.124]) by inbox.dpdk.org (Postfix) with ESMTP id D65A74886F for ; Tue, 30 Sep 2025 12:14:18 +0200 (CEST) Received: from mails.dpdk.org (localhost [127.0.0.1]) by mails.dpdk.org (Postfix) with ESMTP id D1614400D7; Tue, 30 Sep 2025 12:14:18 +0200 (CEST) Received: from mail-il1-f227.google.com (mail-il1-f227.google.com [209.85.166.227]) by mails.dpdk.org (Postfix) with ESMTP id 81C6F400D7 for ; Tue, 30 Sep 2025 12:14:17 +0200 (CEST) Received: by mail-il1-f227.google.com with SMTP id e9e14a558f8ab-4248a13fbe9so30705555ab.1 for ; Tue, 30 Sep 2025 03:14:17 -0700 (PDT) DKIM-Signature: v=1; a=rsa-sha256; c=relaxed/relaxed; d=iol.unh.edu; s=unh-iol; t=1759227257; x=1759832057; darn=dpdk.org; h=references:in-reply-to:cc:to:from:subject:message-id:date:from:to :cc:subject:date:message-id:reply-to; bh=Vqs9Z7dFEVl8lN+ePT/rRXJaTsQGQCrymt9tcCds+DI=; b=gAyZwbwtrzU8bGLUhvRai+2Vb4CnFGOJSbeAwhFSbGl5txLliQ4toDwv5VYp7htdsl ntHw1lj8vxNcWokVpMbXHmJWhhrcuwNiooWp7Bx7B7M1iyC112TMi6l/msO/+QvH1Hns naRwVQr1Z/VhpXGJEqxsKSkXRMKdapA54noTM= X-Google-DKIM-Signature: v=1; a=rsa-sha256; c=relaxed/relaxed; d=1e100.net; s=20230601; t=1759227257; x=1759832057; h=references:in-reply-to:cc:to:from:subject:message-id:date :x-gm-message-state:from:to:cc:subject:date:message-id:reply-to; bh=Vqs9Z7dFEVl8lN+ePT/rRXJaTsQGQCrymt9tcCds+DI=; b=Uikv81xpnsEM36uzyE6S3LDx3KA90OGX7pHgErAzg2NPt8zt2rFv8Wr508JTzhPm3b 4hKmA+0+K63ey2ffiLK7G+6GCCxaMmqigxh9jWgQr9zjWD6LVxxrxbeeMiD1jisxc3eF K39e+YvF3URV/I3KxZ2yyj7/Ja1TzuePFl/XE3nZbAbn7Sy/qmvlZEWexD6CIlttxhR8 NF6Y1v2UJHtqqghlXuRefRn7F11MA4G1ydhto5kVw2yFR32LyadSp6OB8hSgj63bwtyq JuS7wD2VVQ3gDwmVNFRiE+/aWEXC76ZUvNi1dGxO61YlQGDiiCjcsmbeo7p2KgtyP2y0 E5IQ== X-Gm-Message-State: AOJu0YxJLT6pcC84gPEs7Q4WwPH7Hzpxo0HhSRQctd0/Md+A1W6MyOzt lXGa2U8b/8yB+nQDvtBE5PtsuRD91eXiUIYSWd89idl2g126HWtS1xmHlTBBx/WDqyjMTSFyn89 F61a92FcknXA41DKAKuxohXN5+WFWfcB1iEED46QHxOKyhKnGswDY7AwVAbJV X-Gm-Gg: ASbGncuL+bh2D8dl9wKOEMf80H6xb63mw1/+BF8Ob5bhXwBK4dcmjzwyx1a46IAj+NA YYcp5rMbeCfXYiUs0S0g5gF509fPpe4mO3AJhG/4koswmq19zEe9Kmp/TiBuouEKCq5q6sAk0ma LM6iKYyY+vqZZ72Uo+CgW8FLIl7MqJS1A/ZOCoFSNo02/e8FuCUzu04fULhh0NyZTm25I+pGpDU /5UEZijijclJIUYUU9T/nJgxnwYnRV50ehxR4ymhM5keX7aR2KffNB3n9gaPt9HDyxshXCItpdm 6vwjQgYaUtU04DvHfulzNTIhk1eA5Wo7C3TdlZhRpDZ9LBiKBhgp6RA= X-Google-Smtp-Source: AGHT+IE6n2UiE+RCD2XqGd/NJtyxerIM9A5Ji5Vvg+CCNa/Pu2MyrA0RypjMoCEOyc7fEfV0/XscHWb222sY X-Received: by 2002:a05:6e02:b26:b0:426:3ab1:74b4 with SMTP id e9e14a558f8ab-4263ab179ecmr227255205ab.19.1759227256808; Tue, 30 Sep 2025 03:14:16 -0700 (PDT) Received: from postal.iol.unh.edu (postal.iol.unh.edu. [2606:4100:3880:1234::84]) by smtp-relay.gmail.com with ESMTPS id e9e14a558f8ab-425bb9d90a0sm9914915ab.1.2025.09.30.03.14.16 (version=TLS1_2 cipher=ECDHE-ECDSA-AES128-GCM-SHA256 bits=128/128); Tue, 30 Sep 2025 03:14:16 -0700 (PDT) X-Relaying-Domain: iol.unh.edu Date: Tue, 30 Sep 2025 03:14:16 -0700 (PDT) Message-ID: <68dbad78.050a0220.1f3db9.ae21SMTPIN_ADDED_MISSING@mx.google.com> Received: from [172.21.0.2] (unknown [172.18.0.240]) by postal.iol.unh.edu (Postfix) with ESMTP id 4A7C56051830; Tue, 30 Sep 2025 06:14:16 -0400 (EDT) Subject: |SUCCESS| pw157112-157113 [PATCH] [v4,2/2] net/idpf: enable AVX2 for From: dpdklab@iol.unh.edu To: Test Report Cc: dpdk-test-reports@iol.unh.edu, Bruce Richardson In-Reply-To: <20250930090709.2521114-3-shaiq.wani@intel.com> References: <20250930090709.2521114-3-shaiq.wani@intel.com> Content-Type: text/plain X-BeenThere: test-report@dpdk.org X-Mailman-Version: 2.1.29 Precedence: list List-Id: automatic DPDK test reports List-Unsubscribe: , List-Archive: List-Post: List-Help: List-Subscribe: , Errors-To: test-report-bounces@dpdk.org Test-Label: iol-unit-amd64-testing Test-Status: SUCCESS http://dpdk.org/patch/157113 _Testing PASS_ Submitter: Shaiq Wani Date: Tuesday, September 30 2025 09:07:09 DPDK git baseline: Repo:dpdk-next-net-intel Branch: master CommitID:9845e5848bbe337306fb6ae2a6b1ce5e6ab5b714 157112-157113 --> testing pass Upstream job id: Generic-VM-Unit-Test-DPDK#31489 Test environment and result as below: +-------------------------------+----------------+ | Environment | dpdk_unit_test | +===============================+================+ | Fedora Linux 40 | PASS | +-------------------------------+----------------+ | CentOS Stream 9 | PASS | +-------------------------------+----------------+ | CentOS Stream 10 | PASS | +-------------------------------+----------------+ | Debian GNU/Linux 12 | PASS | +-------------------------------+----------------+ | Fedora Linux 42 | PASS | +-------------------------------+----------------+ | Fedora Linux 41 | PASS | +-------------------------------+----------------+ | Red Hat Enterprise Linux 9.5 | PASS | +-------------------------------+----------------+ | Ubuntu 24.04 | PASS | +-------------------------------+----------------+ | Red Hat Enterprise Linux 8.10 | PASS | +-------------------------------+----------------+ | Ubuntu 20.04 | PASS | +-------------------------------+----------------+ | Ubuntu 22.04 | PASS | +-------------------------------+----------------+ | Windows Server 2022 | PASS | +-------------------------------+----------------+ Fedora Linux 40 Kernel: 5.15 Compiler: gcc gcc (GCC) 14.2.1 20240912 (Red Hat 14.2.1-3) CentOS Stream 9 Kernel: 5.15 Compiler: gcc gcc (GCC) 11.5.0 20240719 (Red Hat 11.5.0-11) CentOS Stream 10 Kernel: 5.15 Compiler: gcc gcc (GCC) 14.2.1 20250110 (Red Hat 14.2.1-8) Debian GNU/Linux 12 Kernel: 5.15 Compiler: gcc gcc (Debian 12.2.0-14+deb12u1) 12.2.0 Fedora Linux 42 Kernel: 5.15 Compiler: clang gcc (GCC) 15.2.1 20250808 (Red Hat 15.2.1-1) Fedora Linux 41 Kernel: 5.15 Compiler: clang gcc (GCC) 14.3.1 20250523 (Red Hat 14.3.1-1) Red Hat Enterprise Linux 9.5 Kernel: 5.15 Compiler: gcc gcc (GCC) 11.5.0 20240719 (Red Hat 11.5.0-2) Ubuntu 24.04 Kernel: 5.15 Compiler: gcc gcc (Ubuntu 13.3.0-6ubuntu2~24.04) 13.3.0 Red Hat Enterprise Linux 8.10 Kernel: 5.15 Compiler: gcc gcc (GCC) 8.5.0 20210514 (Red Hat 8.5.0-22) Ubuntu 20.04 Kernel: 5.15 Compiler: gcc gcc (Ubuntu 9.4.0-1ubuntu1~20.04.2) 9.4.0 Ubuntu 22.04 Kernel: 5.15 Compiler: gcc gcc (Ubuntu 11.4.0-1ubuntu1~22.04) 11.4.0 Windows Server 2022 Kernel: 10.0.20348.2031 Compiler: clang 15.0.7, gcc 14.1.0 (MinGW), and MSVC VS 19.39.33521 To view detailed results, visit: https://lab.dpdk.org/results/dashboard/patchsets/34179/ UNH-IOL DPDK Community Lab To manage your email subscriptions, visit: https://lab.dpdk.org/results/dashboard/preferences/subscriptions/