From mboxrd@z Thu Jan 1 00:00:00 1970 Return-Path: Received: from mails.dpdk.org (mails.dpdk.org [217.70.189.124]) by inbox.dpdk.org (Postfix) with ESMTP id D2BDE4886F for ; Tue, 30 Sep 2025 12:41:22 +0200 (CEST) Received: from mails.dpdk.org (localhost [127.0.0.1]) by mails.dpdk.org (Postfix) with ESMTP id CDDA1400D7; Tue, 30 Sep 2025 12:41:22 +0200 (CEST) Received: from mail-io1-f97.google.com (mail-io1-f97.google.com [209.85.166.97]) by mails.dpdk.org (Postfix) with ESMTP id 41090400D7 for ; Tue, 30 Sep 2025 12:41:21 +0200 (CEST) Received: by mail-io1-f97.google.com with SMTP id ca18e2360f4ac-930cfdfabb3so53660439f.1 for ; Tue, 30 Sep 2025 03:41:21 -0700 (PDT) DKIM-Signature: v=1; a=rsa-sha256; c=relaxed/relaxed; d=iol.unh.edu; s=unh-iol; t=1759228880; x=1759833680; darn=dpdk.org; h=references:in-reply-to:cc:to:from:subject:message-id:date:from:to :cc:subject:date:message-id:reply-to; bh=TTldHJHE5o/LkR1xCa9hJSyhsO6dh/Skjck5RTKmCXI=; b=D0zzYsiRHPrJot/yrTGf6dmBIJxEZdC1dioFCwGzViYZJGdm/XTECbM+Cd4v43iDhL 05S+zuS636Um9mz1yi/0amVzBWffIbYbap7iHi51aNRknYfXSKXiQKD2nHCTy2UNZaIo wSFskQJp8sc3E761gatEELDU27uWUEQ1ecUdA= X-Google-DKIM-Signature: v=1; a=rsa-sha256; c=relaxed/relaxed; d=1e100.net; s=20230601; t=1759228880; x=1759833680; h=references:in-reply-to:cc:to:from:subject:message-id:date :x-gm-message-state:from:to:cc:subject:date:message-id:reply-to; bh=TTldHJHE5o/LkR1xCa9hJSyhsO6dh/Skjck5RTKmCXI=; b=S4DvB/8TF9NykA6uiisLqwLZGON4chw/RocVi7NkOhFfqrV2dsPymDsDJc3N7BU1Kv PPAlI0tjOato1A82tL3GUUdNufAkXgNgSlzWC286CoXK8bJ1+6E43znCjxXBi1nXxhBH VOnKHW3eKEaqs62XTeil7W/aewrJ1B5q/tOBSowwjHoYWDu5Cg4W/wxTskE14+2M4Yjd XJlc7I8meNwoShWi+zyrLeJOHPeNLkf0sjJTNJdbjN2We+mTiWCqjrbQaGpbbiIlGsbs eV7tMKXO/Y5ctt8F/+MG3mTCz/dfpjH/RX90ToG98/H7gdktAzqV6/BLu8Ai29cUVFKv 6D6w== X-Gm-Message-State: AOJu0YyivvbQgMaMmBKZM2jW04bpLP6KGvWlZ/y0e8PwSPqqq7HkAuyq 1D2a0qBVU2ck+abhZx5i7YOmxaXJRYAfuciyE6O9aBVaHndR4R+hvG4Iy25PVTk0RqpdgtSHxkx B7kKiOhGFR3dDg0+2Vjp3crWWCSMMUCD6Pk3BvlQdtNs3 X-Gm-Gg: ASbGnctC4toGvOgsUHk8c0ukZROsQ/T0Ff+jCC0hx7JR/FfOksE8aBJs+RmtfsOj/j1 x2rrdWzoqFRXvp6V6yS8oUQSbyyMsPkVyGE2OwGihOL++7n+5ZgRodPq2bTEZym6Uehs5EiTQvp vRoR9f4senZZ50R96P4CZUzCBAxQ6HIR6785qj0oocheIt/dswqJz4+eUawXtoHHu8gBDZ4iAkq 1hiirpgNBLXL2vfsywqPM/kYGxRT4CxtNok1MI9kZ6TXEKnBiRUmRyh6CR1JmPeZ1e/3ASvQfr+ 7SRIONCYkiKrMHG8eSRGDo4DXYXPHtwazf04TEwKGAaSaUTpb/G+qiNvYwPYejTitGbZdn3wGMO g4w== X-Google-Smtp-Source: AGHT+IGmQIXbKbvXSIMuchPsGO86N6onIQ3Q88W+v94zRfvgrlmJ6utvo3BG/shabLrI8QJc2TYJzpbsJI2C X-Received: by 2002:a05:6e02:1fe5:b0:425:86d9:91ea with SMTP id e9e14a558f8ab-42d103977b1mr60386585ab.11.1759228880553; Tue, 30 Sep 2025 03:41:20 -0700 (PDT) Received: from postal.iol.unh.edu (postal.iol.unh.edu. [132.177.123.84]) by smtp-relay.gmail.com with ESMTPS id 8926c6da1cb9f-56a64cae5easm844749173.11.2025.09.30.03.41.20 (version=TLS1_2 cipher=ECDHE-ECDSA-AES128-GCM-SHA256 bits=128/128); Tue, 30 Sep 2025 03:41:20 -0700 (PDT) X-Relaying-Domain: iol.unh.edu Date: Tue, 30 Sep 2025 03:41:20 -0700 (PDT) Message-ID: <68dbb3d0.050a0220.376da7.299dSMTPIN_ADDED_MISSING@mx.google.com> Received: from [172.21.0.3] (unknown [172.18.0.240]) by postal.iol.unh.edu (Postfix) with ESMTP id 21D116051830; Tue, 30 Sep 2025 06:41:20 -0400 (EDT) Subject: |SUCCESS| pw157047-157055 [PATCH] [v6,9/9] power: separate public an From: dpdklab@iol.unh.edu To: Test Report Cc: dpdk-test-reports@iol.unh.edu In-Reply-To: <20250930065740.1838899-10-david.marchand@redhat.com> References: <20250930065740.1838899-10-david.marchand@redhat.com> Content-Type: text/plain X-BeenThere: test-report@dpdk.org X-Mailman-Version: 2.1.29 Precedence: list List-Id: automatic DPDK test reports List-Unsubscribe: , List-Archive: List-Post: List-Help: List-Subscribe: , Errors-To: test-report-bounces@dpdk.org Test-Label: iol-compile-amd64-testing Test-Status: SUCCESS http://dpdk.org/patch/157055 _Testing PASS_ Submitter: David Marchand Date: Tuesday, September 30 2025 06:57:39 DPDK git baseline: Repo:dpdk Branch: master CommitID:1d627ea13aeec2bcccf27246e6be2508370d171e 157047-157055 --> testing pass Upstream job id: Generic-DPDK-Compile-Meson#429935 Test environment and result as below: +-------------------------------+-------------------------+--------------------+-------------------+----------------------+-------------------+------------------+ | Environment | dpdk_llvm_clang_compile | dpdk_meson_compile | dpdk_msvc_compile | dpdk_mingw64_compile | dpdk_compile_spdk | dpdk_compile_ovs | +===============================+=========================+====================+===================+======================+===================+==================+ | Windows Server 2022 | PASS | SKIPPED | PASS | PASS | SKIPPED | SKIPPED | +-------------------------------+-------------------------+--------------------+-------------------+----------------------+-------------------+------------------+ | Ubuntu 20.04 | SKIPPED | PASS | SKIPPED | SKIPPED | SKIPPED | SKIPPED | +-------------------------------+-------------------------+--------------------+-------------------+----------------------+-------------------+------------------+ | FreeBSD 14.2 | SKIPPED | PASS | SKIPPED | SKIPPED | SKIPPED | SKIPPED | +-------------------------------+-------------------------+--------------------+-------------------+----------------------+-------------------+------------------+ | CentOS Stream 9 | SKIPPED | PASS | SKIPPED | SKIPPED | PASS | SKIPPED | +-------------------------------+-------------------------+--------------------+-------------------+----------------------+-------------------+------------------+ | CentOS Stream 10 | SKIPPED | PASS | SKIPPED | SKIPPED | SKIPPED | SKIPPED | +-------------------------------+-------------------------+--------------------+-------------------+----------------------+-------------------+------------------+ | Debian GNU/Linux 12 | SKIPPED | PASS | SKIPPED | SKIPPED | PASS | SKIPPED | +-------------------------------+-------------------------+--------------------+-------------------+----------------------+-------------------+------------------+ | Fedora Linux 42 | SKIPPED | PASS | SKIPPED | SKIPPED | PASS | PASS | +-------------------------------+-------------------------+--------------------+-------------------+----------------------+-------------------+------------------+ | openSUSE Leap 15.6 | SKIPPED | PASS | SKIPPED | SKIPPED | SKIPPED | SKIPPED | +-------------------------------+-------------------------+--------------------+-------------------+----------------------+-------------------+------------------+ | Red Hat Enterprise Linux 8.10 | SKIPPED | PASS | SKIPPED | SKIPPED | SKIPPED | SKIPPED | +-------------------------------+-------------------------+--------------------+-------------------+----------------------+-------------------+------------------+ Windows Server 2022 Kernel: 10.0.20348.2031 Compiler: clang 15.0.7, gcc 14.1.0 (MinGW), and MSVC VS 19.39.33521 Ubuntu 20.04 Kernel: 4.19 Compiler: gcc gcc (Ubuntu 9.4.0-1ubuntu1~20.04.2) 9.4.0 FreeBSD 14.2 Kernel: 14.2-RELEASE Compiler: clang 18.1.6 CentOS Stream 9 Kernel: 5.15 Compiler: gcc gcc (GCC) 11.5.0 20240719 (Red Hat 11.5.0-11) CentOS Stream 10 Kernel: 5.15 Compiler: gcc gcc (GCC) 14.2.1 20250110 (Red Hat 14.2.1-8) Debian GNU/Linux 12 Kernel: 5.15 Compiler: gcc gcc (Debian 12.2.0-14+deb12u1) 12.2.0 Fedora Linux 42 Kernel: 5.15 Compiler: clang gcc (GCC) 15.2.1 20250808 (Red Hat 15.2.1-1) openSUSE Leap 15.6 Kernel: 5.15 Compiler: gcc gcc (SUSE Linux) 7.5.0 Red Hat Enterprise Linux 8.10 Kernel: 5.15 Compiler: gcc gcc (GCC) 8.5.0 20210514 (Red Hat 8.5.0-22) To view detailed results, visit: https://lab.dpdk.org/results/dashboard/patchsets/34175/ UNH-IOL DPDK Community Lab To manage your email subscriptions, visit: https://lab.dpdk.org/results/dashboard/preferences/subscriptions/