From mboxrd@z Thu Jan 1 00:00:00 1970 Return-Path: Received: from mails.dpdk.org (mails.dpdk.org [217.70.189.124]) by inbox.dpdk.org (Postfix) with ESMTP id 552854886F for ; Tue, 30 Sep 2025 12:44:42 +0200 (CEST) Received: from mails.dpdk.org (localhost [127.0.0.1]) by mails.dpdk.org (Postfix) with ESMTP id 508A2400D7; Tue, 30 Sep 2025 12:44:42 +0200 (CEST) Received: from mail-il1-f225.google.com (mail-il1-f225.google.com [209.85.166.225]) by mails.dpdk.org (Postfix) with ESMTP id A2DEF400D7 for ; Tue, 30 Sep 2025 12:44:41 +0200 (CEST) Received: by mail-il1-f225.google.com with SMTP id e9e14a558f8ab-427e5121313so19633975ab.0 for ; Tue, 30 Sep 2025 03:44:41 -0700 (PDT) DKIM-Signature: v=1; a=rsa-sha256; c=relaxed/relaxed; d=iol.unh.edu; s=unh-iol; t=1759229081; x=1759833881; darn=dpdk.org; h=references:in-reply-to:cc:to:from:subject:message-id:date:from:to :cc:subject:date:message-id:reply-to; bh=q4ltj9TyiuU0Yp6+j6FPZpOFa7u7l5LIB+e7oN5Y+x8=; b=VzjIj5KON1CZXGVKZjzDSG1HPBLeFuffIfCZriy//Qb/8iPpGK9GFC/lJyZutFtfEE HT+JmZr/WyKvaqAAeBBSJSxrSw2rUsl5n12VBGYxu9Gq+tnckggXT7MkiCJv0Abx7pL0 T3FonnyY9gmNZkmML2N0kx8VXu+NdnKaAhH2Y= X-Google-DKIM-Signature: v=1; a=rsa-sha256; c=relaxed/relaxed; d=1e100.net; s=20230601; t=1759229081; x=1759833881; h=references:in-reply-to:cc:to:from:subject:message-id:date :x-gm-message-state:from:to:cc:subject:date:message-id:reply-to; bh=q4ltj9TyiuU0Yp6+j6FPZpOFa7u7l5LIB+e7oN5Y+x8=; b=PfgnpGudioAwOVfogWgm5PYufr48re7A44MhsyNfo9l83X+tINYZAzLO831P21eeWK mVBHE83xziiKBrT6bb4zzcl2nxFyTlms9gX6MTCvHKT1EpByV6vJLTCTgHI4OtJqukbl Xgr0SwL+pAxPjEPa0qIaZfNfRfuJiQ+y5D+mJeBGZO6nao6Ny9kCbc0D5wtx45qDReNs PpVG115l8YzO+8MAhfv7czFKErkQ/eK6pICJlVtx8AtLp/hFY922va/qKFRjy8xiEPOF lJXGUGbco9c2LfjqnOIv+L1Wr884ZVgr0DyCdLV3c8+cvC6k7AMXT6mZ8Bg28Ln5OWi1 LelA== X-Gm-Message-State: AOJu0Yy7P9OopZF6X5e68TwAMO/73q4BwD2KtlWZM2/uqqekejPkvzRn gBTwugoMe+7RCIwP/O5j3kjLGesF8JKy5kbdlpf1371B8StgkU5DeRtlSCYSDPAGZIKEP/zW7Vn P7/Adz8jPZUXGYZHXffP2a2V226L5jCvd5KAFce+XarmhVSqERehYN0D6JhxA X-Gm-Gg: ASbGncuhW833m8lrKYClQ6LtpGLnVswT9opyWh/ia1rlPAgQKrSoOHL8Bn4eI87pNqJ f4sRSc6/2Lrtm1nQlEGpIS9+3y20K7WGN1FVhkY+0C2oAQcCD6pg6Cd5KL8+n+jK1kpRGqE19wc i2bFc0QIp0UHhZ8stIYhYacj4HB7vktWRiLKlqx56ERffOZWNwxB06Lev4oMaFgAjnkuRWdPbp5 fdPp1yIL5Y5EBdyKHiP2RlVRr5RfelFNtPQUddhvl2fm4WLkGB4F4ewcH/KIe4v9wA7s8/8Tu5G nWMI0zqXflo5w1BTdLsNvuxXw7HPI+KCw/wc4knriK+prMpniinHyWQ= X-Google-Smtp-Source: AGHT+IG1NIbxFZ8EuaOyHAUqegX9JpYqgI9PkzyLrvliUD+mIV4TVlpiiAkVV6ZH5PKm3IwIGBjgttlMEUfz X-Received: by 2002:a05:6e02:4514:b0:425:7526:7f56 with SMTP id e9e14a558f8ab-425955d0ae3mr249769515ab.5.1759229080955; Tue, 30 Sep 2025 03:44:40 -0700 (PDT) Received: from postal.iol.unh.edu (postal.iol.unh.edu. [2606:4100:3880:1234::84]) by smtp-relay.gmail.com with ESMTPS id 8926c6da1cb9f-56a6b152af0sm818151173.46.2025.09.30.03.44.40 (version=TLS1_2 cipher=ECDHE-ECDSA-AES128-GCM-SHA256 bits=128/128); Tue, 30 Sep 2025 03:44:40 -0700 (PDT) X-Relaying-Domain: iol.unh.edu Date: Tue, 30 Sep 2025 03:44:40 -0700 (PDT) Message-ID: <68dbb498.050a0220.271fae.2317SMTPIN_ADDED_MISSING@mx.google.com> Received: from [172.21.0.3] (unknown [172.18.0.240]) by postal.iol.unh.edu (Postfix) with ESMTP id 787836051830; Tue, 30 Sep 2025 06:44:40 -0400 (EDT) Subject: |SUCCESS| pw157047-157055 [PATCH] [v6,9/9] power: separate public an From: dpdklab@iol.unh.edu To: Test Report Cc: dpdk-test-reports@iol.unh.edu In-Reply-To: <20250930065740.1838899-10-david.marchand@redhat.com> References: <20250930065740.1838899-10-david.marchand@redhat.com> Content-Type: text/plain X-BeenThere: test-report@dpdk.org X-Mailman-Version: 2.1.29 Precedence: list List-Id: automatic DPDK test reports List-Unsubscribe: , List-Archive: List-Post: List-Help: List-Subscribe: , Errors-To: test-report-bounces@dpdk.org Test-Label: iol-compile-amd64-testing Test-Status: SUCCESS http://dpdk.org/patch/157055 _Testing PASS_ Submitter: David Marchand Date: Tuesday, September 30 2025 06:57:39 DPDK git baseline: Repo:dpdk Branch: master CommitID:1d627ea13aeec2bcccf27246e6be2508370d171e 157047-157055 --> testing pass Upstream job id: Generic-DPDK-Compile-Meson#429937 Test environment and result as below: +-------------------------------+-------------------------+--------------------+-------------------+----------------------+-------------------+------------------+ | Environment | dpdk_llvm_clang_compile | dpdk_meson_compile | dpdk_msvc_compile | dpdk_mingw64_compile | dpdk_compile_spdk | dpdk_compile_ovs | +===============================+=========================+====================+===================+======================+===================+==================+ | Windows Server 2022 | PASS | SKIPPED | PASS | PASS | SKIPPED | SKIPPED | +-------------------------------+-------------------------+--------------------+-------------------+----------------------+-------------------+------------------+ | Ubuntu 20.04 | SKIPPED | PASS | SKIPPED | SKIPPED | SKIPPED | SKIPPED | +-------------------------------+-------------------------+--------------------+-------------------+----------------------+-------------------+------------------+ | FreeBSD 14.2 | SKIPPED | PASS | SKIPPED | SKIPPED | SKIPPED | SKIPPED | +-------------------------------+-------------------------+--------------------+-------------------+----------------------+-------------------+------------------+ | CentOS Stream 9 | SKIPPED | PASS | SKIPPED | SKIPPED | PASS | SKIPPED | +-------------------------------+-------------------------+--------------------+-------------------+----------------------+-------------------+------------------+ | CentOS Stream 10 | SKIPPED | PASS | SKIPPED | SKIPPED | SKIPPED | SKIPPED | +-------------------------------+-------------------------+--------------------+-------------------+----------------------+-------------------+------------------+ | Debian GNU/Linux 12 | SKIPPED | PASS | SKIPPED | SKIPPED | PASS | SKIPPED | +-------------------------------+-------------------------+--------------------+-------------------+----------------------+-------------------+------------------+ | Fedora Linux 42 | SKIPPED | PASS | SKIPPED | SKIPPED | PASS | PASS | +-------------------------------+-------------------------+--------------------+-------------------+----------------------+-------------------+------------------+ | openSUSE Leap 15.6 | SKIPPED | PASS | SKIPPED | SKIPPED | SKIPPED | SKIPPED | +-------------------------------+-------------------------+--------------------+-------------------+----------------------+-------------------+------------------+ | Red Hat Enterprise Linux 8.10 | SKIPPED | PASS | SKIPPED | SKIPPED | SKIPPED | SKIPPED | +-------------------------------+-------------------------+--------------------+-------------------+----------------------+-------------------+------------------+ | Red Hat Enterprise Linux 9.5 | SKIPPED | PASS | SKIPPED | SKIPPED | SKIPPED | SKIPPED | +-------------------------------+-------------------------+--------------------+-------------------+----------------------+-------------------+------------------+ Windows Server 2022 Kernel: 10.0.20348.2031 Compiler: clang 15.0.7, gcc 14.1.0 (MinGW), and MSVC VS 19.39.33521 Ubuntu 20.04 Kernel: 4.19 Compiler: gcc gcc (Ubuntu 9.4.0-1ubuntu1~20.04.2) 9.4.0 FreeBSD 14.2 Kernel: 14.2-RELEASE Compiler: clang 18.1.6 CentOS Stream 9 Kernel: 5.15 Compiler: gcc gcc (GCC) 11.5.0 20240719 (Red Hat 11.5.0-11) CentOS Stream 10 Kernel: 5.15 Compiler: gcc gcc (GCC) 14.2.1 20250110 (Red Hat 14.2.1-8) Debian GNU/Linux 12 Kernel: 5.15 Compiler: gcc gcc (Debian 12.2.0-14+deb12u1) 12.2.0 Fedora Linux 42 Kernel: 5.15 Compiler: clang gcc (GCC) 15.2.1 20250808 (Red Hat 15.2.1-1) openSUSE Leap 15.6 Kernel: 5.15 Compiler: gcc gcc (SUSE Linux) 7.5.0 Red Hat Enterprise Linux 8.10 Kernel: 5.15 Compiler: gcc gcc (GCC) 8.5.0 20210514 (Red Hat 8.5.0-22) Red Hat Enterprise Linux 9.5 Kernel: 5.15 Compiler: gcc gcc (GCC) 11.5.0 20240719 (Red Hat 11.5.0-2) To view detailed results, visit: https://lab.dpdk.org/results/dashboard/patchsets/34175/ UNH-IOL DPDK Community Lab To manage your email subscriptions, visit: https://lab.dpdk.org/results/dashboard/preferences/subscriptions/