From mboxrd@z Thu Jan 1 00:00:00 1970 Return-Path: Received: from mails.dpdk.org (mails.dpdk.org [217.70.189.124]) by inbox.dpdk.org (Postfix) with ESMTP id 2E7214886F for ; Tue, 30 Sep 2025 13:10:49 +0200 (CEST) Received: from mails.dpdk.org (localhost [127.0.0.1]) by mails.dpdk.org (Postfix) with ESMTP id 1419D400D7; Tue, 30 Sep 2025 13:10:49 +0200 (CEST) Received: from mail-qv1-f97.google.com (mail-qv1-f97.google.com [209.85.219.97]) by mails.dpdk.org (Postfix) with ESMTP id 460DF400D7 for ; Tue, 30 Sep 2025 13:10:48 +0200 (CEST) Received: by mail-qv1-f97.google.com with SMTP id 6a1803df08f44-796d68804a0so64856486d6.3 for ; Tue, 30 Sep 2025 04:10:48 -0700 (PDT) DKIM-Signature: v=1; a=rsa-sha256; c=relaxed/relaxed; d=iol.unh.edu; s=unh-iol; t=1759230647; x=1759835447; darn=dpdk.org; h=references:in-reply-to:cc:to:from:subject:message-id:date:from:to :cc:subject:date:message-id:reply-to; bh=6Y0zSKSZLiHbAiopz3cI53RovA55j+pWDy40yYOEnZw=; b=AgGqfTHHA2/cy4gv6kjKsQd35u5gsYZG0xz5J1r2RMsHwQXhsLUbonERfzdCvKxBwd DZivu8UeEgrs8ghLA49zo0LNC45iQu4bIeeJRP7TOP5MlSwlOmhy1eKT9hIF3Ow7tzr8 MD2qPoN7DJdNbinpBSU52i8Dl5zlBryeZZVkc= X-Google-DKIM-Signature: v=1; a=rsa-sha256; c=relaxed/relaxed; d=1e100.net; s=20230601; t=1759230647; x=1759835447; h=references:in-reply-to:cc:to:from:subject:message-id:date :x-gm-message-state:from:to:cc:subject:date:message-id:reply-to; bh=6Y0zSKSZLiHbAiopz3cI53RovA55j+pWDy40yYOEnZw=; b=dcq968HvNdAV4Vw2xT2OKD6U4n0V6ozXBECcAI3BkOZvPmYKq8NdKNEdTOgDXmAqy3 bKB3ecMeXynPkSu1Noe4j821iNUpNSJJjpqfWakc/5KNuimdJVjCnCP/K8w3QHxfmxXZ QZ5QuFIO+K7rEgN4sA+qRgQ1aTb3uyTpp1YAs/6HZRQohcZ6NoKkUdaLkpbotwTc5c/9 0cEOo/EpkAmV+3C029uA3PQWpiqmPDp9ipFSxu/UPPmNrIr92XJOYuxUq/2YYGKZIfmX 5IMMEHpTpH5eYk9xJNEOWAclP+DZs2mkOSmLghEutKLe5aCRckAL/f6BD1x4y5UCbPCQ NrdQ== X-Gm-Message-State: AOJu0Yyukh39LJbM0pyqfVv1UvpP82g4qFSyLexrXwy2lWQJVmoPEbB6 swLsJLM6/tWGgpDAmxEAwVdmDxu2zS4lfxUX6PbkKmqJRCeXZ+MS5Ljsw28Yewsmmi+K354Wzji Ii9dK2juFLuHiKcaAHE2x/JURGTTd4U6wzXHaQcaox8zV679jzH541jK/bro7 X-Gm-Gg: ASbGnctS7c0lWHJO0E6qfgJOSGrk7gLqcdfOovFHaSBeYBFvYLtkVEEh6BKW3afP5rp zSekoW3yzJPzcW2/ctkn6dRQMUS5q1fpmOSnB4ntX0qXP7ZdjaD8PW/hAuEpCHul1PrYWoi64x7 mqggjcVy+Nln3zqbRYnhfoGAWX1Jo7d+EzSExbKVx9xK2xIkcVex9evCTDfNo6xVanxJAhm34m2 2VrUAxHHL7O3KWm4sBpuv9FpBfA9FFOvJht1B4/3g1NtRdm5rGsngkMrkIiUuvNNzgDto45t7R8 Hw2WKr3S9mtI0ibheZq34xiLcvmTBVeBdipt93OBIwXkzo2BOkptf90= X-Google-Smtp-Source: AGHT+IHydz8bOubty3QEJzbqLO8GVhM2anq5uexb8S3UE5daMQPsbXpjyo8QUQsboeRVvNs7ZoMtSywzL+St X-Received: by 2002:a05:6214:769:b0:784:be20:64e9 with SMTP id 6a1803df08f44-7fc287420admr250519826d6.9.1759230647547; Tue, 30 Sep 2025 04:10:47 -0700 (PDT) Received: from postal.iol.unh.edu (postal.iol.unh.edu. [2606:4100:3880:1234::84]) by smtp-relay.gmail.com with ESMTPS id 6a1803df08f44-8013e5da227sm10133746d6.19.2025.09.30.04.10.47 (version=TLS1_2 cipher=ECDHE-ECDSA-AES128-GCM-SHA256 bits=128/128); Tue, 30 Sep 2025 04:10:47 -0700 (PDT) X-Relaying-Domain: iol.unh.edu Date: Tue, 30 Sep 2025 04:10:47 -0700 (PDT) Message-ID: <68dbbab7.050a0220.4b151.d482SMTPIN_ADDED_MISSING@mx.google.com> Received: from [172.21.0.2] (unknown [172.18.0.240]) by postal.iol.unh.edu (Postfix) with ESMTP id 4118E6051830; Tue, 30 Sep 2025 07:10:47 -0400 (EDT) Subject: |SUCCESS| pw157047-157055 [PATCH] [v6,9/9] power: separate public an From: dpdklab@iol.unh.edu To: Test Report Cc: dpdk-test-reports@iol.unh.edu In-Reply-To: <20250930065740.1838899-10-david.marchand@redhat.com> References: <20250930065740.1838899-10-david.marchand@redhat.com> Content-Type: text/plain X-BeenThere: test-report@dpdk.org X-Mailman-Version: 2.1.29 Precedence: list List-Id: automatic DPDK test reports List-Unsubscribe: , List-Archive: List-Post: List-Help: List-Subscribe: , Errors-To: test-report-bounces@dpdk.org Test-Label: iol-compile-amd64-testing Test-Status: SUCCESS http://dpdk.org/patch/157055 _Testing PASS_ Submitter: David Marchand Date: Tuesday, September 30 2025 06:57:39 DPDK git baseline: Repo:dpdk Branch: master CommitID:1d627ea13aeec2bcccf27246e6be2508370d171e 157047-157055 --> testing pass Upstream job id: Generic-DPDK-Compile-Meson#429939 Test environment and result as below: +-------------------------------+-------------------------+--------------------+-------------------+----------------------+-------------------+------------------+ | Environment | dpdk_llvm_clang_compile | dpdk_meson_compile | dpdk_msvc_compile | dpdk_mingw64_compile | dpdk_compile_spdk | dpdk_compile_ovs | +===============================+=========================+====================+===================+======================+===================+==================+ | Windows Server 2022 | PASS | SKIPPED | PASS | PASS | SKIPPED | SKIPPED | +-------------------------------+-------------------------+--------------------+-------------------+----------------------+-------------------+------------------+ | Ubuntu 20.04 | SKIPPED | PASS | SKIPPED | SKIPPED | SKIPPED | SKIPPED | +-------------------------------+-------------------------+--------------------+-------------------+----------------------+-------------------+------------------+ | FreeBSD 14.2 | SKIPPED | PASS | SKIPPED | SKIPPED | SKIPPED | SKIPPED | +-------------------------------+-------------------------+--------------------+-------------------+----------------------+-------------------+------------------+ | CentOS Stream 9 | SKIPPED | PASS | SKIPPED | SKIPPED | PASS | SKIPPED | +-------------------------------+-------------------------+--------------------+-------------------+----------------------+-------------------+------------------+ | CentOS Stream 10 | SKIPPED | PASS | SKIPPED | SKIPPED | SKIPPED | SKIPPED | +-------------------------------+-------------------------+--------------------+-------------------+----------------------+-------------------+------------------+ | Debian GNU/Linux 12 | SKIPPED | PASS | SKIPPED | SKIPPED | PASS | SKIPPED | +-------------------------------+-------------------------+--------------------+-------------------+----------------------+-------------------+------------------+ | Fedora Linux 42 | SKIPPED | PASS | SKIPPED | SKIPPED | PASS | PASS | +-------------------------------+-------------------------+--------------------+-------------------+----------------------+-------------------+------------------+ | openSUSE Leap 15.6 | SKIPPED | PASS | SKIPPED | SKIPPED | SKIPPED | SKIPPED | +-------------------------------+-------------------------+--------------------+-------------------+----------------------+-------------------+------------------+ | Red Hat Enterprise Linux 8.10 | SKIPPED | PASS | SKIPPED | SKIPPED | SKIPPED | SKIPPED | +-------------------------------+-------------------------+--------------------+-------------------+----------------------+-------------------+------------------+ | Red Hat Enterprise Linux 9.5 | SKIPPED | PASS | SKIPPED | SKIPPED | SKIPPED | SKIPPED | +-------------------------------+-------------------------+--------------------+-------------------+----------------------+-------------------+------------------+ Windows Server 2022 Kernel: 10.0.20348.2031 Compiler: clang 15.0.7, gcc 14.1.0 (MinGW), and MSVC VS 19.39.33521 Ubuntu 20.04 Kernel: 4.19 Compiler: gcc gcc (Ubuntu 9.4.0-1ubuntu1~20.04.2) 9.4.0 FreeBSD 14.2 Kernel: 14.2-RELEASE Compiler: clang 18.1.6 CentOS Stream 9 Kernel: 5.15 Compiler: gcc gcc (GCC) 11.5.0 20240719 (Red Hat 11.5.0-11) CentOS Stream 10 Kernel: 5.15 Compiler: gcc gcc (GCC) 14.2.1 20250110 (Red Hat 14.2.1-8) Debian GNU/Linux 12 Kernel: 5.15 Compiler: gcc gcc (Debian 12.2.0-14+deb12u1) 12.2.0 Fedora Linux 42 Kernel: 5.15 Compiler: clang gcc (GCC) 15.2.1 20250808 (Red Hat 15.2.1-1) openSUSE Leap 15.6 Kernel: 5.15 Compiler: gcc gcc (SUSE Linux) 7.5.0 Red Hat Enterprise Linux 8.10 Kernel: 5.15 Compiler: gcc gcc (GCC) 8.5.0 20210514 (Red Hat 8.5.0-22) Red Hat Enterprise Linux 9.5 Kernel: 5.15 Compiler: gcc gcc (GCC) 11.5.0 20240719 (Red Hat 11.5.0-2) To view detailed results, visit: https://lab.dpdk.org/results/dashboard/patchsets/34175/ UNH-IOL DPDK Community Lab To manage your email subscriptions, visit: https://lab.dpdk.org/results/dashboard/preferences/subscriptions/