From mboxrd@z Thu Jan 1 00:00:00 1970 Return-Path: Received: from mails.dpdk.org (mails.dpdk.org [217.70.189.124]) by inbox.dpdk.org (Postfix) with ESMTP id 8EEA54886F for ; Tue, 30 Sep 2025 13:14:04 +0200 (CEST) Received: from mails.dpdk.org (localhost [127.0.0.1]) by mails.dpdk.org (Postfix) with ESMTP id 865B7400D7; Tue, 30 Sep 2025 13:14:04 +0200 (CEST) Received: from mail-il1-f225.google.com (mail-il1-f225.google.com [209.85.166.225]) by mails.dpdk.org (Postfix) with ESMTP id CFFEB400D7 for ; Tue, 30 Sep 2025 13:14:00 +0200 (CEST) Received: by mail-il1-f225.google.com with SMTP id e9e14a558f8ab-4286b90e3b8so28988025ab.1 for ; Tue, 30 Sep 2025 04:14:00 -0700 (PDT) DKIM-Signature: v=1; a=rsa-sha256; c=relaxed/relaxed; d=iol.unh.edu; s=unh-iol; t=1759230840; x=1759835640; darn=dpdk.org; h=references:in-reply-to:cc:to:from:subject:message-id:date:from:to :cc:subject:date:message-id:reply-to; bh=fi8itQfElWggBN92kX+ivHcSl34jJbHDBQQQ51queE0=; b=Fpd//fp1Esm4ER69KzZ0WXWxXW+U3gAFRc0YG+VRFMFk5kNGsKR5wWoFNP9r//tTw4 EqpdLOYIGxHvtpBeQlR57T8+QWWnfz5ODQXAHnAXIvYXVfXH8kXMrhSlmwgno7ifqLKT 0APABgLatQV5Xr9XftqNAwVldti9wfSRlp6SU= X-Google-DKIM-Signature: v=1; a=rsa-sha256; c=relaxed/relaxed; d=1e100.net; s=20230601; t=1759230840; x=1759835640; h=references:in-reply-to:cc:to:from:subject:message-id:date :x-gm-message-state:from:to:cc:subject:date:message-id:reply-to; bh=fi8itQfElWggBN92kX+ivHcSl34jJbHDBQQQ51queE0=; b=W+Bp/oLruJ/mHj+t62JCpR8GZ3EBjqopfqk5Uteyak+yp/rDprB1hCbKvGzAlmHPmg Ad5K2+9ut8lgVbPDcCfiu8mPGRgbl7Bj0MiYVXwN/c1yRLhNgPvyBfa7TDInAXMdD5Ca gh69NS4s6cqB8csEAhM7NszYr4+NBeXn/YFtT7+/hG0F7LcaPv6kSFzbNQiNNR8jcBnd 6E6utReN5kR7YR+iV6wMSIZrmiNTcbVbciuvOLXm90JbLyZ+IVqWSGyXsNY0rHS8NWds 4jxpmyYI+km9J1YDZ5xAGpao7DiM0qXTamylx2RHSMFJe9Hx0jg8guQmu2M0cNNHTcLS Bekg== X-Gm-Message-State: AOJu0Yzgl3rUBqUM2DkQSDREsl+zcb6NxjlC+lzN00FQGwtVA8+pcDwO QarOz0wCSFhjwxFHNu6EgqA0ZI6GxbWXt6PDJ+P8amgSn7BhlHFG1FtDELcdwQCK3A8O739PWif jBNrANOP/oZF+1mzloGfdJHA3UD8fiDbuPJnBb34wxZpy X-Gm-Gg: ASbGncsMNJwuF7gRv47pgRUv8JwmP2XhSkgaoZHGhnQkAIlkNlEHABieQhf2sxYg+69 gdMZfUMbMNhODsCQj3R87dGLgcOcuu80O9tpa3zXKp5xvErWZpftd0XAV6A4eOGBTZouG4u7/n8 TyMwQDDgz3cI/p2OEJgmg9yDLVk7IrW+5YZFHcFhRBY+KC+AEm6HaSJPLVXbFHL3cFZtp2TjVKN RjRft/I2+P7OfQxxq7KqQqgKh3IdJlgpv7fKbiAOSUkc/oE0kSIFKEcmbFQ0zjZ/FZjJKzEXsNa veZPsohtx+eCQRs5UCcKfAPlAz+9LdGnrRKj2HY43sh5x80CorQ/ISTeUyF7R+IazzSAur6UikJ lRg== X-Google-Smtp-Source: AGHT+IG8WXRtemeolQcm9o4HOGVkONTLhPCXyTQvKlbX1BFpgX0sVTss3rBvZ0QGecQbjGEujoH3KV/oIbS5 X-Received: by 2002:a05:6e02:1649:b0:408:4492:c9c2 with SMTP id e9e14a558f8ab-425955fb754mr353195045ab.10.1759230840073; Tue, 30 Sep 2025 04:14:00 -0700 (PDT) Received: from postal.iol.unh.edu (postal.iol.unh.edu. [132.177.123.84]) by smtp-relay.gmail.com with ESMTPS id e9e14a558f8ab-427450ef948sm8363165ab.40.2025.09.30.04.13.59 (version=TLS1_2 cipher=ECDHE-ECDSA-AES128-GCM-SHA256 bits=128/128); Tue, 30 Sep 2025 04:14:00 -0700 (PDT) X-Relaying-Domain: iol.unh.edu Date: Tue, 30 Sep 2025 04:14:00 -0700 (PDT) Message-ID: <68dbbb78.050a0220.aba80.35c6SMTPIN_ADDED_MISSING@mx.google.com> Received: from [172.21.0.2] (unknown [172.18.0.240]) by postal.iol.unh.edu (Postfix) with ESMTP id 9EC596051830; Tue, 30 Sep 2025 07:13:59 -0400 (EDT) Subject: |SUCCESS| pw157114-157133 [PATCH] [v4,20/20] doc: update for txgbe From: dpdklab@iol.unh.edu To: Test Report Cc: dpdk-test-reports@iol.unh.edu, Stephen Hemminger In-Reply-To: <20250930095953.18508-21-zaiyuwang@trustnetic.com> References: <20250930095953.18508-21-zaiyuwang@trustnetic.com> Content-Type: text/plain X-BeenThere: test-report@dpdk.org X-Mailman-Version: 2.1.29 Precedence: list List-Id: automatic DPDK test reports List-Unsubscribe: , List-Archive: List-Post: List-Help: List-Subscribe: , Errors-To: test-report-bounces@dpdk.org Test-Label: iol-unit-amd64-testing Test-Status: SUCCESS http://dpdk.org/patch/157133 _Testing PASS_ Submitter: Zaiyu Wang Date: Tuesday, September 30 2025 09:59:52 DPDK git baseline: Repo:dpdk-next-net Branch: master CommitID:c04bbd131b2c14b3049bf86d3ef367b34e6fdf1e 157114-157133 --> testing pass Upstream job id: Generic-VM-Unit-Test-DPDK#31490 Test environment and result as below: +-------------------------------+----------------+ | Environment | dpdk_unit_test | +===============================+================+ | CentOS Stream 9 | PASS | +-------------------------------+----------------+ | CentOS Stream 10 | PASS | +-------------------------------+----------------+ | Debian GNU/Linux 12 | PASS | +-------------------------------+----------------+ | Fedora Linux 40 | PASS | +-------------------------------+----------------+ | Fedora Linux 41 | PASS | +-------------------------------+----------------+ | Fedora Linux 42 | PASS | +-------------------------------+----------------+ | Windows Server 2022 | PASS | +-------------------------------+----------------+ | Red Hat Enterprise Linux 9.5 | PASS | +-------------------------------+----------------+ | Ubuntu 24.04 | PASS | +-------------------------------+----------------+ | Red Hat Enterprise Linux 8.10 | PASS | +-------------------------------+----------------+ | Ubuntu 20.04 | PASS | +-------------------------------+----------------+ | Ubuntu 22.04 | PASS | +-------------------------------+----------------+ CentOS Stream 9 Kernel: 5.15 Compiler: gcc gcc (GCC) 11.5.0 20240719 (Red Hat 11.5.0-11) CentOS Stream 10 Kernel: 5.15 Compiler: gcc gcc (GCC) 14.2.1 20250110 (Red Hat 14.2.1-8) Debian GNU/Linux 12 Kernel: 5.15 Compiler: gcc gcc (Debian 12.2.0-14+deb12u1) 12.2.0 Fedora Linux 40 Kernel: 5.15 Compiler: gcc gcc (GCC) 14.2.1 20240912 (Red Hat 14.2.1-3) Fedora Linux 41 Kernel: 5.15 Compiler: gcc gcc (GCC) 14.3.1 20250523 (Red Hat 14.3.1-1) Fedora Linux 42 Kernel: 5.15 Compiler: gcc gcc (GCC) 15.2.1 20250808 (Red Hat 15.2.1-1) Windows Server 2022 Kernel: 10.0.20348.2031 Compiler: clang 15.0.7, gcc 14.1.0 (MinGW), and MSVC VS 19.39.33521 Red Hat Enterprise Linux 9.5 Kernel: 5.15 Compiler: gcc gcc (GCC) 11.5.0 20240719 (Red Hat 11.5.0-2) Ubuntu 24.04 Kernel: 5.15 Compiler: gcc gcc (Ubuntu 13.3.0-6ubuntu2~24.04) 13.3.0 Red Hat Enterprise Linux 8.10 Kernel: 5.15 Compiler: gcc gcc (GCC) 8.5.0 20210514 (Red Hat 8.5.0-22) Ubuntu 20.04 Kernel: 5.15 Compiler: gcc gcc (Ubuntu 9.4.0-1ubuntu1~20.04.2) 9.4.0 Ubuntu 22.04 Kernel: 5.15 Compiler: gcc gcc (Ubuntu 11.4.0-1ubuntu1~22.04) 11.4.0 To view detailed results, visit: https://lab.dpdk.org/results/dashboard/patchsets/34180/ UNH-IOL DPDK Community Lab To manage your email subscriptions, visit: https://lab.dpdk.org/results/dashboard/preferences/subscriptions/