From mboxrd@z Thu Jan 1 00:00:00 1970 Return-Path: Received: from mails.dpdk.org (mails.dpdk.org [217.70.189.124]) by inbox.dpdk.org (Postfix) with ESMTP id B3E2E4886F for ; Tue, 30 Sep 2025 13:15:10 +0200 (CEST) Received: from mails.dpdk.org (localhost [127.0.0.1]) by mails.dpdk.org (Postfix) with ESMTP id AA644400D7; Tue, 30 Sep 2025 13:15:10 +0200 (CEST) Received: from mail-il1-f228.google.com (mail-il1-f228.google.com [209.85.166.228]) by mails.dpdk.org (Postfix) with ESMTP id 18FF2400D7 for ; Tue, 30 Sep 2025 13:15:09 +0200 (CEST) Received: by mail-il1-f228.google.com with SMTP id e9e14a558f8ab-424d3c1256fso34971575ab.1 for ; Tue, 30 Sep 2025 04:15:09 -0700 (PDT) DKIM-Signature: v=1; a=rsa-sha256; c=relaxed/relaxed; d=iol.unh.edu; s=unh-iol; t=1759230908; x=1759835708; darn=dpdk.org; h=references:in-reply-to:cc:to:from:subject:message-id:date:from:to :cc:subject:date:message-id:reply-to; bh=HHEk0538/pa5mn6jSMSPFLY7lrPv1dwnXV63e8QfTrk=; b=Pd+92E6lXZCCmoMxWM1H1jFSMbgBkk0FGDUsEGq6LIIPBusPCwHoF58/vrBcB82zPK f5BbGlDaQOcFLTVTBrN0MQ3O0QFjqUc4aq9Ldk8s7DRmyQzwpp5O0biICFIB0Hu1CcKa C4KbDRl7898fTocxNgymnTcDmsP/oOSPjCZiU= X-Google-DKIM-Signature: v=1; a=rsa-sha256; c=relaxed/relaxed; d=1e100.net; s=20230601; t=1759230908; x=1759835708; h=references:in-reply-to:cc:to:from:subject:message-id:date :x-gm-message-state:from:to:cc:subject:date:message-id:reply-to; bh=HHEk0538/pa5mn6jSMSPFLY7lrPv1dwnXV63e8QfTrk=; b=bIDR+6GgRzhZikOvmkBxcSvc4HWC+dUZruYjmnQw2zFS3BXbMEuv40uZ7DAvhMLCeZ NvumWVJwnPGy6AdfDOZsifgXJ37telduT7h9xF/HbA4fa1lRMtGiiy4pkrZxKMbnqwaO zN0LTTJ285RuJr8pK/3VAxQ3CtLL/B4M7zT+ki12zdXsYMpbwsW1/MJ4le0NxrZ9jG69 y9RSewhR+DJ4d6cODxj1sdfRDOaqrCrx4W/XdvX+nxgBz7CgQf68Y0IUbVr3iF6PCZsb zSLExlJmtke/HNi3qkMI5p9dj48eYypwvXcyOzF/NA4Kfu0HskIIkt4uYL2PCPaPMTTJ ZZOA== X-Gm-Message-State: AOJu0YwZbH+Q/of/O78WGZjhOKSwwTfA6AraD0dKwpjIqyuKcrnKiua8 0c3doIikXVcDUAOLsfolsd+cYDT7H4RVYWWDqi6GtUZLWS/xywJ/yLO27Z+pUNuGNWS7zR9XVk/ J83iuoX2b9ShLh8F7yi+4W+NSn7NaR/mtVYL8RXxqqShlxf8qSuK2qeTIoTXI X-Gm-Gg: ASbGncuGib98q691wI/4aTv/GOMlo+b9yauw2d0uZ4MWnWH76z/goJGvr5M3hHxjtGo h6uMLmuma9yIkYnyO6ZppXKYlJjnj0etS199ljIMs3atmRsPMg3sZSDG+KvI5ihc1gtCWQxbZ/1 Muoe3FL0Q70mE/3r6IOOO82BrGJM/w3zg9jdX2mUSwQGcGw0gO+K0dYxcuMWvED+8xkCKIXPQdz aUZgOhaDyXWrf+JXPVX/JQdGTURgxHKQJtIpe1+cvazWtJXmJrLr0Pfm2hNhz3+i6HOt04+50ro 5lI7CT4gq3XyAltwQ27ZFRP5FbgeYSPQJVLwlw6s4LUsmPWcbVqPiEk= X-Google-Smtp-Source: AGHT+IHiQfJ5IQIU+ioxOxCT7iYPXdhnRbgQpgSG1NPfg4u+u0ZrriNHuL9fYenhJj36N/1OXqKrjmywfJOv X-Received: by 2002:a05:6e02:1605:b0:405:d8c4:ab8f with SMTP id e9e14a558f8ab-42d10b623c0mr63840455ab.14.1759230908342; Tue, 30 Sep 2025 04:15:08 -0700 (PDT) Received: from postal.iol.unh.edu (postal.iol.unh.edu. [2606:4100:3880:1234::84]) by smtp-relay.gmail.com with ESMTPS id e9e14a558f8ab-425bf6d4f14sm9713625ab.23.2025.09.30.04.15.08 (version=TLS1_2 cipher=ECDHE-ECDSA-AES128-GCM-SHA256 bits=128/128); Tue, 30 Sep 2025 04:15:08 -0700 (PDT) X-Relaying-Domain: iol.unh.edu Date: Tue, 30 Sep 2025 04:15:08 -0700 (PDT) Message-ID: <68dbbbbc.050a0220.10f3a1.9f86SMTPIN_ADDED_MISSING@mx.google.com> Received: from [172.21.0.2] (unknown [172.18.0.240]) by postal.iol.unh.edu (Postfix) with ESMTP id E32A16051830; Tue, 30 Sep 2025 07:15:07 -0400 (EDT) Subject: |SUCCESS| pw157114-157133 [PATCH] [v4,20/20] doc: update for txgbe From: dpdklab@iol.unh.edu To: Test Report Cc: dpdk-test-reports@iol.unh.edu, Stephen Hemminger In-Reply-To: <20250930095953.18508-21-zaiyuwang@trustnetic.com> References: <20250930095953.18508-21-zaiyuwang@trustnetic.com> Content-Type: text/plain X-BeenThere: test-report@dpdk.org X-Mailman-Version: 2.1.29 Precedence: list List-Id: automatic DPDK test reports List-Unsubscribe: , List-Archive: List-Post: List-Help: List-Subscribe: , Errors-To: test-report-bounces@dpdk.org Test-Label: iol-compile-amd64-testing Test-Status: SUCCESS http://dpdk.org/patch/157133 _Testing PASS_ Submitter: Zaiyu Wang Date: Tuesday, September 30 2025 09:59:52 DPDK git baseline: Repo:dpdk-next-net Branch: master CommitID:c04bbd131b2c14b3049bf86d3ef367b34e6fdf1e 157114-157133 --> testing pass Upstream job id: Windows-Compile-DPDK-Native#31322 Test environment and result as below: +---------------------+--------------------+-------------------------+-------------------+----------------------+ | Environment | dpdk_meson_compile | dpdk_llvm_clang_compile | dpdk_msvc_compile | dpdk_mingw64_compile | +=====================+====================+=========================+===================+======================+ | Ubuntu 20.04 | PASS | SKIPPED | SKIPPED | SKIPPED | +---------------------+--------------------+-------------------------+-------------------+----------------------+ | FreeBSD 14.2 | PASS | SKIPPED | SKIPPED | SKIPPED | +---------------------+--------------------+-------------------------+-------------------+----------------------+ | Windows Server 2022 | SKIPPED | PASS | PASS | PASS | +---------------------+--------------------+-------------------------+-------------------+----------------------+ Ubuntu 20.04 Kernel: 4.19 Compiler: gcc gcc (Ubuntu 9.4.0-1ubuntu1~20.04.2) 9.4.0 FreeBSD 14.2 Kernel: 14.2-RELEASE Compiler: clang 18.1.6 Windows Server 2022 Kernel: 10.0.20348.2031 Compiler: clang 15.0.7, gcc 14.1.0 (MinGW), and MSVC VS 19.39.33521 To view detailed results, visit: https://lab.dpdk.org/results/dashboard/patchsets/34180/ UNH-IOL DPDK Community Lab To manage your email subscriptions, visit: https://lab.dpdk.org/results/dashboard/preferences/subscriptions/