From mboxrd@z Thu Jan 1 00:00:00 1970 Return-Path: Received: from mails.dpdk.org (mails.dpdk.org [217.70.189.124]) by inbox.dpdk.org (Postfix) with ESMTP id 201EC4886F for ; Tue, 30 Sep 2025 13:19:00 +0200 (CEST) Received: from mails.dpdk.org (localhost [127.0.0.1]) by mails.dpdk.org (Postfix) with ESMTP id 09FFF400D7; Tue, 30 Sep 2025 13:19:00 +0200 (CEST) Received: from mail-pl1-f226.google.com (mail-pl1-f226.google.com [209.85.214.226]) by mails.dpdk.org (Postfix) with ESMTP id 35EF3400D7 for ; Tue, 30 Sep 2025 13:18:58 +0200 (CEST) Received: by mail-pl1-f226.google.com with SMTP id d9443c01a7336-27c369f898fso62978125ad.3 for ; Tue, 30 Sep 2025 04:18:58 -0700 (PDT) DKIM-Signature: v=1; a=rsa-sha256; c=relaxed/relaxed; d=iol.unh.edu; s=unh-iol; t=1759231137; x=1759835937; darn=dpdk.org; h=references:in-reply-to:cc:to:from:subject:message-id:date:from:to :cc:subject:date:message-id:reply-to; bh=aUufb7fIwGhp/cdjpo3KMJomEcW+EPridd8ohyI+/QU=; b=ZHT3B+5v+gkB4N4qFAME3l2QQfErePoKUI+cRkouFMYVfsRooDjWb0qZN7l0mw6QP+ DMi98wCp266O4dDIGOesbpEZHALcI5YRHpGcazcbU/f4g9hpWQ3PDpv0YcqqgdWYoold F+hao1O5W9fNNz/e3pI7tCK6Yv2b6McdChyQs= X-Google-DKIM-Signature: v=1; a=rsa-sha256; c=relaxed/relaxed; d=1e100.net; s=20230601; t=1759231137; x=1759835937; h=references:in-reply-to:cc:to:from:subject:message-id:date :x-gm-message-state:from:to:cc:subject:date:message-id:reply-to; bh=aUufb7fIwGhp/cdjpo3KMJomEcW+EPridd8ohyI+/QU=; b=X+Ep7vi8yEZSS0cuFZ8FyJD43tz856TSlK0ccSvqKH5Te/kktKu78vcYEXWNzoBKvK azkNW+fL0iTtgL125r3VH9sJsRvyUBXpluipI5zJ1daDTw2/NWvfSx2sB8i2L7iq9Aan vPyMQeW48tU1fSN6Z0aLQGgZ3D8KPB1oD9Sm3OJ+IKolRymsT2W7jAWHExjep5ULSFsu TMjJ148ZpxRTLeNTlitDhPl9ePgVp4cbQdo5hPULtPmpr7NHnI520YVtuOgDRltLjCPX P2m53Xrq2bWZt6gvlUzLfuw8hiUXKEoBcaNsBEOzSOf2CRkdxpziG7HpBhuSYADhhRzx 8ZBQ== X-Gm-Message-State: AOJu0YzhDkuyfJPsKITkhz1UO4CbLER4Cq2l1rHSCDbXGrEJZVM0ik8C 9O2S3FtSykXGV7QLqhP1hcTePcs7agXqcbFK19Z7skPOYZ+WFYAhTy7LEQUKLq01IMuM6EISXSh lDu0tteNDDxLUjFIW2UN8Yf4UCeg4373EzhmmUT0WJvCU X-Gm-Gg: ASbGncthzklJrt9tkkMuGXHLLBstt/Ah4t0NtRPmfp964neS1NDF+zZXinbACeLds/9 zN+adpcKMr81DGnQSQnKBIGOtm1M7iKOr7j07/63BocnuUAlXIQa1b2lnLgzvf/MZFq2HZ6Pe/t vspJmNWPnnjaT72wVYm4UrAnjdftgvwi6y9KYuBxigxl4TgIkQ93WJYeI5hVHDMmyJbR0csePwd x6/8o0Y+UI0f5rv6JOoYBF+wyUkZfTnXRFpwzGi3uRa9k/eWzlOLzDldvp+/6b7jp7VgXi7Uzwi +Nhl0cdYCflsojD6wqzOFvvx+fsZEB/wTrSNu+aCfG7O6m/d273p8ABvnx8xJR0My5bFLzHOUs5 MCA== X-Google-Smtp-Source: AGHT+IGum6RLlyakJSJnAM6Px+Whn6+LVk7J9XYUnB74Q2Ua1kfOwqB107e0Q9w0ackp7pgVpB4YtzNha8OW X-Received: by 2002:a17:903:1a87:b0:28c:834f:d855 with SMTP id d9443c01a7336-28c834fda0fmr60690295ad.27.1759231137321; Tue, 30 Sep 2025 04:18:57 -0700 (PDT) Received: from postal.iol.unh.edu (postal.iol.unh.edu. [132.177.123.84]) by smtp-relay.gmail.com with ESMTPS id d9443c01a7336-27ed680d205sm12081865ad.54.2025.09.30.04.18.57 (version=TLS1_2 cipher=ECDHE-ECDSA-AES128-GCM-SHA256 bits=128/128); Tue, 30 Sep 2025 04:18:57 -0700 (PDT) X-Relaying-Domain: iol.unh.edu Date: Tue, 30 Sep 2025 04:18:57 -0700 (PDT) Message-ID: <68dbbca1.170a0220.2f9278.8562SMTPIN_ADDED_MISSING@mx.google.com> Received: from [172.21.0.2] (unknown [172.18.0.240]) by postal.iol.unh.edu (Postfix) with ESMTP id BD5336051830; Tue, 30 Sep 2025 07:18:56 -0400 (EDT) Subject: |SUCCESS| pw157114-157133 [PATCH] [v4,20/20] doc: update for txgbe From: dpdklab@iol.unh.edu To: Test Report Cc: dpdk-test-reports@iol.unh.edu, Stephen Hemminger In-Reply-To: <20250930095953.18508-21-zaiyuwang@trustnetic.com> References: <20250930095953.18508-21-zaiyuwang@trustnetic.com> Content-Type: text/plain X-BeenThere: test-report@dpdk.org X-Mailman-Version: 2.1.29 Precedence: list List-Id: automatic DPDK test reports List-Unsubscribe: , List-Archive: List-Post: List-Help: List-Subscribe: , Errors-To: test-report-bounces@dpdk.org Test-Label: iol-unit-amd64-testing Test-Status: SUCCESS http://dpdk.org/patch/157133 _Testing PASS_ Submitter: Zaiyu Wang Date: Tuesday, September 30 2025 09:59:52 DPDK git baseline: Repo:dpdk-next-net Branch: master CommitID:c04bbd131b2c14b3049bf86d3ef367b34e6fdf1e 157114-157133 --> testing pass Upstream job id: Generic-VM-Unit-Test-DPDK#31491 Test environment and result as below: +-------------------------------+----------------+ | Environment | dpdk_unit_test | +===============================+================+ | CentOS Stream 9 | PASS | +-------------------------------+----------------+ | CentOS Stream 10 | PASS | +-------------------------------+----------------+ | Debian GNU/Linux 12 | PASS | +-------------------------------+----------------+ | Fedora Linux 40 | PASS | +-------------------------------+----------------+ | Fedora Linux 41 | PASS | +-------------------------------+----------------+ | Fedora Linux 42 | PASS | +-------------------------------+----------------+ | Windows Server 2022 | PASS | +-------------------------------+----------------+ | Red Hat Enterprise Linux 9.5 | PASS | +-------------------------------+----------------+ | Ubuntu 24.04 | PASS | +-------------------------------+----------------+ | Red Hat Enterprise Linux 8.10 | PASS | +-------------------------------+----------------+ | Ubuntu 20.04 | PASS | +-------------------------------+----------------+ | Ubuntu 22.04 | PASS | +-------------------------------+----------------+ CentOS Stream 9 Kernel: 5.15 Compiler: gcc gcc (GCC) 11.5.0 20240719 (Red Hat 11.5.0-11) CentOS Stream 10 Kernel: 5.15 Compiler: gcc gcc (GCC) 14.2.1 20250110 (Red Hat 14.2.1-8) Debian GNU/Linux 12 Kernel: 5.15 Compiler: gcc gcc (Debian 12.2.0-14+deb12u1) 12.2.0 Fedora Linux 40 Kernel: 5.15 Compiler: gcc gcc (GCC) 14.2.1 20240912 (Red Hat 14.2.1-3) Fedora Linux 41 Kernel: 5.15 Compiler: gcc gcc (GCC) 14.3.1 20250523 (Red Hat 14.3.1-1) Fedora Linux 42 Kernel: 5.15 Compiler: gcc gcc (GCC) 15.2.1 20250808 (Red Hat 15.2.1-1) Windows Server 2022 Kernel: 10.0.20348.2031 Compiler: clang 15.0.7, gcc 14.1.0 (MinGW), and MSVC VS 19.39.33521 Red Hat Enterprise Linux 9.5 Kernel: 5.15 Compiler: gcc gcc (GCC) 11.5.0 20240719 (Red Hat 11.5.0-2) Ubuntu 24.04 Kernel: 5.15 Compiler: gcc gcc (Ubuntu 13.3.0-6ubuntu2~24.04) 13.3.0 Red Hat Enterprise Linux 8.10 Kernel: 5.15 Compiler: gcc gcc (GCC) 8.5.0 20210514 (Red Hat 8.5.0-22) Ubuntu 20.04 Kernel: 5.15 Compiler: gcc gcc (Ubuntu 9.4.0-1ubuntu1~20.04.2) 9.4.0 Ubuntu 22.04 Kernel: 5.15 Compiler: gcc gcc (Ubuntu 11.4.0-1ubuntu1~22.04) 11.4.0 To view detailed results, visit: https://lab.dpdk.org/results/dashboard/patchsets/34180/ UNH-IOL DPDK Community Lab To manage your email subscriptions, visit: https://lab.dpdk.org/results/dashboard/preferences/subscriptions/