From mboxrd@z Thu Jan 1 00:00:00 1970 Return-Path: Received: from mails.dpdk.org (mails.dpdk.org [217.70.189.124]) by inbox.dpdk.org (Postfix) with ESMTP id 3F0A74886F for ; Tue, 30 Sep 2025 13:20:36 +0200 (CEST) Received: from mails.dpdk.org (localhost [127.0.0.1]) by mails.dpdk.org (Postfix) with ESMTP id 36971400D7; Tue, 30 Sep 2025 13:20:36 +0200 (CEST) Received: from mail-yw1-f227.google.com (mail-yw1-f227.google.com [209.85.128.227]) by mails.dpdk.org (Postfix) with ESMTP id E89ED400D7 for ; Tue, 30 Sep 2025 13:20:34 +0200 (CEST) Received: by mail-yw1-f227.google.com with SMTP id 00721157ae682-71d60501806so64060357b3.2 for ; Tue, 30 Sep 2025 04:20:34 -0700 (PDT) DKIM-Signature: v=1; a=rsa-sha256; c=relaxed/relaxed; d=iol.unh.edu; s=unh-iol; t=1759231234; x=1759836034; darn=dpdk.org; h=references:in-reply-to:cc:to:from:subject:message-id:date:from:to :cc:subject:date:message-id:reply-to; bh=nhncXi8p6Ajc4KR5Goj+CalbY7fo4LfSH5fJbjr8OkU=; b=iMyMvVmJPL0k9CX/d+NjRanZ2v0wLsgq99vuAZB1jeSkD0xfpoecviGEQIDH7dal+v /P+7uxxr0/GXNzwezELDpxrQ0rLhXqvaDbU+mp7fAd5bGUJp4QzMtaMdHKuEBURGVuSd GjvgSue/vKI64fpTnEGoWaRZfGJ7rvEzs9G20= X-Google-DKIM-Signature: v=1; a=rsa-sha256; c=relaxed/relaxed; d=1e100.net; s=20230601; t=1759231234; x=1759836034; h=references:in-reply-to:cc:to:from:subject:message-id:date :x-gm-message-state:from:to:cc:subject:date:message-id:reply-to; bh=nhncXi8p6Ajc4KR5Goj+CalbY7fo4LfSH5fJbjr8OkU=; b=cQYJh0q6iiaYQ1gDfULdM1aWkSyE2H9nroGk6bCk7S9kJzh3cwpvEsZWab24Vli8gI QifzEMTM/U980WIs1vh2OTTQZyo415mpScp3LBSgy/ZMNjYGnvgJzzKpCMhyx73mtEE1 zXlsRnAci6qC3uFvCCYi+cejhZxbf5QQ0H1HByIwhnqVQTIY7KAcC8PS8e98yBkBPRUX 6/wtrK0P5qOLs94iGM5djgPia162oMPpxOfZanrUhI/Sm/yJQjA80RTM27V1+JuFcf87 jhfOX0sbSgPXis7I+LiSGbAdRdqhO736Qbk2TEG64/mz0U3E6zM8l37EOx/4RnTAr/rt 9fig== X-Gm-Message-State: AOJu0Yz6nINeRIHJVR7rV067w/FG2T7KwE9hzjor4dAvLbeDNK50Ch8j /3C0mpz8935BPtF4cZLWuVrgRxObEl5/HmLJXdMjYqXAnsB0zFWc8mDnVywkTQrd88jW1WLMH1p 3po5ZGq1QXJbsk9AbWV/nfMu2GY6IlBeiT5wBpfjlz98qYw7rLQbt2XdJynVE X-Gm-Gg: ASbGnct9a3o8r7baz28K/TIgkcnIqkAWMjgM/e7g2SM8TQLptEjJKXjectcVx1o39NK kmG374RVdAjS4g2zTxaGI5YJ94cFIpSY3nhmHbv8guiu90uINau4OqS8+idpgqs6FGeMDZUkzzB F/5VbQvKL61SlYQTh4Oybdqz0bdTlj5lWfvUgWythMrAJh64rLHhfYdZPkzHCqvL62IcnZ2xzIm vd6c4iOon/t8pHGHXkoAhXoXdcJjHYuTMXj6agk6hFtZcztp7EMgEzRjvB0MJii8UXXKJ3wFCi4 U/szbI02COlTFa+IIQHIdoddNvKkd/DkOwcxW2BvstSptIs2o/kN/wg= X-Google-Smtp-Source: AGHT+IHMfjrLYeCAMvGtv8PO9nGEhNWKWZ6BbxhpLhoch9aHMPZenF0srBN+2/eM2SA3A8i8E1+Vb+Byaajg X-Received: by 2002:a53:b643:0:b0:636:d75f:636 with SMTP id 956f58d0204a3-636d75f07f1mr13896934d50.53.1759231234128; Tue, 30 Sep 2025 04:20:34 -0700 (PDT) Received: from postal.iol.unh.edu (postal.iol.unh.edu. [2606:4100:3880:1234::84]) by smtp-relay.gmail.com with ESMTPS id 956f58d0204a3-6361e53e9d8sm586373d50.0.2025.09.30.04.20.34 (version=TLS1_2 cipher=ECDHE-ECDSA-AES128-GCM-SHA256 bits=128/128); Tue, 30 Sep 2025 04:20:34 -0700 (PDT) X-Relaying-Domain: iol.unh.edu Date: Tue, 30 Sep 2025 04:20:34 -0700 (PDT) Message-ID: <68dbbd02.050a0220.7b053.327fSMTPIN_ADDED_MISSING@mx.google.com> Received: from [172.21.0.2] (unknown [172.18.0.240]) by postal.iol.unh.edu (Postfix) with ESMTP id 9CD616051830; Tue, 30 Sep 2025 07:20:33 -0400 (EDT) Subject: |SUCCESS| pw157047-157055 [PATCH] [v6,9/9] power: separate public an From: dpdklab@iol.unh.edu To: Test Report Cc: dpdk-test-reports@iol.unh.edu In-Reply-To: <20250930065740.1838899-10-david.marchand@redhat.com> References: <20250930065740.1838899-10-david.marchand@redhat.com> Content-Type: text/plain X-BeenThere: test-report@dpdk.org X-Mailman-Version: 2.1.29 Precedence: list List-Id: automatic DPDK test reports List-Unsubscribe: , List-Archive: List-Post: List-Help: List-Subscribe: , Errors-To: test-report-bounces@dpdk.org Test-Label: iol-compile-amd64-testing Test-Status: SUCCESS http://dpdk.org/patch/157055 _Testing PASS_ Submitter: David Marchand Date: Tuesday, September 30 2025 06:57:39 DPDK git baseline: Repo:dpdk Branch: master CommitID:1d627ea13aeec2bcccf27246e6be2508370d171e 157047-157055 --> testing pass Upstream job id: Generic-DPDK-Compile-Meson#429941 Test environment and result as below: +-------------------------------+-------------------------+--------------------+-------------------+----------------------+-------------------+------------------+ | Environment | dpdk_llvm_clang_compile | dpdk_meson_compile | dpdk_msvc_compile | dpdk_mingw64_compile | dpdk_compile_spdk | dpdk_compile_ovs | +===============================+=========================+====================+===================+======================+===================+==================+ | Windows Server 2022 | PASS | SKIPPED | PASS | PASS | SKIPPED | SKIPPED | +-------------------------------+-------------------------+--------------------+-------------------+----------------------+-------------------+------------------+ | Ubuntu 20.04 | SKIPPED | PASS | SKIPPED | SKIPPED | SKIPPED | SKIPPED | +-------------------------------+-------------------------+--------------------+-------------------+----------------------+-------------------+------------------+ | FreeBSD 14.2 | SKIPPED | PASS | SKIPPED | SKIPPED | SKIPPED | SKIPPED | +-------------------------------+-------------------------+--------------------+-------------------+----------------------+-------------------+------------------+ | CentOS Stream 9 | SKIPPED | PASS | SKIPPED | SKIPPED | PASS | SKIPPED | +-------------------------------+-------------------------+--------------------+-------------------+----------------------+-------------------+------------------+ | CentOS Stream 10 | SKIPPED | PASS | SKIPPED | SKIPPED | SKIPPED | SKIPPED | +-------------------------------+-------------------------+--------------------+-------------------+----------------------+-------------------+------------------+ | Debian GNU/Linux 12 | SKIPPED | PASS | SKIPPED | SKIPPED | PASS | SKIPPED | +-------------------------------+-------------------------+--------------------+-------------------+----------------------+-------------------+------------------+ | Fedora Linux 42 | SKIPPED | PASS | SKIPPED | SKIPPED | PASS | PASS | +-------------------------------+-------------------------+--------------------+-------------------+----------------------+-------------------+------------------+ | openSUSE Leap 15.6 | SKIPPED | PASS | SKIPPED | SKIPPED | SKIPPED | SKIPPED | +-------------------------------+-------------------------+--------------------+-------------------+----------------------+-------------------+------------------+ | Red Hat Enterprise Linux 8.10 | SKIPPED | PASS | SKIPPED | SKIPPED | SKIPPED | SKIPPED | +-------------------------------+-------------------------+--------------------+-------------------+----------------------+-------------------+------------------+ | Red Hat Enterprise Linux 9.5 | SKIPPED | PASS | SKIPPED | SKIPPED | SKIPPED | SKIPPED | +-------------------------------+-------------------------+--------------------+-------------------+----------------------+-------------------+------------------+ | Ubuntu 22.04 | SKIPPED | PASS | SKIPPED | SKIPPED | PASS | SKIPPED | +-------------------------------+-------------------------+--------------------+-------------------+----------------------+-------------------+------------------+ Windows Server 2022 Kernel: 10.0.20348.2031 Compiler: clang 15.0.7, gcc 14.1.0 (MinGW), and MSVC VS 19.39.33521 Ubuntu 20.04 Kernel: 4.19 Compiler: gcc gcc (Ubuntu 9.4.0-1ubuntu1~20.04.2) 9.4.0 FreeBSD 14.2 Kernel: 14.2-RELEASE Compiler: clang 18.1.6 CentOS Stream 9 Kernel: 5.15 Compiler: gcc gcc (GCC) 11.5.0 20240719 (Red Hat 11.5.0-11) CentOS Stream 10 Kernel: 5.15 Compiler: gcc gcc (GCC) 14.2.1 20250110 (Red Hat 14.2.1-8) Debian GNU/Linux 12 Kernel: 5.15 Compiler: gcc gcc (Debian 12.2.0-14+deb12u1) 12.2.0 Fedora Linux 42 Kernel: 5.15 Compiler: clang gcc (GCC) 15.2.1 20250808 (Red Hat 15.2.1-1) openSUSE Leap 15.6 Kernel: 5.15 Compiler: gcc gcc (SUSE Linux) 7.5.0 Red Hat Enterprise Linux 8.10 Kernel: 5.15 Compiler: gcc gcc (GCC) 8.5.0 20210514 (Red Hat 8.5.0-22) Red Hat Enterprise Linux 9.5 Kernel: 5.15 Compiler: gcc gcc (GCC) 11.5.0 20240719 (Red Hat 11.5.0-2) Ubuntu 22.04 Kernel: 5.15 Compiler: gcc gcc (Ubuntu 11.4.0-1ubuntu1~22.04) 11.4.0 To view detailed results, visit: https://lab.dpdk.org/results/dashboard/patchsets/34175/ UNH-IOL DPDK Community Lab To manage your email subscriptions, visit: https://lab.dpdk.org/results/dashboard/preferences/subscriptions/