From mboxrd@z Thu Jan 1 00:00:00 1970 Return-Path: Received: from mails.dpdk.org (mails.dpdk.org [217.70.189.124]) by inbox.dpdk.org (Postfix) with ESMTP id 96D4E4886F for ; Tue, 30 Sep 2025 13:41:49 +0200 (CEST) Received: from mails.dpdk.org (localhost [127.0.0.1]) by mails.dpdk.org (Postfix) with ESMTP id 83333400D7; Tue, 30 Sep 2025 13:41:49 +0200 (CEST) Received: from mail-il1-f225.google.com (mail-il1-f225.google.com [209.85.166.225]) by mails.dpdk.org (Postfix) with ESMTP id EFB46400D7 for ; Tue, 30 Sep 2025 13:41:48 +0200 (CEST) Received: by mail-il1-f225.google.com with SMTP id e9e14a558f8ab-42861442e8eso16484215ab.2 for ; Tue, 30 Sep 2025 04:41:48 -0700 (PDT) DKIM-Signature: v=1; a=rsa-sha256; c=relaxed/relaxed; d=iol.unh.edu; s=unh-iol; t=1759232508; x=1759837308; darn=dpdk.org; h=cc:to:from:subject:message-id:date:from:to:cc:subject:date :message-id:reply-to; bh=9bjkaNDPgXcFGob4Ymy2LjjNFWTL5gmCs/B2vHXY53s=; b=TC4OMx7d5rB7+KEUwaj1vqkQPkXRLJfFLLbDsVId/nifHh898iozHzej+WQK/EiW7/ kD5bTioDN1CXHuzznvKhLheiT7td6FM9aCGRVnQ0DL7Zy9dMRtrvkOuRHeOeTVeY7fzA q9jn64zcpSNs+/Ndi8reLQba6GKxQ+UF6LRxI= X-Google-DKIM-Signature: v=1; a=rsa-sha256; c=relaxed/relaxed; d=1e100.net; s=20230601; t=1759232508; x=1759837308; h=cc:to:from:subject:message-id:date:x-gm-message-state:from:to:cc :subject:date:message-id:reply-to; bh=9bjkaNDPgXcFGob4Ymy2LjjNFWTL5gmCs/B2vHXY53s=; b=JziqM7UZU85siOdnrh03ZLhBzgKTLTVI2dEkOeYrGezkqdCOCvyMPjEp15v3i6v6xZ 7lbaOtdsfAFy3v98cP39UgE/9f+y2+OU9ivnDi5WSoWmRZ66SQsvEETmhyFcHLl7lZCc rpdlqWTxPof2/mcWmwXULmoB7CIyhgzAX3Sdd19LTD4nis4XcCsNtr/LUMuptTTfSTUh 95yBV3CNupg/8Jqq8zbl7SOAbb0SdsWqHX91c02q1hRBgbakQNs1kEc0MXkTp4WykQnx fqo/UFMpd5hMucHm5ulIKRWqGauCo//8AUrasEXvGe2Nd5Y1yK2/KhrxyiFUvMuugXWE TUfQ== X-Gm-Message-State: AOJu0YxAYZcfH/jzl+aGTyrL+IukCyH0+QiAD48lMAz5gxyL0Xz+FVTU SI0i1gOZET9RD54068O2G1xi/VPAt0jC0f/7JCd3xsbrxYFJzGvzd8Xp+NxuaRjEI2T0PUkr/B9 ThJdThVfxvM+RyRdEs8vdXX8bcYmyadl09WdOzatmSZFv X-Gm-Gg: ASbGncvx0/eSJTc42NSSryM2B2bqZIPMc8H4pE+PZyIIogNL3nDZqkXduf5EgFz/wKQ oKo7pkmYVOc+gOHjkkBoZ74BcAJEdEXIVOt25JQC3FomghnbNEwn2Z0z0eK2EQfaHg7H9vcBWnE uHfF3J+c0dzL1oK6xpOz9NbMwwzQkPkYZAZMiJkbRGFSbTR6UqaB7hKX1/rvF9U+1QEdipQmoOv C6/JFsPp0bSWA2E37259a5nLD2EhchT6zHUA0oM6PssyzGLujlQBxcgEy9iNFh1uZtYlsfezaHy DQJAlz2/OFKP6TBI4Cr3h1m8uSCQrmoH+DX0DY0BsrlnyKNLLpl2OkFlNS4Tmi4jfUOoQYyzJq0 vJQ== X-Google-Smtp-Source: AGHT+IGIDUKsYnSR4bLZR+xMhTrRLxXktNOLdfUUOO+wwmK3Dc9eeAYrKcMzifrLbuN7/0KMOsZFUdWyF3J2 X-Received: by 2002:a05:6e02:1d8b:b0:427:8d45:a566 with SMTP id e9e14a558f8ab-4278d45a737mr189169975ab.17.1759232508263; Tue, 30 Sep 2025 04:41:48 -0700 (PDT) Received: from postal.iol.unh.edu (postal.iol.unh.edu. [132.177.123.84]) by smtp-relay.gmail.com with ESMTPS id 8926c6da1cb9f-574b7ae82a5sm315647173.20.2025.09.30.04.41.48 (version=TLS1_2 cipher=ECDHE-ECDSA-AES128-GCM-SHA256 bits=128/128); Tue, 30 Sep 2025 04:41:48 -0700 (PDT) X-Relaying-Domain: iol.unh.edu Date: Tue, 30 Sep 2025 04:41:48 -0700 (PDT) Message-ID: <68dbc1fc.050a0220.1e5bba.31cdSMTPIN_ADDED_MISSING@mx.google.com> Received: from [172.21.0.3] (unknown [172.18.0.240]) by postal.iol.unh.edu (Postfix) with ESMTP id E886A6051830; Tue, 30 Sep 2025 07:41:47 -0400 (EDT) Subject: |SUCCESS| [GIT MASTER] 9845e5848bbe337306fb6ae2a6b1ce5e6ab5b714 From: dpdklab@iol.unh.edu To: Test Report Cc: dpdk-test-reports@iol.unh.edu, Bruce Richardson Content-Type: text/plain X-BeenThere: test-report@dpdk.org X-Mailman-Version: 2.1.29 Precedence: list List-Id: automatic DPDK test reports List-Unsubscribe: , List-Archive: List-Post: List-Help: List-Subscribe: , Errors-To: test-report-bounces@dpdk.org _Testing PASS_ Branch: dpdk-next-net-intel 9845e5848bbe337306fb6ae2a6b1ce5e6ab5b714 --> testing pass Upstream job id: Windows-Compile-DPDK-Native#31323 Test environment and result as below: +---------------------+--------------------+-------------------+-------------------------+ | Environment | dpdk_meson_compile | dpdk_msvc_compile | dpdk_llvm_clang_compile | +=====================+====================+===================+=========================+ | Ubuntu 20.04 | PASS | SKIPPED | SKIPPED | +---------------------+--------------------+-------------------+-------------------------+ | FreeBSD 14.2 | PASS | SKIPPED | SKIPPED | +---------------------+--------------------+-------------------+-------------------------+ | Windows Server 2022 | SKIPPED | PASS | PASS | +---------------------+--------------------+-------------------+-------------------------+ Ubuntu 20.04 Kernel: 4.19 Compiler: gcc gcc (Ubuntu 9.4.0-1ubuntu1~20.04.2) 9.4.0 FreeBSD 14.2 Kernel: 14.2-RELEASE Compiler: clang 18.1.6 Windows Server 2022 Kernel: 10.0.20348.2031 Compiler: clang 15.0.7, gcc 14.1.0 (MinGW), and MSVC VS 19.39.33521 To view detailed results, visit: https://lab.dpdk.org/results/dashboard/tarballs/35059/ UNH-IOL DPDK Community Lab To manage your email subscriptions, visit: https://lab.dpdk.org/results/dashboard/preferences/subscriptions/