From mboxrd@z Thu Jan 1 00:00:00 1970 Return-Path: Received: from mails.dpdk.org (mails.dpdk.org [217.70.189.124]) by inbox.dpdk.org (Postfix) with ESMTP id 5CC724886F for ; Tue, 30 Sep 2025 13:48:32 +0200 (CEST) Received: from mails.dpdk.org (localhost [127.0.0.1]) by mails.dpdk.org (Postfix) with ESMTP id 38811400D7; Tue, 30 Sep 2025 13:48:32 +0200 (CEST) Received: from mail-vs1-f98.google.com (mail-vs1-f98.google.com [209.85.217.98]) by mails.dpdk.org (Postfix) with ESMTP id C2308400D7 for ; Tue, 30 Sep 2025 13:48:30 +0200 (CEST) Received: by mail-vs1-f98.google.com with SMTP id ada2fe7eead31-5b59694136bso2869906137.0 for ; Tue, 30 Sep 2025 04:48:30 -0700 (PDT) DKIM-Signature: v=1; a=rsa-sha256; c=relaxed/relaxed; d=iol.unh.edu; s=unh-iol; t=1759232910; x=1759837710; darn=dpdk.org; h=cc:to:from:subject:message-id:date:from:to:cc:subject:date :message-id:reply-to; bh=7VFt6z4r1nrnj5PImodcF0nYa5RZaq32h5MBL/H7fro=; b=Ml7gi1896HtpGGJnnzMSo9bVx6h8ugEDeWgaYtyHSlABSQASh7jogbyE2l91cT6xOE Ft4V5xrdsrKtm/5LnsSMLCuXSX5Li6yDcaRKPboRRY2qd8NdcCAyyFSu+DAoOOeoUG4A 2SNyIIb9UGJ72FAEX0cUX/5hj5ewkFoCydano= X-Google-DKIM-Signature: v=1; a=rsa-sha256; c=relaxed/relaxed; d=1e100.net; s=20230601; t=1759232910; x=1759837710; h=cc:to:from:subject:message-id:date:x-gm-message-state:from:to:cc :subject:date:message-id:reply-to; bh=7VFt6z4r1nrnj5PImodcF0nYa5RZaq32h5MBL/H7fro=; b=W/j2isR2n54508I/RYtv1rW9KI8Iou6JBegIlj8wflZd87PPTflotd5DpilYzgAPC9 omyGcdlzjlxQffRjzACEi/ZrUCLX9FDUgrFvQOMa2R0NmroRYRHtDC9eM8BW62p/QY0o TV0mbXpUFxIfEK8AdD5l7wrvF91euYQcetaySHk5fbmwenEmI2hqjesgm5xak8ArQipX VlvktzvQs177MT8n1lKC3wR2v1X9wiJQIqNnKw06pqHqFn654dRB/iLP5r3sBeKIk6tA BFowrLdwnp000tiEo2yYakRD84dfGjYcXxDFE87bjN0vz121at19KE88mQ0llEUMGzvb J7rw== X-Gm-Message-State: AOJu0YzQ6ah179/spgiv+TJ6ATU43wHN8phmCKEitYJRWEXx7bXKQFUF MeftP/yNqsaJog1stUGFQii8/nWfMlgZ5F3eWDhywKpB77hJelN9MTfdO1blhHpdg+LbWogIKnH NrhgbBu7KTt2mF5/CECZ+8rMgKDkwM5TzaB68XcF62g0I X-Gm-Gg: ASbGncsw/GwJv2HxNrEdkFjKGXUEuaq14/znJAuHC755GufjXL0SdOu1u6KxErh77QP /GiwGbVktL5bbWIYZIwaYDX7xUZCQ4MGa5NqNSGe0v1LUwd3Xaay7BtpTat/dzIbVjqkdoeO456 zoJ/IBfMTBSu9LAY5HC/OzOBgLlQusBW6bd7UgbF2IqbB8x4HeYxNLOWa57eP5BJ12CI/vABDfU YwIW9pvedFX85I/nctiZ5xHgeE/ne9NpTYgf+Qn6LtDGFeGAa30p5ig328ib0FnHkiQ4wbSZ4Oy i8AYYcFS6mBGzHiJjzWfZi/Rnuz/2us8SmXnDir7BrrkNGtb7Brcr9gH700o8mF6Lx/40Ptls1q bxw== X-Google-Smtp-Source: AGHT+IEKkQdSLwAMfKr/QTM8CUq6djjrFiDi2yuz78qOHxEUYDtZpI/bKYDtsMwpORF+Ql+O1q2/LdxC5S0g X-Received: by 2002:a05:6102:442c:b0:5a3:6a6f:21ad with SMTP id ada2fe7eead31-5acd0182a34mr7227524137.30.1759232909927; Tue, 30 Sep 2025 04:48:29 -0700 (PDT) Received: from postal.iol.unh.edu (postal.iol.unh.edu. [132.177.123.84]) by smtp-relay.gmail.com with ESMTPS id 71dfb90a1353d-54c2c55b9c5sm513974e0c.7.2025.09.30.04.48.29 (version=TLS1_2 cipher=ECDHE-ECDSA-AES128-GCM-SHA256 bits=128/128); Tue, 30 Sep 2025 04:48:29 -0700 (PDT) X-Relaying-Domain: iol.unh.edu Date: Tue, 30 Sep 2025 04:48:29 -0700 (PDT) Message-ID: <68dbc38d.050a0220.123c63.eebfSMTPIN_ADDED_MISSING@mx.google.com> Received: from [172.21.0.3] (unknown [172.18.0.240]) by postal.iol.unh.edu (Postfix) with ESMTP id 5C39A6051830; Tue, 30 Sep 2025 07:48:29 -0400 (EDT) Subject: |SUCCESS| [GIT MASTER] 9845e5848bbe337306fb6ae2a6b1ce5e6ab5b714 From: dpdklab@iol.unh.edu To: Test Report Cc: dpdk-test-reports@iol.unh.edu, Bruce Richardson Content-Type: text/plain X-BeenThere: test-report@dpdk.org X-Mailman-Version: 2.1.29 Precedence: list List-Id: automatic DPDK test reports List-Unsubscribe: , List-Archive: List-Post: List-Help: List-Subscribe: , Errors-To: test-report-bounces@dpdk.org _Testing PASS_ Branch: dpdk-next-net-intel 9845e5848bbe337306fb6ae2a6b1ce5e6ab5b714 --> testing pass Upstream job id: Generic-VM-Unit-Test-DPDK#31492 Test environment and result as below: +-------------------------------+----------------+ | Environment | dpdk_unit_test | +===============================+================+ | CentOS Stream 9 | PASS | +-------------------------------+----------------+ | Debian GNU/Linux 12 | PASS | +-------------------------------+----------------+ | CentOS Stream 10 | PASS | +-------------------------------+----------------+ | Fedora Linux 40 | PASS | +-------------------------------+----------------+ | Fedora Linux 42 | PASS | +-------------------------------+----------------+ | Fedora Linux 41 | PASS | +-------------------------------+----------------+ | Red Hat Enterprise Linux 9.5 | PASS | +-------------------------------+----------------+ | Ubuntu 22.04 | PASS | +-------------------------------+----------------+ | Ubuntu 20.04 | PASS | +-------------------------------+----------------+ | Red Hat Enterprise Linux 8.10 | PASS | +-------------------------------+----------------+ | Ubuntu 24.04 | PASS | +-------------------------------+----------------+ | Windows Server 2022 | PASS | +-------------------------------+----------------+ CentOS Stream 9 Kernel: 5.15 Compiler: gcc gcc (GCC) 11.5.0 20240719 (Red Hat 11.5.0-11) Debian GNU/Linux 12 Kernel: 5.15 Compiler: gcc gcc (Debian 12.2.0-14+deb12u1) 12.2.0 CentOS Stream 10 Kernel: 5.15 Compiler: gcc gcc (GCC) 14.2.1 20250110 (Red Hat 14.2.1-8) Fedora Linux 40 Kernel: 5.15 Compiler: gcc gcc (GCC) 14.2.1 20240912 (Red Hat 14.2.1-3) Fedora Linux 42 Kernel: 5.15 Compiler: gcc gcc (GCC) 15.2.1 20250808 (Red Hat 15.2.1-1) Fedora Linux 41 Kernel: 5.15 Compiler: gcc gcc (GCC) 14.3.1 20250523 (Red Hat 14.3.1-1) Red Hat Enterprise Linux 9.5 Kernel: 5.15 Compiler: gcc gcc (GCC) 11.5.0 20240719 (Red Hat 11.5.0-2) Ubuntu 22.04 Kernel: 5.15 Compiler: gcc gcc (Ubuntu 11.4.0-1ubuntu1~22.04) 11.4.0 Ubuntu 20.04 Kernel: 5.15 Compiler: gcc gcc (Ubuntu 9.4.0-1ubuntu1~20.04.2) 9.4.0 Red Hat Enterprise Linux 8.10 Kernel: 5.15 Compiler: gcc gcc (GCC) 8.5.0 20210514 (Red Hat 8.5.0-22) Ubuntu 24.04 Kernel: 5.15 Compiler: gcc gcc (Ubuntu 13.3.0-6ubuntu2~24.04) 13.3.0 Windows Server 2022 Kernel: 10.0.20348.2031 Compiler: clang 15.0.7, gcc 14.1.0 (MinGW), and MSVC VS 19.39.33521 To view detailed results, visit: https://lab.dpdk.org/results/dashboard/tarballs/35059/ UNH-IOL DPDK Community Lab To manage your email subscriptions, visit: https://lab.dpdk.org/results/dashboard/preferences/subscriptions/