From mboxrd@z Thu Jan 1 00:00:00 1970 Return-Path: Received: from mails.dpdk.org (mails.dpdk.org [217.70.189.124]) by inbox.dpdk.org (Postfix) with ESMTP id A4CDD4886F for ; Tue, 30 Sep 2025 13:49:16 +0200 (CEST) Received: from mails.dpdk.org (localhost [127.0.0.1]) by mails.dpdk.org (Postfix) with ESMTP id A06BB400EF; Tue, 30 Sep 2025 13:49:16 +0200 (CEST) Received: from mail-qv1-f98.google.com (mail-qv1-f98.google.com [209.85.219.98]) by mails.dpdk.org (Postfix) with ESMTP id EF98D400EF for ; Tue, 30 Sep 2025 13:49:14 +0200 (CEST) Received: by mail-qv1-f98.google.com with SMTP id 6a1803df08f44-791875a9071so55700026d6.1 for ; Tue, 30 Sep 2025 04:49:14 -0700 (PDT) DKIM-Signature: v=1; a=rsa-sha256; c=relaxed/relaxed; d=iol.unh.edu; s=unh-iol; t=1759232954; x=1759837754; darn=dpdk.org; h=cc:to:from:subject:message-id:date:from:to:cc:subject:date :message-id:reply-to; bh=v1dkJx5jDuVsHxseFlZbFgfHGsd67wWCCCcvP1OofwY=; b=jEJWO4v0VBW2kK9iH8EoMJPoblImIm/jpSwN1lQs+LA2u/svcHgqi3ZYbbwaqyJvOQ LHxv/HmPzkK4TPmqO0GpHbX6/CF18BM2h9nArapsDge4tDvT0tu4AQda2Rqrocjngin+ 9P6sHKnwmm2MBDOkiL5NiQgNdO0bevk+rwtMU= X-Google-DKIM-Signature: v=1; a=rsa-sha256; c=relaxed/relaxed; d=1e100.net; s=20230601; t=1759232954; x=1759837754; h=cc:to:from:subject:message-id:date:x-gm-message-state:from:to:cc :subject:date:message-id:reply-to; bh=v1dkJx5jDuVsHxseFlZbFgfHGsd67wWCCCcvP1OofwY=; b=PXtZqfGsBjxGRmPBhnh4KDOd0WyKj9TXVWQv4/oC2CrBplGwShlXs4B5Pg9A+cQ0mS yw1q3XYMOgamofO0g5dR18QCQ7IAQa4ddOYR3QTIx2bWpr3YogpB1aajJUMa5v7vfXHc 9RIExFgcWdrdMBK2LIfWBl4CUcGEd1+1jHpRU5wykvTTP5CtYXdyfl4wCk81x6jn1sVF WdPRSBID/LIOCwDw8T2eorv9BqwQIx6OC8WTq+EPkU7YJL2h5RTnAm41WIGNNYqbT/XS /FCDY+XTzYullgh93xjZJxv+6pT7GwCfbue2RzNsHqRFmkxgn90dN2rLxL/4qeFDcQ4a 9brA== X-Gm-Message-State: AOJu0Yxn77iP+5CdYtoGJgJdilEibf/io1XzfGOj9OS/QgnaAhs4v85M 019p9eEbBDay0DUxOLMh3j+xvg64agInaJPD52hCxPhksGDAo/3dZr4+cmx8YsKLyx1SHkUS5xE 3NEhQ4+3xBM6hb3W8MLSsjDSWi2LtNkK6bXxyOQcMYmjQfyk26EMCBcoUHcwK X-Gm-Gg: ASbGncs8u+848ZgUXtYWALgUqCBxDYACu0S4XqvBlilYdoN9n0/b7BgKu4kMYic9rQU 99cX9Vlg7jZ1aoM28RLJu9aQcbjDY1vQ9r3lSsiFuLirnENrJuXpM06mzCVozeIctEXrKwXe7r7 KWdBbvvyllKuxql8LKGBZyuEvTZWY3JxqiMU0N3tDKK69fDNVdcvaEOSwK0ldXUrCdf5TFGkI25 Y1/CoUr4+kQlRTmhSgUUfCGmCUZEjUER1JvKUfL0yMbHBQgr+qUlDxV8ONugVQTI2yPgzbnuU2v D9bfOGwWzWjNUUSVEB5p7KO4TEcfQmuOMzNc4+O/Dh3BoUc74oa9meA= X-Google-Smtp-Source: AGHT+IG6R2DWjcDgq65Hi14J+M5oAx1oE3RcYPGaU2zhdXgjGAzj5SeBEayxEyz2vFp2qX8yzKoXJXWusYs4 X-Received: by 2002:ad4:5ae2:0:b0:7c2:d5b7:dd54 with SMTP id 6a1803df08f44-7fc29999289mr299658836d6.18.1759232954357; Tue, 30 Sep 2025 04:49:14 -0700 (PDT) Received: from postal.iol.unh.edu (postal.iol.unh.edu. [2606:4100:3880:1234::84]) by smtp-relay.gmail.com with ESMTPS id 6a1803df08f44-801325cb12csm10562406d6.8.2025.09.30.04.49.14 (version=TLS1_2 cipher=ECDHE-ECDSA-AES128-GCM-SHA256 bits=128/128); Tue, 30 Sep 2025 04:49:14 -0700 (PDT) X-Relaying-Domain: iol.unh.edu Date: Tue, 30 Sep 2025 04:49:14 -0700 (PDT) Message-ID: <68dbc3ba.050a0220.3ba9ac.109eSMTPIN_ADDED_MISSING@mx.google.com> Received: from [172.21.0.2] (unknown [172.18.0.240]) by postal.iol.unh.edu (Postfix) with ESMTP id 1C2F86051830; Tue, 30 Sep 2025 07:49:14 -0400 (EDT) Subject: |SUCCESS| [GIT MASTER] 9845e5848bbe337306fb6ae2a6b1ce5e6ab5b714 From: dpdklab@iol.unh.edu To: Test Report Cc: dpdk-test-reports@iol.unh.edu, Bruce Richardson Content-Type: text/plain X-BeenThere: test-report@dpdk.org X-Mailman-Version: 2.1.29 Precedence: list List-Id: automatic DPDK test reports List-Unsubscribe: , List-Archive: List-Post: List-Help: List-Subscribe: , Errors-To: test-report-bounces@dpdk.org _Testing PASS_ Branch: dpdk-next-net-intel 9845e5848bbe337306fb6ae2a6b1ce5e6ab5b714 --> testing pass Upstream job id: Windows-Compile-DPDK-Native#31324 Test environment and result as below: +---------------------+--------------------+-------------------+-------------------------+----------------------+ | Environment | dpdk_meson_compile | dpdk_msvc_compile | dpdk_llvm_clang_compile | dpdk_mingw64_compile | +=====================+====================+===================+=========================+======================+ | Ubuntu 20.04 | PASS | SKIPPED | SKIPPED | SKIPPED | +---------------------+--------------------+-------------------+-------------------------+----------------------+ | FreeBSD 14.2 | PASS | SKIPPED | SKIPPED | SKIPPED | +---------------------+--------------------+-------------------+-------------------------+----------------------+ | Windows Server 2022 | SKIPPED | PASS | PASS | PASS | +---------------------+--------------------+-------------------+-------------------------+----------------------+ Ubuntu 20.04 Kernel: 4.19 Compiler: gcc gcc (Ubuntu 9.4.0-1ubuntu1~20.04.2) 9.4.0 FreeBSD 14.2 Kernel: 14.2-RELEASE Compiler: clang 18.1.6 Windows Server 2022 Kernel: 10.0.20348.2031 Compiler: clang 15.0.7, gcc 14.1.0 (MinGW), and MSVC VS 19.39.33521 To view detailed results, visit: https://lab.dpdk.org/results/dashboard/tarballs/35059/ UNH-IOL DPDK Community Lab To manage your email subscriptions, visit: https://lab.dpdk.org/results/dashboard/preferences/subscriptions/