From mboxrd@z Thu Jan 1 00:00:00 1970 Return-Path: Received: from mails.dpdk.org (mails.dpdk.org [217.70.189.124]) by inbox.dpdk.org (Postfix) with ESMTP id 3991C4886F for ; Tue, 30 Sep 2025 13:54:15 +0200 (CEST) Received: from mails.dpdk.org (localhost [127.0.0.1]) by mails.dpdk.org (Postfix) with ESMTP id 17775400D7; Tue, 30 Sep 2025 13:54:15 +0200 (CEST) Received: from mail-qv1-f99.google.com (mail-qv1-f99.google.com [209.85.219.99]) by mails.dpdk.org (Postfix) with ESMTP id DD8F2400D7 for ; Tue, 30 Sep 2025 13:54:13 +0200 (CEST) Received: by mail-qv1-f99.google.com with SMTP id 6a1803df08f44-71b9d805f2fso49516806d6.0 for ; Tue, 30 Sep 2025 04:54:13 -0700 (PDT) DKIM-Signature: v=1; a=rsa-sha256; c=relaxed/relaxed; d=iol.unh.edu; s=unh-iol; t=1759233253; x=1759838053; darn=dpdk.org; h=cc:to:from:subject:message-id:date:from:to:cc:subject:date :message-id:reply-to; bh=f0loM7J16YhOa5BIN8HXVzONYRycrMT+dLh2DffPOoU=; b=d5GHlBQiQJfk3Owk5hkEAX9h9xBvSmc/eSK9/xvIINk01NNGUwuApNIE1f9UV13Ob1 k7YYRjuYRW7on+AHBWfqjCwr6BvAfMRJ1mWFK8aoSXdFv7r+qsa7RrFHPWCArrbLa14m FQ2QCY1uWKCkOorx4RbT49csNEFmNaXavhB24= X-Google-DKIM-Signature: v=1; a=rsa-sha256; c=relaxed/relaxed; d=1e100.net; s=20230601; t=1759233253; x=1759838053; h=cc:to:from:subject:message-id:date:x-gm-message-state:from:to:cc :subject:date:message-id:reply-to; bh=f0loM7J16YhOa5BIN8HXVzONYRycrMT+dLh2DffPOoU=; b=Eh8pRe/pouXMrugmuebmydRB86/OII+Ptaq7HG/BF3fxgqZnSpaF2ELSBNlAG+VNbu W0MpQ9ILGSMzX1SlckzlnBsyo38SW01DEkV5Q1IcJ0HZzmjhHA7v4OE0T1CBFbLqmdAr +VUoG+i0Zfg2m10kNSP7CFNp9+rc+bll6hcHyyxAdjRcSqdt9bSkoSM2bRfBZIcHxlMr Zk/eKbYv3IrZxseV1zVBMFEoQM+xgS5Ra5hzJUKteAlECWXnobJlIvcu+B31zPszgcNy PvEn1wJjJiXpg752zTQFFrUKkTiMDKgxgUmzQ/IpCSvD+jcS/96/gN1lt7KrQvmyqpgy US0Q== X-Gm-Message-State: AOJu0YzrnJNdsxz/XaPcR4eegpAHK9oLOrINxEd97ckFXBkKiJUFHPRT GQmAUuW5JLbrm/dNwCIevNB1aZ0wt2vpnXF/n37i0Ie6TbZgn4DsI9XuVpaEhUVvHW5vyjpVYZC 5nVcUYPEugUtT6fWHENjmctD6TjJbOd/lSAxvTq6jmZri4V1yhAqQ2lLoRCXD X-Gm-Gg: ASbGncvVbSmHj9utkKbd0TUYJ4k8YQ7RlmjqZgTKQXUJr1BuyfB6+hmeqdbtS3y98eH vbuszrBpQd7ntIC2qzqgXWCe7V4lvHUL+fbvyrIRcnKx4LPsZDsgNfN+q/UaDuzUWZfWUuDcvoA B7Svsc3oUEDcK3vAUMchFr09X2NlKFO5blqCK6hgLgp3EgCrptNK/jTUPwH3HFkAMLQxeu3dzwq 6d3wtx6eFaX0z0FGb80pWTLYTC/UDvkdn3p67NUnB9NV3hRDZ8tdXU+fyWd5XHot7G4rPjVvtsW +YUqJzjqFTYum7GxSha0rh2nHSqf9qNLEBK45brF5F5X6G/LeomtG54= X-Google-Smtp-Source: AGHT+IFGYA2ZCWvfvpcCPphd/k3mGuwpk7bbBvSZdWsm6EnUGJnSukKJJqu+SgOurPos3oQZyTfP7qQmKuqx X-Received: by 2002:a05:6214:501a:b0:787:5934:697 with SMTP id 6a1803df08f44-7fc2863fbcfmr269033416d6.8.1759233253143; Tue, 30 Sep 2025 04:54:13 -0700 (PDT) Received: from postal.iol.unh.edu (postal.iol.unh.edu. [2606:4100:3880:1234::84]) by smtp-relay.gmail.com with ESMTPS id 6a1803df08f44-80168db0705sm10311306d6.37.2025.09.30.04.54.13 (version=TLS1_2 cipher=ECDHE-ECDSA-AES128-GCM-SHA256 bits=128/128); Tue, 30 Sep 2025 04:54:13 -0700 (PDT) X-Relaying-Domain: iol.unh.edu Date: Tue, 30 Sep 2025 04:54:13 -0700 (PDT) Message-ID: <68dbc4e5.0c0a0220.34e07c.db03SMTPIN_ADDED_MISSING@mx.google.com> Received: from [172.21.0.3] (unknown [172.18.0.240]) by postal.iol.unh.edu (Postfix) with ESMTP id CC8AC6051830; Tue, 30 Sep 2025 07:54:12 -0400 (EDT) Subject: |SUCCESS| [GIT MASTER] 9845e5848bbe337306fb6ae2a6b1ce5e6ab5b714 From: dpdklab@iol.unh.edu To: Test Report Cc: dpdk-test-reports@iol.unh.edu, Bruce Richardson Content-Type: text/plain X-BeenThere: test-report@dpdk.org X-Mailman-Version: 2.1.29 Precedence: list List-Id: automatic DPDK test reports List-Unsubscribe: , List-Archive: List-Post: List-Help: List-Subscribe: , Errors-To: test-report-bounces@dpdk.org _Testing PASS_ Branch: dpdk-next-net-intel 9845e5848bbe337306fb6ae2a6b1ce5e6ab5b714 --> testing pass Upstream job id: Generic-VM-Unit-Test-DPDK#31493 Test environment and result as below: +-------------------------------+----------------+ | Environment | dpdk_unit_test | +===============================+================+ | CentOS Stream 9 | PASS | +-------------------------------+----------------+ | Debian GNU/Linux 12 | PASS | +-------------------------------+----------------+ | CentOS Stream 10 | PASS | +-------------------------------+----------------+ | Fedora Linux 40 | PASS | +-------------------------------+----------------+ | Fedora Linux 42 | PASS | +-------------------------------+----------------+ | Fedora Linux 41 | PASS | +-------------------------------+----------------+ | Red Hat Enterprise Linux 9.5 | PASS | +-------------------------------+----------------+ | Ubuntu 22.04 | PASS | +-------------------------------+----------------+ | Ubuntu 20.04 | PASS | +-------------------------------+----------------+ | Red Hat Enterprise Linux 8.10 | PASS | +-------------------------------+----------------+ | Ubuntu 24.04 | PASS | +-------------------------------+----------------+ | Windows Server 2022 | PASS | +-------------------------------+----------------+ CentOS Stream 9 Kernel: 5.15 Compiler: gcc gcc (GCC) 11.5.0 20240719 (Red Hat 11.5.0-11) Debian GNU/Linux 12 Kernel: 5.15 Compiler: gcc gcc (Debian 12.2.0-14+deb12u1) 12.2.0 CentOS Stream 10 Kernel: 5.15 Compiler: gcc gcc (GCC) 14.2.1 20250110 (Red Hat 14.2.1-8) Fedora Linux 40 Kernel: 5.15 Compiler: gcc gcc (GCC) 14.2.1 20240912 (Red Hat 14.2.1-3) Fedora Linux 42 Kernel: 5.15 Compiler: gcc gcc (GCC) 15.2.1 20250808 (Red Hat 15.2.1-1) Fedora Linux 41 Kernel: 5.15 Compiler: gcc gcc (GCC) 14.3.1 20250523 (Red Hat 14.3.1-1) Red Hat Enterprise Linux 9.5 Kernel: 5.15 Compiler: gcc gcc (GCC) 11.5.0 20240719 (Red Hat 11.5.0-2) Ubuntu 22.04 Kernel: 5.15 Compiler: gcc gcc (Ubuntu 11.4.0-1ubuntu1~22.04) 11.4.0 Ubuntu 20.04 Kernel: 5.15 Compiler: gcc gcc (Ubuntu 9.4.0-1ubuntu1~20.04.2) 9.4.0 Red Hat Enterprise Linux 8.10 Kernel: 5.15 Compiler: gcc gcc (GCC) 8.5.0 20210514 (Red Hat 8.5.0-22) Ubuntu 24.04 Kernel: 5.15 Compiler: gcc gcc (Ubuntu 13.3.0-6ubuntu2~24.04) 13.3.0 Windows Server 2022 Kernel: 10.0.20348.2031 Compiler: clang 15.0.7, gcc 14.1.0 (MinGW), and MSVC VS 19.39.33521 To view detailed results, visit: https://lab.dpdk.org/results/dashboard/tarballs/35059/ UNH-IOL DPDK Community Lab To manage your email subscriptions, visit: https://lab.dpdk.org/results/dashboard/preferences/subscriptions/