From mboxrd@z Thu Jan 1 00:00:00 1970 Return-Path: Received: from mails.dpdk.org (mails.dpdk.org [217.70.189.124]) by inbox.dpdk.org (Postfix) with ESMTP id B5B3748871 for ; Tue, 30 Sep 2025 14:28:19 +0200 (CEST) Received: from mails.dpdk.org (localhost [127.0.0.1]) by mails.dpdk.org (Postfix) with ESMTP id AFFC6400D7; Tue, 30 Sep 2025 14:28:19 +0200 (CEST) Received: from mail-pg1-f227.google.com (mail-pg1-f227.google.com [209.85.215.227]) by mails.dpdk.org (Postfix) with ESMTP id 118AF400D7 for ; Tue, 30 Sep 2025 14:28:19 +0200 (CEST) Received: by mail-pg1-f227.google.com with SMTP id 41be03b00d2f7-b555b0fb839so4296906a12.3 for ; Tue, 30 Sep 2025 05:28:19 -0700 (PDT) DKIM-Signature: v=1; a=rsa-sha256; c=relaxed/relaxed; d=iol.unh.edu; s=unh-iol; t=1759235298; x=1759840098; darn=dpdk.org; h=references:in-reply-to:cc:to:from:subject:message-id:date:from:to :cc:subject:date:message-id:reply-to; bh=vvLZHNPeXC7jqazRGrQSAQoCwVaq6H1JPe/ra9ZUoqQ=; b=e7/OnFMOCcrvb39Ey1r5NFnZP/1cSIacH/+sH6b+qApsf+e+ZWxagXSordHTwdrtPc yKK+mQDVKFwrx0n78sjezOUcdFyOLrb7t3KtKNsRXXdc0IFVEIwpGsHc60hJb+XbteX6 EL48j/JD3hAs1TjDdw/x0f1xGoPbOL5ynsdfI= X-Google-DKIM-Signature: v=1; a=rsa-sha256; c=relaxed/relaxed; d=1e100.net; s=20230601; t=1759235298; x=1759840098; h=references:in-reply-to:cc:to:from:subject:message-id:date :x-gm-message-state:from:to:cc:subject:date:message-id:reply-to; bh=vvLZHNPeXC7jqazRGrQSAQoCwVaq6H1JPe/ra9ZUoqQ=; b=HbXkfvwg6mpQZ5CsNsM1Tdjb4iLEhVWz1d8Unn7P1hP5Qbc5bRgJCaV27+pvWe+log Nn+ku/zzIQu4XJVlg5K9IskkkpeMP4OyMoDrxT8lbTdk9SNT1c+n+/wA2cOmhhczlwbe kor5xA3jXQ3tN2Ixw89RgbR+MXyiaH1DLxUv6i/rJ8gZRDaM+n1OFpUEGVV4vDcMGTLd i2Lob/eWaCzKfXzxKT6yqTa5qSn/gJU96sSaBl4P4obkwlhV1+TdnfwoueU6sJ1cxG3W OxQMA93VOgIyXwHuGtt+0QuP5Xy6RLCkg0DqX6dD4KPVVXTOMCQgDya3TDJJpRf3AK06 WTBw== X-Gm-Message-State: AOJu0Yyj4oEiQrNveR8G+s0O9o6Xxgx+sJmWDSikPaBR6YFYobfUh6Ns VFRkh/JT8T5TXjFHwaozTRwdfTTqcHOqXCRIiEZ8G4keZJ9GsEiFP4pETLPnv1/80wca0XL/Q0J dNyFWljHtFi4V6MbDnIvRevZcr/aunfWB+/sP9ifuqiTwEg8pVFQdU7pOpnW7 X-Gm-Gg: ASbGncuUoscY+rbHOTQKb/vKqAkqhRBXRbK1fUbKiGLBq8ZczulXW0pse5GgIduKhl6 3WLMVXgObTvm7mYjWlwC3zy4IZ04QmImy8T+wIxt/T//SKkt7KgZgzPWTdPZnOROMVIOo9tPkh1 f1NZhMd1H9aC2Tc4Oqba2uqN0ZcO2y7quzcmBySB4zesQg2+0SJSLPZfGx827Bm1KcOiLWNjEKL M+MXKLEnPrnqo36e/w6DxA990VVhWIKD85Fw+1H/+NJTUporXK3u883w39bDMgJQEN480n6vgEo kNw7wiGJj2dTjQuFKFc4ZAyQOhy3a2vngYROHpuU3bJKwCGZsQMlddY= X-Google-Smtp-Source: AGHT+IHYA4yy1vu4203yn6M8mMlji8wLJYQ2jK/3EpqDdSMQUAZaPAnSKseKaTgRficvcM/ApkpkpEZJjT8+ X-Received: by 2002:a17:902:e74a:b0:266:702a:616b with SMTP id d9443c01a7336-27ed4a3ebddmr243321715ad.18.1759235298014; Tue, 30 Sep 2025 05:28:18 -0700 (PDT) Received: from postal.iol.unh.edu (postal.iol.unh.edu. [2606:4100:3880:1234::84]) by smtp-relay.gmail.com with ESMTPS id 98e67ed59e1d1-33476279039sm831496a91.7.2025.09.30.05.28.17 (version=TLS1_2 cipher=ECDHE-ECDSA-AES128-GCM-SHA256 bits=128/128); Tue, 30 Sep 2025 05:28:18 -0700 (PDT) X-Relaying-Domain: iol.unh.edu Date: Tue, 30 Sep 2025 05:28:18 -0700 (PDT) Message-ID: <68dbcce2.170a0220.170dbc.28c3SMTPIN_ADDED_MISSING@mx.google.com> Received: from [172.21.0.4] (unknown [172.18.0.240]) by postal.iol.unh.edu (Postfix) with ESMTP id 406176051830; Tue, 30 Sep 2025 08:28:17 -0400 (EDT) Subject: |SUCCESS| pw157044-157046 [PATCH] [v6,3/3] dts: update tx_offload te From: dpdklab@iol.unh.edu To: Test Report Cc: dpdk-test-reports@iol.unh.edu In-Reply-To: <20250929172734.218467-4-abailey@iol.unh.edu> References: <20250929172734.218467-4-abailey@iol.unh.edu> Content-Type: text/plain X-BeenThere: test-report@dpdk.org X-Mailman-Version: 2.1.29 Precedence: list List-Id: automatic DPDK test reports List-Unsubscribe: , List-Archive: List-Post: List-Help: List-Subscribe: , Errors-To: test-report-bounces@dpdk.org Test-Label: iol-compile-arm64-testing Test-Status: SUCCESS http://dpdk.org/patch/157046 _Testing PASS_ Submitter: Andrew Bailey Date: Monday, September 29 2025 17:27:34 DPDK git baseline: Repo:dpdk-next-dts Branch: master CommitID:b71d7bdf2b663f9fedc1d344b81a8cf65518026c 157044-157046 --> testing pass Upstream job id: Generic-DPDK-Compile-Meson#429823 Test environment and result as below: +------------------------------+--------------------+ | Environment | dpdk_meson_compile | +==============================+====================+ | Red Hat Enterprise Linux 9.5 | PASS | +------------------------------+--------------------+ | Ubuntu 20.04 | PASS | +------------------------------+--------------------+ | Debian GNU/Linux 12 | PASS | +------------------------------+--------------------+ | Fedora Linux 42 | PASS | +------------------------------+--------------------+ | Ubuntu 22.04 | PASS | +------------------------------+--------------------+ | Ubuntu 24.04 | PASS | +------------------------------+--------------------+ | CentOS Stream 9 | PASS | +------------------------------+--------------------+ | CentOS Stream 10 | PASS | +------------------------------+--------------------+ Red Hat Enterprise Linux 9.5 Kernel: 5.4 Compiler: gcc gcc (GCC) 11.5.0 20240719 (Red Hat 11.5.0-2) Ubuntu 20.04 Kernel: 5.15 Compiler: aarch64-linux-gnu-gcc gcc (Ubuntu 9.4.0-1ubuntu1~20.04.2) 9.4.0 Debian GNU/Linux 12 Kernel: 5.4 Compiler: gcc gcc (Debian 12.2.0-14+deb12u1) 12.2.0 Fedora Linux 42 Kernel: 5.4 Compiler: gcc gcc (GCC) 15.2.1 20250808 (Red Hat 15.2.1-1) Ubuntu 22.04 Kernel: 5.4 Compiler: gcc gcc (Ubuntu 11.4.0-1ubuntu1~22.04) 11.4.0 Ubuntu 24.04 Kernel: 5.4 Compiler: gcc gcc (Ubuntu 13.3.0-6ubuntu2~24.04) 13.3.0 CentOS Stream 9 Kernel: 5.4 Compiler: gcc gcc (GCC) 11.5.0 20240719 (Red Hat 11.5.0-11) CentOS Stream 10 Kernel: 5.4 Compiler: gcc gcc (GCC) 14.2.1 20250110 (Red Hat 14.2.1-8) To view detailed results, visit: https://lab.dpdk.org/results/dashboard/patchsets/34174/ UNH-IOL DPDK Community Lab To manage your email subscriptions, visit: https://lab.dpdk.org/results/dashboard/preferences/subscriptions/