From mboxrd@z Thu Jan 1 00:00:00 1970 Return-Path: Received: from mails.dpdk.org (mails.dpdk.org [217.70.189.124]) by inbox.dpdk.org (Postfix) with ESMTP id E22FA48871 for ; Tue, 30 Sep 2025 14:34:31 +0200 (CEST) Received: from mails.dpdk.org (localhost [127.0.0.1]) by mails.dpdk.org (Postfix) with ESMTP id C37F8400D7; Tue, 30 Sep 2025 14:34:31 +0200 (CEST) Received: from mail-oi1-f226.google.com (mail-oi1-f226.google.com [209.85.167.226]) by mails.dpdk.org (Postfix) with ESMTP id C8433400D7 for ; Tue, 30 Sep 2025 14:34:30 +0200 (CEST) Received: by mail-oi1-f226.google.com with SMTP id 5614622812f47-43f988447b4so236016b6e.0 for ; Tue, 30 Sep 2025 05:34:30 -0700 (PDT) DKIM-Signature: v=1; a=rsa-sha256; c=relaxed/relaxed; d=iol.unh.edu; s=unh-iol; t=1759235670; x=1759840470; darn=dpdk.org; h=references:in-reply-to:cc:to:from:subject:message-id:date:from:to :cc:subject:date:message-id:reply-to; bh=HYZLTtXw6SUbhnYMjCuTELWw2+io2xvuj/qjTiL/4gw=; b=LvnwNvKnkh4DKKm6Rnnn5znQDDakAvYRmFCSG7RkwexP83CRYBQwRatIOe28cx1k83 QbR5GrKUEpxBsSVmxi87oCpGf/I3dl8NrmQvdVLezFBmkJjLtyBhCLqbwiJBoMSep9BN vVNoLPc/0dXFZD8fz7WMYFaw9zwquLx0QKyjA= X-Google-DKIM-Signature: v=1; a=rsa-sha256; c=relaxed/relaxed; d=1e100.net; s=20230601; t=1759235670; x=1759840470; h=references:in-reply-to:cc:to:from:subject:message-id:date :x-gm-message-state:from:to:cc:subject:date:message-id:reply-to; bh=HYZLTtXw6SUbhnYMjCuTELWw2+io2xvuj/qjTiL/4gw=; b=tfY9lV9j3RkRniEH2V2i3EeEFh7Pj7/TiY73Kw/q4q/VQmE+xPGIZUHGzlHOBUxtSV zwJDQb74nAqAQ2SSY33kmzsyjM66F465L9ZwLFPET80ztyFrHIlZrzcY/sdVHJPsa3kD Ud31+NgPAAprvYzEWbBmfVD/Kk71HNZC3qzPzY8+iCKAVohrhULEebJgOOCvnMBcwu84 D4z4UBU5PmQvp3IfYMStwWRFXow5DZtBw6oGWecfOwidCKA6js0nAcagACh+ulpMxL1l 3I/Sz7pdaWrkToNj02EC+CB4aFlbOEtmkpfJKgNqc+BouLbbgLCnNoyicpMiRwbzOxPo O1EQ== X-Gm-Message-State: AOJu0YzafKYSLE//4a8eM/gOCWwruQs517n/aIxdN34dumu/CZFf4Qpu dbQMh/deyld4mt606nhguB5Zz5FKKiZbrN6A6S/ctb1if3HipvXFSuhDDuSB0WEqZ59slVXP2QW aDixLzLP7GO5NBc8xfY03A4+wBYi5PofvZa1WNkVXlPS+ X-Gm-Gg: ASbGncuo076CW74rQYoXWpIMSqzKWBv+OBwI+TTxwoyPJ921peQhDWKgKXB5GNVBjh0 tFWutuBiIOJfPAxNIDQ6V75tcy1GJ/5OYlg5RCTHsHYt0JKY6cjfINFYDhx8byAwHRikRA+Vie5 KWlmAtN42Gr8hkrTCFUpW0icI4lrKyxfCPhChl8YzlgHwz18WvuGCgWhukjwowmxmMsLMFxKVJf mzWv4ggVKDWWS/U+9kyRWsdeHJZMEG6DENdewmlFjjSV1Qqis3OfDyNLu6n/O67mgULzYOkiJDr w7vQvL08HtwDy1itQvwv+JYKYXv9tAQZI2O7Ke1ar2UsVTHUh39u2N9bv3aZpqilGwsh4GOIE8e gwg== X-Google-Smtp-Source: AGHT+IHZQzINNZO9j3hBXza7X2jusfzWHVK2TDoWMH5J2kCBGAKT56fB9aCoUZ+5wNt6QTmt7EuLjdlAuu7N X-Received: by 2002:a05:6808:3a0f:b0:43f:1d72:593 with SMTP id 5614622812f47-43f4cdcd9f5mr10451984b6e.28.1759235669948; Tue, 30 Sep 2025 05:34:29 -0700 (PDT) Received: from postal.iol.unh.edu (postal.iol.unh.edu. [132.177.123.84]) by smtp-relay.gmail.com with ESMTPS id 006d021491bc7-63b26883619sm474809eaf.14.2025.09.30.05.34.29 (version=TLS1_2 cipher=ECDHE-ECDSA-AES128-GCM-SHA256 bits=128/128); Tue, 30 Sep 2025 05:34:29 -0700 (PDT) X-Relaying-Domain: iol.unh.edu Date: Tue, 30 Sep 2025 05:34:29 -0700 (PDT) Message-ID: <68dbce55.050a0220.1c8414.c22cSMTPIN_ADDED_MISSING@mx.google.com> Received: from [172.21.0.2] (unknown [172.18.0.240]) by postal.iol.unh.edu (Postfix) with ESMTP id 6E1976051830; Tue, 30 Sep 2025 08:34:29 -0400 (EDT) Subject: |SUCCESS| pw157134-157137 [PATCH] [v1,4/4] net/ice/base: add support From: dpdklab@iol.unh.edu To: Test Report Cc: dpdk-test-reports@iol.unh.edu, Bruce Richardson In-Reply-To: References: Content-Type: text/plain X-BeenThere: test-report@dpdk.org X-Mailman-Version: 2.1.29 Precedence: list List-Id: automatic DPDK test reports List-Unsubscribe: , List-Archive: List-Post: List-Help: List-Subscribe: , Errors-To: test-report-bounces@dpdk.org Test-Label: iol-unit-amd64-testing Test-Status: SUCCESS http://dpdk.org/patch/157137 _Testing PASS_ Submitter: Anatoly Burakov Date: Tuesday, September 30 2025 11:21:17 DPDK git baseline: Repo:dpdk-next-net-intel Branch: master CommitID:9845e5848bbe337306fb6ae2a6b1ce5e6ab5b714 157134-157137 --> testing pass Upstream job id: Generic-VM-Unit-Test-DPDK#31495 Test environment and result as below: +-------------------------------+----------------+ | Environment | dpdk_unit_test | +===============================+================+ | CentOS Stream 10 | PASS | +-------------------------------+----------------+ | CentOS Stream 9 | PASS | +-------------------------------+----------------+ | Debian GNU/Linux 12 | PASS | +-------------------------------+----------------+ | Fedora Linux 40 | PASS | +-------------------------------+----------------+ | Fedora Linux 41 | PASS | +-------------------------------+----------------+ | Fedora Linux 42 | PASS | +-------------------------------+----------------+ | Ubuntu 20.04 | PASS | +-------------------------------+----------------+ | Red Hat Enterprise Linux 8.10 | PASS | +-------------------------------+----------------+ | Red Hat Enterprise Linux 9.5 | PASS | +-------------------------------+----------------+ | Ubuntu 24.04 | PASS | +-------------------------------+----------------+ | Ubuntu 22.04 | PASS | +-------------------------------+----------------+ | Windows Server 2022 | PASS | +-------------------------------+----------------+ CentOS Stream 10 Kernel: 5.15 Compiler: gcc gcc (GCC) 14.2.1 20250110 (Red Hat 14.2.1-8) CentOS Stream 9 Kernel: 5.15 Compiler: gcc gcc (GCC) 11.5.0 20240719 (Red Hat 11.5.0-11) Debian GNU/Linux 12 Kernel: 5.15 Compiler: gcc gcc (Debian 12.2.0-14+deb12u1) 12.2.0 Fedora Linux 40 Kernel: 5.15 Compiler: gcc gcc (GCC) 14.2.1 20240912 (Red Hat 14.2.1-3) Fedora Linux 41 Kernel: 5.15 Compiler: clang gcc (GCC) 14.3.1 20250523 (Red Hat 14.3.1-1) Fedora Linux 42 Kernel: 5.15 Compiler: gcc gcc (GCC) 15.2.1 20250808 (Red Hat 15.2.1-1) Ubuntu 20.04 Kernel: 5.15 Compiler: gcc gcc (Ubuntu 9.4.0-1ubuntu1~20.04.2) 9.4.0 Red Hat Enterprise Linux 8.10 Kernel: 5.15 Compiler: gcc gcc (GCC) 8.5.0 20210514 (Red Hat 8.5.0-22) Red Hat Enterprise Linux 9.5 Kernel: 5.15 Compiler: gcc gcc (GCC) 11.5.0 20240719 (Red Hat 11.5.0-2) Ubuntu 24.04 Kernel: 5.15 Compiler: gcc gcc (Ubuntu 13.3.0-6ubuntu2~24.04) 13.3.0 Ubuntu 22.04 Kernel: 5.15 Compiler: gcc gcc (Ubuntu 11.4.0-1ubuntu1~22.04) 11.4.0 Windows Server 2022 Kernel: 10.0.20348.2031 Compiler: clang 15.0.7, gcc 14.1.0 (MinGW), and MSVC VS 19.39.33521 To view detailed results, visit: https://lab.dpdk.org/results/dashboard/patchsets/34181/ UNH-IOL DPDK Community Lab To manage your email subscriptions, visit: https://lab.dpdk.org/results/dashboard/preferences/subscriptions/