From mboxrd@z Thu Jan 1 00:00:00 1970 Return-Path: Received: from mails.dpdk.org (mails.dpdk.org [217.70.189.124]) by inbox.dpdk.org (Postfix) with ESMTP id 900E648871 for ; Tue, 30 Sep 2025 14:42:25 +0200 (CEST) Received: from mails.dpdk.org (localhost [127.0.0.1]) by mails.dpdk.org (Postfix) with ESMTP id 8B1A9400D7; Tue, 30 Sep 2025 14:42:25 +0200 (CEST) Received: from mail-qt1-f226.google.com (mail-qt1-f226.google.com [209.85.160.226]) by mails.dpdk.org (Postfix) with ESMTP id CB89B400EF for ; Tue, 30 Sep 2025 14:42:23 +0200 (CEST) Received: by mail-qt1-f226.google.com with SMTP id d75a77b69052e-4db7e5a653cso47922711cf.1 for ; Tue, 30 Sep 2025 05:42:23 -0700 (PDT) DKIM-Signature: v=1; a=rsa-sha256; c=relaxed/relaxed; d=iol.unh.edu; s=unh-iol; t=1759236143; x=1759840943; darn=dpdk.org; h=references:in-reply-to:cc:to:from:subject:message-id:date:from:to :cc:subject:date:message-id:reply-to; bh=gr1Mo3rOtFFPcVy44exYfYRzQeZrR/aLotSR/JYL6oM=; b=MEEhca9qL67l6QAnkX2Jz+gN15+jdGxdT9VgmK5h/OBVwwbxiapcxpe8izdUN5UjMV nzmFL8cJKMdMkpmFjbbuHUKCnL/npHQ8NrM6NBINWxfKmBLQiHYp9J2FsOuQKqo8JvEp fqzH2xMM9CrOg1y2bWX3ER9bSjHnq2uY1Yzsg= X-Google-DKIM-Signature: v=1; a=rsa-sha256; c=relaxed/relaxed; d=1e100.net; s=20230601; t=1759236143; x=1759840943; h=references:in-reply-to:cc:to:from:subject:message-id:date :x-gm-message-state:from:to:cc:subject:date:message-id:reply-to; bh=gr1Mo3rOtFFPcVy44exYfYRzQeZrR/aLotSR/JYL6oM=; b=sJGsZE3PJR2GeYjT+nk1v5X2RR2qR3R5zCAwXaHHiH3Fahv3ZwnS6XixHScCsAexKi TW6rihCeqaGdg6QP6oRoKy4gu16nKCTXQV23WHunNd1l27zDWExdfL0okiD1UhTPoeq1 w1pZCel+ZyA5kVMjAvBnRcONxQmACXKDZtBfiER+sVI8fCwBygsxG+5NvlWGvRxobcdJ dUbPFwoJrO6H6N8Bp0G98pQxYFubIf44XXqsxizmX7PHnO/1EH22OKXa4gQ+rDrj/n8G D9kdD77DCr20mnJs5aZxjrXdSpAUqEYh6ftL1SFmy8rIMYk56q+W532mQ7QUFAq7tyJr SqEg== X-Gm-Message-State: AOJu0Yzmph0J68fHsDK4rqWYxMYwgkKRJsr23JJS1jyXVX4GaiwZsn5O ZR37pFmB46E0XAcme78DeAFip6UXkXMrVp3n5/IP/RBaB0GAJ34GmZHKn7sPtsVPd50jW4lWQt/ KWUIKYKRrCBag9sU+X6TOxroRz7nLBy3BRp4H1Kb0cyjE3RbKteno3oM/qmHD X-Gm-Gg: ASbGncsnlBc1QT5TqaLV8LhNCAXguVJQBYIG/49nZHOLMQdo42118rOPLtR/KPpqsuj PCJTGUgvq06+UCSk6hV4ks7Y/bWAEt0t8icKLVkI+jggYVTJjaLKT/jbO0KudQXbHkuOAUCMTcw 1fuT6fPaCHodo+VNGP99dWeNIMOuP75TCiO7auHEPHz7RPGQ+cIuf0PmmeipUMPgDkWdrMwbe9B 0V377g3tS8/cEt/j09GUrpRCxvllACOVzcSN30o9dlC53huvKb2fervdRH5JBQdCnLj7vsdDv8W Iv0eg4YUEe9yGV/fsBDanw+6Pc8WQGoPGf/1hufmrFB/2jhHM4Rjm04= X-Google-Smtp-Source: AGHT+IH5Qa5SvePPIr5o1TINHFRR2LaPHW8Hmz8FTz8stLhkLwOnEw5GbzVV4GTNe4rh2nJfWEboc37cRt8j X-Received: by 2002:ac8:7d02:0:b0:4e2:ea31:1a with SMTP id d75a77b69052e-4e2ea310322mr30273571cf.68.1759236143192; Tue, 30 Sep 2025 05:42:23 -0700 (PDT) Received: from postal.iol.unh.edu (postal.iol.unh.edu. [2606:4100:3880:1234::84]) by smtp-relay.gmail.com with ESMTPS id 6a1803df08f44-8016cf8ed45sm10637906d6.38.2025.09.30.05.42.23 (version=TLS1_2 cipher=ECDHE-ECDSA-AES128-GCM-SHA256 bits=128/128); Tue, 30 Sep 2025 05:42:23 -0700 (PDT) X-Relaying-Domain: iol.unh.edu Date: Tue, 30 Sep 2025 05:42:23 -0700 (PDT) Message-ID: <68dbd02f.0c0a0220.36add0.04a2SMTPIN_ADDED_MISSING@mx.google.com> Received: from [172.21.0.2] (unknown [172.18.0.240]) by postal.iol.unh.edu (Postfix) with ESMTP id DBAA26051830; Tue, 30 Sep 2025 08:42:22 -0400 (EDT) Subject: |SUCCESS| pw157047-157055 [PATCH] [v6,9/9] power: separate public an From: dpdklab@iol.unh.edu To: Test Report Cc: dpdk-test-reports@iol.unh.edu In-Reply-To: <20250930065740.1838899-10-david.marchand@redhat.com> References: <20250930065740.1838899-10-david.marchand@redhat.com> Content-Type: text/plain X-BeenThere: test-report@dpdk.org X-Mailman-Version: 2.1.29 Precedence: list List-Id: automatic DPDK test reports List-Unsubscribe: , List-Archive: List-Post: List-Help: List-Subscribe: , Errors-To: test-report-bounces@dpdk.org Test-Label: iol-compile-amd64-testing Test-Status: SUCCESS http://dpdk.org/patch/157055 _Testing PASS_ Submitter: David Marchand Date: Tuesday, September 30 2025 06:57:39 DPDK git baseline: Repo:dpdk Branch: master CommitID:1d627ea13aeec2bcccf27246e6be2508370d171e 157047-157055 --> testing pass Upstream job id: Generic-DPDK-Compile-Meson#429945 Test environment and result as below: +-------------------------------+-------------------------+--------------------+-------------------+----------------------+-------------------+------------------+ | Environment | dpdk_llvm_clang_compile | dpdk_meson_compile | dpdk_msvc_compile | dpdk_mingw64_compile | dpdk_compile_spdk | dpdk_compile_ovs | +===============================+=========================+====================+===================+======================+===================+==================+ | Windows Server 2022 | PASS | SKIPPED | PASS | PASS | SKIPPED | SKIPPED | +-------------------------------+-------------------------+--------------------+-------------------+----------------------+-------------------+------------------+ | Ubuntu 20.04 | SKIPPED | PASS | SKIPPED | SKIPPED | SKIPPED | SKIPPED | +-------------------------------+-------------------------+--------------------+-------------------+----------------------+-------------------+------------------+ | FreeBSD 14.2 | SKIPPED | PASS | SKIPPED | SKIPPED | SKIPPED | SKIPPED | +-------------------------------+-------------------------+--------------------+-------------------+----------------------+-------------------+------------------+ | CentOS Stream 9 | SKIPPED | PASS | SKIPPED | SKIPPED | PASS | SKIPPED | +-------------------------------+-------------------------+--------------------+-------------------+----------------------+-------------------+------------------+ | CentOS Stream 10 | SKIPPED | PASS | SKIPPED | SKIPPED | SKIPPED | SKIPPED | +-------------------------------+-------------------------+--------------------+-------------------+----------------------+-------------------+------------------+ | Debian GNU/Linux 12 | SKIPPED | PASS | SKIPPED | SKIPPED | PASS | SKIPPED | +-------------------------------+-------------------------+--------------------+-------------------+----------------------+-------------------+------------------+ | Fedora Linux 42 | SKIPPED | PASS | SKIPPED | SKIPPED | PASS | PASS | +-------------------------------+-------------------------+--------------------+-------------------+----------------------+-------------------+------------------+ | openSUSE Leap 15.6 | SKIPPED | PASS | SKIPPED | SKIPPED | SKIPPED | SKIPPED | +-------------------------------+-------------------------+--------------------+-------------------+----------------------+-------------------+------------------+ | Red Hat Enterprise Linux 8.10 | SKIPPED | PASS | SKIPPED | SKIPPED | SKIPPED | SKIPPED | +-------------------------------+-------------------------+--------------------+-------------------+----------------------+-------------------+------------------+ | Red Hat Enterprise Linux 9.5 | SKIPPED | PASS | SKIPPED | SKIPPED | SKIPPED | SKIPPED | +-------------------------------+-------------------------+--------------------+-------------------+----------------------+-------------------+------------------+ | Ubuntu 22.04 | SKIPPED | PASS | SKIPPED | SKIPPED | PASS | SKIPPED | +-------------------------------+-------------------------+--------------------+-------------------+----------------------+-------------------+------------------+ | Ubuntu 24.04 | SKIPPED | PASS | SKIPPED | SKIPPED | PASS | PASS | +-------------------------------+-------------------------+--------------------+-------------------+----------------------+-------------------+------------------+ Windows Server 2022 Kernel: 10.0.20348.2031 Compiler: clang 15.0.7, gcc 14.1.0 (MinGW), and MSVC VS 19.39.33521 Ubuntu 20.04 Kernel: 4.19 Compiler: gcc gcc (Ubuntu 9.4.0-1ubuntu1~20.04.2) 9.4.0 FreeBSD 14.2 Kernel: 14.2-RELEASE Compiler: clang 18.1.6 CentOS Stream 9 Kernel: 5.15 Compiler: gcc gcc (GCC) 11.5.0 20240719 (Red Hat 11.5.0-11) CentOS Stream 10 Kernel: 5.15 Compiler: gcc gcc (GCC) 14.2.1 20250110 (Red Hat 14.2.1-8) Debian GNU/Linux 12 Kernel: 5.15 Compiler: gcc gcc (Debian 12.2.0-14+deb12u1) 12.2.0 Fedora Linux 42 Kernel: 5.15 Compiler: clang gcc (GCC) 15.2.1 20250808 (Red Hat 15.2.1-1) openSUSE Leap 15.6 Kernel: 5.15 Compiler: gcc gcc (SUSE Linux) 7.5.0 Red Hat Enterprise Linux 8.10 Kernel: 5.15 Compiler: gcc gcc (GCC) 8.5.0 20210514 (Red Hat 8.5.0-22) Red Hat Enterprise Linux 9.5 Kernel: 5.15 Compiler: gcc gcc (GCC) 11.5.0 20240719 (Red Hat 11.5.0-2) Ubuntu 22.04 Kernel: 5.15 Compiler: gcc gcc (Ubuntu 11.4.0-1ubuntu1~22.04) 11.4.0 Ubuntu 24.04 Kernel: 5.15 Compiler: gcc gcc (Ubuntu 13.3.0-6ubuntu2~24.04) 13.3.0 To view detailed results, visit: https://lab.dpdk.org/results/dashboard/patchsets/34175/ UNH-IOL DPDK Community Lab To manage your email subscriptions, visit: https://lab.dpdk.org/results/dashboard/preferences/subscriptions/