From mboxrd@z Thu Jan 1 00:00:00 1970 Return-Path: Received: from mails.dpdk.org (mails.dpdk.org [217.70.189.124]) by inbox.dpdk.org (Postfix) with ESMTP id B4BDD48871 for ; Tue, 30 Sep 2025 15:37:33 +0200 (CEST) Received: from mails.dpdk.org (localhost [127.0.0.1]) by mails.dpdk.org (Postfix) with ESMTP id 8B3204025F; Tue, 30 Sep 2025 15:37:33 +0200 (CEST) Received: from mail-pl1-f225.google.com (mail-pl1-f225.google.com [209.85.214.225]) by mails.dpdk.org (Postfix) with ESMTP id 7F2734025F for ; Tue, 30 Sep 2025 15:37:32 +0200 (CEST) Received: by mail-pl1-f225.google.com with SMTP id d9443c01a7336-28832ad6f64so28810105ad.1 for ; Tue, 30 Sep 2025 06:37:32 -0700 (PDT) DKIM-Signature: v=1; a=rsa-sha256; c=relaxed/relaxed; d=iol.unh.edu; s=unh-iol; t=1759239451; x=1759844251; darn=dpdk.org; h=references:in-reply-to:cc:to:from:subject:message-id:date:from:to :cc:subject:date:message-id:reply-to; bh=li8gM38LYFIlPVU7aSFnOYHxz4bYdWnHsYZEK61Yc0E=; b=jrc02BIAhscA5GO23r+d/o0De+yDzFldm3QDgEIn20LVWLZC2nFLBSotjp/PIShbbJ 4anKaf2DBu+L6D9BggjVrzUE5C0TAeE9AWoJzduoz5DE/AFGRJM/bmCZi47f9eDzg+gL JeNbUvTOX1ZX6qtWF+ozGdyCob2ZEUaK675fQ= X-Google-DKIM-Signature: v=1; a=rsa-sha256; c=relaxed/relaxed; d=1e100.net; s=20230601; t=1759239451; x=1759844251; h=references:in-reply-to:cc:to:from:subject:message-id:date :x-gm-message-state:from:to:cc:subject:date:message-id:reply-to; bh=li8gM38LYFIlPVU7aSFnOYHxz4bYdWnHsYZEK61Yc0E=; b=jdahIy12ij8HR/fAdwtkLAyJGQAP/F0HJLz9wFYxK8iiwyOsXJBxr0A0/4fJB14Ilc Cr2npwOjN23PDTKgNDTaP4hgFucOZIs6ba/Bk5JfYzps85LJw0gwYFOjsh+GhGDBTFYw Nj0OaHGkv9vXtofixsOmfvWXFJLZKAfJn2BAMbt2EH85Eu4LwIX8FhZuowpSicszVshl Lf71Oj0WhCKd7NUA0/0dLaWd1+zFG6lI1UmNtxXwxLz/PuvsTPCElKFABpZL7sHItkdL 5OWtvXAyuLGlnuSvjuNSjD8Frsy5tV8+SDRPoKqHdcge7VImsjmrEFyy4QFqYM3YfxOs 8+qQ== X-Gm-Message-State: AOJu0Yx6zahXPb6QuN0suUxm91b1X6smEx7KyLndCfF3o8eUpGIhEOMj WF/VYqGd9yYSMqlRuweaeYdoLL8jO/GE3MVYIaLpEicdmsIE4Js1xL1OQ2LtbOKyoYYc5qjiARn eqjwPz7B3YH7WXCHMyWsgzP0Cy+DBv30dlspv7fPCN0W3 X-Gm-Gg: ASbGncsUdDrx2ksH0d0fUZ/0A9tqXiqZPHZqdF2UfKqantYUmI9qk3cdT/zShGFWITY vtCdOG2aDYXL7K1jkLy7tSXc3hcehHk9KE4vmfmMgeMp2MGmhLYVcnMfYfvIT2DWPnguupF93q7 QKAz1Qo7O6Nz4TRRiY5vx7x5RYmuI0+647yxrRBhIC1KSJJ9oNltXMJ81qC2iws8YJQ+5sgzuo4 jm6fVD5dbF7/B2zgg18ss0bV3TGaESU5RSnOB9f/vUL68HMXVIgIQ2qCZBsKex143x/JP1zoaov RxTmVngZFbOvVZwtjB4en7syq2bSVZ8fQP1Sk5VT/Vq0afdh/lYoDbMoMAc1HUwxCbEP/Zyos/v EPA== X-Google-Smtp-Source: AGHT+IH1W84LrsN28VIZKzwKZoGaBf7YJmNVo6Dw9JRMUf9FImMAmT7I+YmQKvvJJ3JRHxLeneRq8W9Ku30a X-Received: by 2002:a17:902:dace:b0:24a:fab6:d15a with SMTP id d9443c01a7336-27ed49ff533mr233835935ad.20.1759239451422; Tue, 30 Sep 2025 06:37:31 -0700 (PDT) Received: from postal.iol.unh.edu (postal.iol.unh.edu. [132.177.123.84]) by smtp-relay.gmail.com with ESMTPS id d9443c01a7336-27ed66fb113sm11944995ad.31.2025.09.30.06.37.31 (version=TLS1_2 cipher=ECDHE-ECDSA-AES128-GCM-SHA256 bits=128/128); Tue, 30 Sep 2025 06:37:31 -0700 (PDT) X-Relaying-Domain: iol.unh.edu Date: Tue, 30 Sep 2025 06:37:31 -0700 (PDT) Message-ID: <68dbdd1b.170a0220.f97cd.87f3SMTPIN_ADDED_MISSING@mx.google.com> Received: from [172.21.0.2] (unknown [172.18.0.240]) by postal.iol.unh.edu (Postfix) with ESMTP id A083B604D420; Tue, 30 Sep 2025 09:37:30 -0400 (EDT) Subject: |SUCCESS| pw157047-157055 [PATCH] [v6,9/9] power: separate public an From: dpdklab@iol.unh.edu To: Test Report Cc: dpdk-test-reports@iol.unh.edu In-Reply-To: <20250930065740.1838899-10-david.marchand@redhat.com> References: <20250930065740.1838899-10-david.marchand@redhat.com> Content-Type: text/plain X-BeenThere: test-report@dpdk.org X-Mailman-Version: 2.1.29 Precedence: list List-Id: automatic DPDK test reports List-Unsubscribe: , List-Archive: List-Post: List-Help: List-Subscribe: , Errors-To: test-report-bounces@dpdk.org Test-Label: iol-compile-amd64-testing Test-Status: SUCCESS http://dpdk.org/patch/157055 _Testing PASS_ Submitter: David Marchand Date: Tuesday, September 30 2025 06:57:39 DPDK git baseline: Repo:dpdk Branch: master CommitID:1d627ea13aeec2bcccf27246e6be2508370d171e 157047-157055 --> testing pass Upstream job id: Generic-DPDK-Compile-Meson#429953 Test environment and result as below: +-------------------------------+-------------------------+--------------------+-------------------+----------------------+-------------------+------------------+ | Environment | dpdk_llvm_clang_compile | dpdk_meson_compile | dpdk_msvc_compile | dpdk_mingw64_compile | dpdk_compile_spdk | dpdk_compile_ovs | +===============================+=========================+====================+===================+======================+===================+==================+ | Windows Server 2022 | PASS | SKIPPED | PASS | PASS | SKIPPED | SKIPPED | +-------------------------------+-------------------------+--------------------+-------------------+----------------------+-------------------+------------------+ | Ubuntu 20.04 | SKIPPED | PASS | SKIPPED | SKIPPED | SKIPPED | SKIPPED | +-------------------------------+-------------------------+--------------------+-------------------+----------------------+-------------------+------------------+ | FreeBSD 14.2 | SKIPPED | PASS | SKIPPED | SKIPPED | SKIPPED | SKIPPED | +-------------------------------+-------------------------+--------------------+-------------------+----------------------+-------------------+------------------+ | CentOS Stream 9 | SKIPPED | PASS | SKIPPED | SKIPPED | PASS | SKIPPED | +-------------------------------+-------------------------+--------------------+-------------------+----------------------+-------------------+------------------+ | CentOS Stream 10 | SKIPPED | PASS | SKIPPED | SKIPPED | SKIPPED | SKIPPED | +-------------------------------+-------------------------+--------------------+-------------------+----------------------+-------------------+------------------+ | Debian GNU/Linux 12 | SKIPPED | PASS | SKIPPED | SKIPPED | PASS | SKIPPED | +-------------------------------+-------------------------+--------------------+-------------------+----------------------+-------------------+------------------+ | Fedora Linux 42 | SKIPPED | PASS | SKIPPED | SKIPPED | PASS | PASS | +-------------------------------+-------------------------+--------------------+-------------------+----------------------+-------------------+------------------+ | openSUSE Leap 15.6 | SKIPPED | PASS | SKIPPED | SKIPPED | SKIPPED | SKIPPED | +-------------------------------+-------------------------+--------------------+-------------------+----------------------+-------------------+------------------+ | Red Hat Enterprise Linux 8.10 | SKIPPED | PASS | SKIPPED | SKIPPED | SKIPPED | SKIPPED | +-------------------------------+-------------------------+--------------------+-------------------+----------------------+-------------------+------------------+ | Red Hat Enterprise Linux 9.5 | SKIPPED | PASS | SKIPPED | SKIPPED | SKIPPED | SKIPPED | +-------------------------------+-------------------------+--------------------+-------------------+----------------------+-------------------+------------------+ | Ubuntu 22.04 | SKIPPED | PASS | SKIPPED | SKIPPED | PASS | SKIPPED | +-------------------------------+-------------------------+--------------------+-------------------+----------------------+-------------------+------------------+ | Ubuntu 24.04 | SKIPPED | PASS | SKIPPED | SKIPPED | PASS | PASS | +-------------------------------+-------------------------+--------------------+-------------------+----------------------+-------------------+------------------+ | Alpine Linux 3.22.0 | SKIPPED | PASS | SKIPPED | SKIPPED | SKIPPED | SKIPPED | +-------------------------------+-------------------------+--------------------+-------------------+----------------------+-------------------+------------------+ Windows Server 2022 Kernel: 10.0.20348.2031 Compiler: clang 15.0.7, gcc 14.1.0 (MinGW), and MSVC VS 19.39.33521 Ubuntu 20.04 Kernel: 4.19 Compiler: gcc gcc (Ubuntu 9.4.0-1ubuntu1~20.04.2) 9.4.0 FreeBSD 14.2 Kernel: 14.2-RELEASE Compiler: clang 18.1.6 CentOS Stream 9 Kernel: 5.15 Compiler: gcc gcc (GCC) 11.5.0 20240719 (Red Hat 11.5.0-11) CentOS Stream 10 Kernel: 5.15 Compiler: gcc gcc (GCC) 14.2.1 20250110 (Red Hat 14.2.1-8) Debian GNU/Linux 12 Kernel: 5.15 Compiler: gcc gcc (Debian 12.2.0-14+deb12u1) 12.2.0 Fedora Linux 42 Kernel: 5.15 Compiler: clang gcc (GCC) 15.2.1 20250808 (Red Hat 15.2.1-1) openSUSE Leap 15.6 Kernel: 5.15 Compiler: gcc gcc (SUSE Linux) 7.5.0 Red Hat Enterprise Linux 8.10 Kernel: 5.15 Compiler: gcc gcc (GCC) 8.5.0 20210514 (Red Hat 8.5.0-22) Red Hat Enterprise Linux 9.5 Kernel: 5.15 Compiler: gcc gcc (GCC) 11.5.0 20240719 (Red Hat 11.5.0-2) Ubuntu 22.04 Kernel: 5.15 Compiler: gcc gcc (Ubuntu 11.4.0-1ubuntu1~22.04) 11.4.0 Ubuntu 24.04 Kernel: 5.15 Compiler: gcc gcc (Ubuntu 13.3.0-6ubuntu2~24.04) 13.3.0 Alpine Linux 3.22.0 Kernel: 5.15 Compiler: gcc gcc (Alpine 14.2.0) 14.2.0 To view detailed results, visit: https://lab.dpdk.org/results/dashboard/patchsets/34175/ UNH-IOL DPDK Community Lab To manage your email subscriptions, visit: https://lab.dpdk.org/results/dashboard/preferences/subscriptions/