From mboxrd@z Thu Jan 1 00:00:00 1970 Return-Path: Received: from mails.dpdk.org (mails.dpdk.org [217.70.189.124]) by inbox.dpdk.org (Postfix) with ESMTP id 304A148871 for ; Tue, 30 Sep 2025 16:02:35 +0200 (CEST) Received: from mails.dpdk.org (localhost [127.0.0.1]) by mails.dpdk.org (Postfix) with ESMTP id 144B940151; Tue, 30 Sep 2025 16:02:35 +0200 (CEST) Received: from mail-oa1-f97.google.com (mail-oa1-f97.google.com [209.85.160.97]) by mails.dpdk.org (Postfix) with ESMTP id 5565840151 for ; Tue, 30 Sep 2025 16:02:33 +0200 (CEST) Received: by mail-oa1-f97.google.com with SMTP id 586e51a60fabf-30ccec928f6so2243157fac.3 for ; Tue, 30 Sep 2025 07:02:33 -0700 (PDT) DKIM-Signature: v=1; a=rsa-sha256; c=relaxed/relaxed; d=iol.unh.edu; s=unh-iol; t=1759240952; x=1759845752; darn=dpdk.org; h=references:in-reply-to:cc:to:from:subject:message-id:date:from:to :cc:subject:date:message-id:reply-to; bh=E0IbvfxmNEhPlf4M7m27B1JAKU6rJuaTDS7PDl/amy0=; b=BWjoJ1bThTOdVTN0+z4s1fz6va7bQGONuIuo2+zE4+LshFXxysELShDtibhhfPdEAG nz7NLB+ThHE3UsVZXEv0odN8TPAi37PHihk/L4+Rpuu3P1DqyxeRQWhxwnKk9GdAekgY tP9n/S+jc2Y4fK9MG2MY8QOs3/Igp/IYkSBRk= X-Google-DKIM-Signature: v=1; a=rsa-sha256; c=relaxed/relaxed; d=1e100.net; s=20230601; t=1759240952; x=1759845752; h=references:in-reply-to:cc:to:from:subject:message-id:date :x-gm-message-state:from:to:cc:subject:date:message-id:reply-to; bh=E0IbvfxmNEhPlf4M7m27B1JAKU6rJuaTDS7PDl/amy0=; b=URxABFHLauE9KfylDfWqa4LhlKghyMUZj3Z0X9teZSWV/pB+l9Hsrk82fEXoeQMLZa bMJiduxcL3+RCYc3H/CtpTbJ6pg6WTX7D8eXEZ7tdKw/Z8K59LRCGVYzDkj9eJL0rpGN B9/7/A6RW5fPo8TR1yQAoQ/wetJlo0koyjxVzXE9SBP1Rt0G5OfG1msghdw+grczi1hk gdDbUxwZpYiErRZBFcvOrvmdHUr6brcc5b40SHhK90hlbHTg8SSYzBX29yZNMrMeraU0 PXuCcCDVWafZz7RRhw3xDwD/AMK3SBxGZJVRZueFQBoF9HSyM7uEEEzH5wYOuZQwkLA1 9L5A== X-Gm-Message-State: AOJu0YzszHf1AQ3DHpVqWUj8n8gi75CPCXCsTHXUi/rWlE6Vkhul8Tqk mq0UWtIVaT2VyEmhzZ+9w0cumqxbuv4TkpSGopo8zBQlTuid7Z6RAvw9RqDL67pO1qQ0n+gijc6 hzgbqnCnch6UTK4CWjv9HSbeCqrnrYi5IxCxOT8dbMAfY X-Gm-Gg: ASbGncvBoLQrB2mpCXMtTzDc+vBzP6GebDohxhav2bU3tqYQ7+r2SkvYuzbSyHSMzZ0 wG2I615rtvnEdF+Q1YJrKRopuByfx5mCWMTOnLovxo27JTIvD9PUy+OhwNF0UW8ACrUdvsZjTve gRwugTHftsgDmMWEHrynzlgAYcqxBY3awaPG8QwousizzXppZAqqMRfGv3HJd2VgA6ZGaTnAiTk V/PbbKykxjknwCwXm6Nkj1jRdmfEb9ajbLtM6l49NE7MpoPYCzJ/hQCUjTcCJQmQI/OLzy9L89F uEPvsUGuu8wdnwowWe3UwVlIbwxZsQKIKyAtYl5FMgEHXWuMIMg45BawxpWV5lJJFxxLIBqki6q N2w== X-Google-Smtp-Source: AGHT+IHeWBurb1+LXNJY0H633iCG0rqVmqDzkom7gogXImBtw80zmAt88UmxawecHRCw7mnJcuUn4mA60awI X-Received: by 2002:a05:6870:f691:b0:315:ab22:8833 with SMTP id 586e51a60fabf-35ee98cb250mr11664844fac.38.1759240952233; Tue, 30 Sep 2025 07:02:32 -0700 (PDT) Received: from postal.iol.unh.edu (postal.iol.unh.edu. [132.177.123.84]) by smtp-relay.gmail.com with ESMTPS id 586e51a60fabf-363b8260899sm1207203fac.23.2025.09.30.07.02.32 (version=TLS1_2 cipher=ECDHE-ECDSA-AES128-GCM-SHA256 bits=128/128); Tue, 30 Sep 2025 07:02:32 -0700 (PDT) X-Relaying-Domain: iol.unh.edu Date: Tue, 30 Sep 2025 07:02:32 -0700 (PDT) Message-ID: <68dbe2f8.050a0220.11ac81.e410SMTPIN_ADDED_MISSING@mx.google.com> Received: from [172.21.0.3] (unknown [172.18.0.240]) by postal.iol.unh.edu (Postfix) with ESMTP id A4427604D420; Tue, 30 Sep 2025 10:02:31 -0400 (EDT) Subject: |SUCCESS| pw157056 [PATCH] [v4] net/intel: add IDPF PCI class ID sup From: dpdklab@iol.unh.edu To: Test Report Cc: dpdk-test-reports@iol.unh.edu In-Reply-To: <20250929140015.198615-1-venkatesh.vemula@intel.com> References: <20250929140015.198615-1-venkatesh.vemula@intel.com> Content-Type: text/plain X-BeenThere: test-report@dpdk.org X-Mailman-Version: 2.1.29 Precedence: list List-Id: automatic DPDK test reports List-Unsubscribe: , List-Archive: List-Post: List-Help: List-Subscribe: , Errors-To: test-report-bounces@dpdk.org Test-Label: iol-compile-amd64-testing Test-Status: SUCCESS http://dpdk.org/patch/157056 _Testing PASS_ Submitter: Vemula Venkatesh Date: Monday, September 29 2025 14:00:15 DPDK git baseline: Repo:dpdk Branch: master CommitID:1d627ea13aeec2bcccf27246e6be2508370d171e 157056 --> testing pass Upstream job id: Generic-DPDK-Compile-Meson#429958 Test environment and result as below: +-------------------------------+--------------------+-------------------+-------------------------+----------------------+-------------------+------------------+ | Environment | dpdk_meson_compile | dpdk_msvc_compile | dpdk_llvm_clang_compile | dpdk_mingw64_compile | dpdk_compile_spdk | dpdk_compile_ovs | +===============================+====================+===================+=========================+======================+===================+==================+ | Ubuntu 20.04 | PASS | SKIPPED | SKIPPED | SKIPPED | SKIPPED | SKIPPED | +-------------------------------+--------------------+-------------------+-------------------------+----------------------+-------------------+------------------+ | FreeBSD 14.2 | PASS | SKIPPED | SKIPPED | SKIPPED | SKIPPED | SKIPPED | +-------------------------------+--------------------+-------------------+-------------------------+----------------------+-------------------+------------------+ | CentOS Stream 9 | PASS | SKIPPED | SKIPPED | SKIPPED | PASS | SKIPPED | +-------------------------------+--------------------+-------------------+-------------------------+----------------------+-------------------+------------------+ | CentOS Stream 10 | PASS | SKIPPED | SKIPPED | SKIPPED | SKIPPED | SKIPPED | +-------------------------------+--------------------+-------------------+-------------------------+----------------------+-------------------+------------------+ | Debian GNU/Linux 12 | PASS | SKIPPED | SKIPPED | SKIPPED | PASS | SKIPPED | +-------------------------------+--------------------+-------------------+-------------------------+----------------------+-------------------+------------------+ | Fedora Linux 42 | PASS | SKIPPED | SKIPPED | SKIPPED | PASS | PASS | +-------------------------------+--------------------+-------------------+-------------------------+----------------------+-------------------+------------------+ | openSUSE Leap 15.6 | PASS | SKIPPED | SKIPPED | SKIPPED | SKIPPED | SKIPPED | +-------------------------------+--------------------+-------------------+-------------------------+----------------------+-------------------+------------------+ | Red Hat Enterprise Linux 8.10 | PASS | SKIPPED | SKIPPED | SKIPPED | SKIPPED | SKIPPED | +-------------------------------+--------------------+-------------------+-------------------------+----------------------+-------------------+------------------+ | Red Hat Enterprise Linux 9.5 | PASS | SKIPPED | SKIPPED | SKIPPED | SKIPPED | SKIPPED | +-------------------------------+--------------------+-------------------+-------------------------+----------------------+-------------------+------------------+ | Ubuntu 22.04 | PASS | SKIPPED | SKIPPED | SKIPPED | PASS | SKIPPED | +-------------------------------+--------------------+-------------------+-------------------------+----------------------+-------------------+------------------+ | Ubuntu 24.04 | PASS | SKIPPED | SKIPPED | SKIPPED | PASS | PASS | +-------------------------------+--------------------+-------------------+-------------------------+----------------------+-------------------+------------------+ | Alpine Linux 3.22.0 | PASS | SKIPPED | SKIPPED | SKIPPED | SKIPPED | SKIPPED | +-------------------------------+--------------------+-------------------+-------------------------+----------------------+-------------------+------------------+ | Windows Server 2022 | SKIPPED | PASS | PASS | PASS | SKIPPED | SKIPPED | +-------------------------------+--------------------+-------------------+-------------------------+----------------------+-------------------+------------------+ Ubuntu 20.04 Kernel: 4.19 Compiler: gcc gcc (Ubuntu 9.4.0-1ubuntu1~20.04.2) 9.4.0 FreeBSD 14.2 Kernel: 14.2-RELEASE Compiler: clang 18.1.6 CentOS Stream 9 Kernel: 5.15 Compiler: gcc gcc (GCC) 11.5.0 20240719 (Red Hat 11.5.0-11) CentOS Stream 10 Kernel: 5.15 Compiler: gcc gcc (GCC) 14.2.1 20250110 (Red Hat 14.2.1-8) Debian GNU/Linux 12 Kernel: 5.15 Compiler: gcc gcc (Debian 12.2.0-14+deb12u1) 12.2.0 Fedora Linux 42 Kernel: 5.15 Compiler: clang gcc (GCC) 15.2.1 20250808 (Red Hat 15.2.1-1) openSUSE Leap 15.6 Kernel: 5.15 Compiler: gcc gcc (SUSE Linux) 7.5.0 Red Hat Enterprise Linux 8.10 Kernel: 5.15 Compiler: gcc gcc (GCC) 8.5.0 20210514 (Red Hat 8.5.0-22) Red Hat Enterprise Linux 9.5 Kernel: 5.15 Compiler: gcc gcc (GCC) 11.5.0 20240719 (Red Hat 11.5.0-2) Ubuntu 22.04 Kernel: 5.15 Compiler: gcc gcc (Ubuntu 11.4.0-1ubuntu1~22.04) 11.4.0 Ubuntu 24.04 Kernel: 5.15 Compiler: gcc gcc (Ubuntu 13.3.0-6ubuntu2~24.04) 13.3.0 Alpine Linux 3.22.0 Kernel: 5.15 Compiler: gcc gcc (Alpine 14.2.0) 14.2.0 Windows Server 2022 Kernel: 10.0.20348.2031 Compiler: clang 15.0.7, gcc 14.1.0 (MinGW), and MSVC VS 19.39.33521 To view detailed results, visit: https://lab.dpdk.org/results/dashboard/patchsets/34176/ UNH-IOL DPDK Community Lab To manage your email subscriptions, visit: https://lab.dpdk.org/results/dashboard/preferences/subscriptions/