From mboxrd@z Thu Jan 1 00:00:00 1970 Return-Path: Received: from mails.dpdk.org (mails.dpdk.org [217.70.189.124]) by inbox.dpdk.org (Postfix) with ESMTP id 2B19148871 for ; Tue, 30 Sep 2025 16:02:51 +0200 (CEST) Received: from mails.dpdk.org (localhost [127.0.0.1]) by mails.dpdk.org (Postfix) with ESMTP id 241C840151; Tue, 30 Sep 2025 16:02:51 +0200 (CEST) Received: from mail-yw1-f228.google.com (mail-yw1-f228.google.com [209.85.128.228]) by mails.dpdk.org (Postfix) with ESMTP id 06B4D40151 for ; Tue, 30 Sep 2025 16:02:50 +0200 (CEST) Received: by mail-yw1-f228.google.com with SMTP id 00721157ae682-71d71bcac45so59861657b3.0 for ; Tue, 30 Sep 2025 07:02:49 -0700 (PDT) DKIM-Signature: v=1; a=rsa-sha256; c=relaxed/relaxed; d=iol.unh.edu; s=unh-iol; t=1759240969; x=1759845769; darn=dpdk.org; h=references:in-reply-to:cc:to:from:subject:message-id:date:from:to :cc:subject:date:message-id:reply-to; bh=dDXu+GfgwTIT1m1uh9uXCenk9T2ibLaby/7C2UrtDog=; b=hFFdpN1CAXSdN1hd071tdtZ0GMx1edlKcmQFyhaDzWrPKQycF4NVcKDuK2/h8Wk+kv 3+g4uOFhGqykYoAw3b/Th2Lnr36rJ0Hzv8RI+86sMVTidBkKgsad9HGcWsZedPIy8qC/ tS4lp+b+tBXN33F3o2c95+QJoUKXIssbPWsG4= X-Google-DKIM-Signature: v=1; a=rsa-sha256; c=relaxed/relaxed; d=1e100.net; s=20230601; t=1759240969; x=1759845769; h=references:in-reply-to:cc:to:from:subject:message-id:date :x-gm-message-state:from:to:cc:subject:date:message-id:reply-to; bh=dDXu+GfgwTIT1m1uh9uXCenk9T2ibLaby/7C2UrtDog=; b=n24JzSlrrUPkL2KlDPJoppl1rwUnWAAT9UIyfmba0ku+a3RkDK4h7pJREXeoe8Zq/o AJ60E5TJa+0SCe4OqybhJ4MwdgCIm1XrfV4nQqXvGOq90mjQqhcbkww+j7Ds58ZdfaRM 22pSqKIYVzQgCkOtLDila0TweUFMe6KXgl9ssGvmf8nj5yyc2+erfWtEp0H1QTlbdeMG /TcvWbWSMTsxIMPZUIvn+MX98OWaMXi2Mk+X27w2kBj4F1HXO7yHLKpwBur7RpQT1lF+ hO2yLJcvHBTTN9TBG6Stt8/TlArJ9ETUppQHniO0xRVVdAwuNkUjnUkj2GgBBmKcEEG8 05tQ== X-Gm-Message-State: AOJu0YxwnE5UPTXGh/RM7rkGhoBoT+ZNMBTCMNuS74vZH1ff0AoycDKi j85taNBAQOKAvnrR0j3o51sPe8QZ8+lZae6apFOhH1MXVTIWjaPDK5A+D7SXvcNLRtG+YRrGcQ2 I3k6i4wdpvgfWMu6sab2Sv7OQDhQGW7m3obcAY9vjKYQSUsWCqxRp2wsnNwUa X-Gm-Gg: ASbGncvGcOTYIGYdk4b8cZAp+SXw0ecMwVW1Rw43sPexyQl7/Un97yraOuHmBiCoOXB WdD+PmBILG7Iop1hBgd3CgyieRLWCp0BqJHUdyPkMZyBAD8gUWSOwFeVw4nnfQUX3eOXMWwUj7I ot+rvKxrH3gePnuga5LSF3X76KsCFzIzYCGjiBW/tUHPFzisNoXEqXquadcN5XtHn2MecId/n8G gGIQzp+enBNS/lJWiqvf5c+2/Ap2ZPcenMaNTpwzKBn3hGlh6W01MIFb3HQ576m6EmgWRmUF0Pw sP+/dKEXcHWvacGtmg4tUFBg+JvNFsIvzNZgFljeH+ThyuZfXg2jxBE= X-Google-Smtp-Source: AGHT+IHFB9X+Y9i+FWQq4PuYJqVy+vlZfR/rQ5UzySvVZ3tHd/vqIB6Ppwq6w69awh0MQv+T7oZ4OlTognuU X-Received: by 2002:a05:690c:4b8d:b0:773:e84f:ed01 with SMTP id 00721157ae682-773e84ff444mr157987017b3.2.1759240968845; Tue, 30 Sep 2025 07:02:48 -0700 (PDT) Received: from postal.iol.unh.edu (postal.iol.unh.edu. [2606:4100:3880:1234::84]) by smtp-relay.gmail.com with ESMTPS id 00721157ae682-765d86cbb26sm7507787b3.21.2025.09.30.07.02.48 (version=TLS1_2 cipher=ECDHE-ECDSA-AES128-GCM-SHA256 bits=128/128); Tue, 30 Sep 2025 07:02:48 -0700 (PDT) X-Relaying-Domain: iol.unh.edu Date: Tue, 30 Sep 2025 07:02:48 -0700 (PDT) Message-ID: <68dbe308.050a0220.26723.ce9cSMTPIN_ADDED_MISSING@mx.google.com> Received: from [172.21.0.3] (unknown [172.18.0.240]) by postal.iol.unh.edu (Postfix) with ESMTP id 786CC604D420; Tue, 30 Sep 2025 10:02:48 -0400 (EDT) Subject: |SUCCESS| pw157056 [PATCH] [v4] net/intel: add IDPF PCI class ID sup From: dpdklab@iol.unh.edu To: Test Report Cc: dpdk-test-reports@iol.unh.edu In-Reply-To: <20250929140015.198615-1-venkatesh.vemula@intel.com> References: <20250929140015.198615-1-venkatesh.vemula@intel.com> Content-Type: text/plain X-BeenThere: test-report@dpdk.org X-Mailman-Version: 2.1.29 Precedence: list List-Id: automatic DPDK test reports List-Unsubscribe: , List-Archive: List-Post: List-Help: List-Subscribe: , Errors-To: test-report-bounces@dpdk.org Test-Label: iol-compile-amd64-testing Test-Status: SUCCESS http://dpdk.org/patch/157056 _Testing PASS_ Submitter: Vemula Venkatesh Date: Monday, September 29 2025 14:00:15 DPDK git baseline: Repo:dpdk Branch: master CommitID:1d627ea13aeec2bcccf27246e6be2508370d171e 157056 --> testing pass Upstream job id: Generic-DPDK-Compile-Meson#429974 Test environment and result as below: +-------------------------------+--------------------+-------------------+-------------------------+----------------------+-------------------+------------------+ | Environment | dpdk_meson_compile | dpdk_msvc_compile | dpdk_llvm_clang_compile | dpdk_mingw64_compile | dpdk_compile_spdk | dpdk_compile_ovs | +===============================+====================+===================+=========================+======================+===================+==================+ | Ubuntu 20.04 | PASS | SKIPPED | SKIPPED | SKIPPED | SKIPPED | SKIPPED | +-------------------------------+--------------------+-------------------+-------------------------+----------------------+-------------------+------------------+ | FreeBSD 14.2 | PASS | SKIPPED | SKIPPED | SKIPPED | SKIPPED | SKIPPED | +-------------------------------+--------------------+-------------------+-------------------------+----------------------+-------------------+------------------+ | CentOS Stream 9 | PASS | SKIPPED | SKIPPED | SKIPPED | PASS | SKIPPED | +-------------------------------+--------------------+-------------------+-------------------------+----------------------+-------------------+------------------+ | CentOS Stream 10 | PASS | SKIPPED | SKIPPED | SKIPPED | SKIPPED | SKIPPED | +-------------------------------+--------------------+-------------------+-------------------------+----------------------+-------------------+------------------+ | Debian GNU/Linux 12 | PASS | SKIPPED | SKIPPED | SKIPPED | PASS | SKIPPED | +-------------------------------+--------------------+-------------------+-------------------------+----------------------+-------------------+------------------+ | Fedora Linux 42 | PASS | SKIPPED | SKIPPED | SKIPPED | PASS | PASS | +-------------------------------+--------------------+-------------------+-------------------------+----------------------+-------------------+------------------+ | openSUSE Leap 15.6 | PASS | SKIPPED | SKIPPED | SKIPPED | SKIPPED | SKIPPED | +-------------------------------+--------------------+-------------------+-------------------------+----------------------+-------------------+------------------+ | Red Hat Enterprise Linux 8.10 | PASS | SKIPPED | SKIPPED | SKIPPED | SKIPPED | SKIPPED | +-------------------------------+--------------------+-------------------+-------------------------+----------------------+-------------------+------------------+ | Red Hat Enterprise Linux 9.5 | PASS | SKIPPED | SKIPPED | SKIPPED | SKIPPED | SKIPPED | +-------------------------------+--------------------+-------------------+-------------------------+----------------------+-------------------+------------------+ | Ubuntu 22.04 | PASS | SKIPPED | SKIPPED | SKIPPED | PASS | SKIPPED | +-------------------------------+--------------------+-------------------+-------------------------+----------------------+-------------------+------------------+ | Ubuntu 24.04 | PASS | SKIPPED | SKIPPED | SKIPPED | PASS | PASS | +-------------------------------+--------------------+-------------------+-------------------------+----------------------+-------------------+------------------+ | Alpine Linux 3.22.0 | PASS | SKIPPED | SKIPPED | SKIPPED | SKIPPED | SKIPPED | +-------------------------------+--------------------+-------------------+-------------------------+----------------------+-------------------+------------------+ | Windows Server 2022 | SKIPPED | PASS | PASS | PASS | SKIPPED | SKIPPED | +-------------------------------+--------------------+-------------------+-------------------------+----------------------+-------------------+------------------+ Ubuntu 20.04 Kernel: 4.19 Compiler: gcc gcc (Ubuntu 9.4.0-1ubuntu1~20.04.2) 9.4.0 FreeBSD 14.2 Kernel: 14.2-RELEASE Compiler: clang 18.1.6 CentOS Stream 9 Kernel: 5.15 Compiler: gcc gcc (GCC) 11.5.0 20240719 (Red Hat 11.5.0-11) CentOS Stream 10 Kernel: 5.15 Compiler: gcc gcc (GCC) 14.2.1 20250110 (Red Hat 14.2.1-8) Debian GNU/Linux 12 Kernel: 5.15 Compiler: gcc gcc (Debian 12.2.0-14+deb12u1) 12.2.0 Fedora Linux 42 Kernel: 5.15 Compiler: clang gcc (GCC) 15.2.1 20250808 (Red Hat 15.2.1-1) openSUSE Leap 15.6 Kernel: 5.15 Compiler: gcc gcc (SUSE Linux) 7.5.0 Red Hat Enterprise Linux 8.10 Kernel: 5.15 Compiler: gcc gcc (GCC) 8.5.0 20210514 (Red Hat 8.5.0-22) Red Hat Enterprise Linux 9.5 Kernel: 5.15 Compiler: gcc gcc (GCC) 11.5.0 20240719 (Red Hat 11.5.0-2) Ubuntu 22.04 Kernel: 5.15 Compiler: gcc gcc (Ubuntu 11.4.0-1ubuntu1~22.04) 11.4.0 Ubuntu 24.04 Kernel: 5.15 Compiler: gcc gcc (Ubuntu 13.3.0-6ubuntu2~24.04) 13.3.0 Alpine Linux 3.22.0 Kernel: 5.15 Compiler: gcc gcc (Alpine 14.2.0) 14.2.0 Windows Server 2022 Kernel: 10.0.20348.2031 Compiler: clang 15.0.7, gcc 14.1.0 (MinGW), and MSVC VS 19.39.33521 To view detailed results, visit: https://lab.dpdk.org/results/dashboard/patchsets/34176/ UNH-IOL DPDK Community Lab To manage your email subscriptions, visit: https://lab.dpdk.org/results/dashboard/preferences/subscriptions/