From mboxrd@z Thu Jan 1 00:00:00 1970 Return-Path: Received: from mails.dpdk.org (mails.dpdk.org [217.70.189.124]) by inbox.dpdk.org (Postfix) with ESMTP id 26FBB48871 for ; Tue, 30 Sep 2025 16:33:01 +0200 (CEST) Received: from mails.dpdk.org (localhost [127.0.0.1]) by mails.dpdk.org (Postfix) with ESMTP id 21A3640151; Tue, 30 Sep 2025 16:33:01 +0200 (CEST) Received: from mail-pf1-f226.google.com (mail-pf1-f226.google.com [209.85.210.226]) by mails.dpdk.org (Postfix) with ESMTP id E5AC640151 for ; Tue, 30 Sep 2025 16:32:59 +0200 (CEST) Received: by mail-pf1-f226.google.com with SMTP id d2e1a72fcca58-781251eec51so3259112b3a.3 for ; Tue, 30 Sep 2025 07:32:59 -0700 (PDT) DKIM-Signature: v=1; a=rsa-sha256; c=relaxed/relaxed; d=iol.unh.edu; s=unh-iol; t=1759242779; x=1759847579; darn=dpdk.org; h=references:in-reply-to:cc:to:from:subject:message-id:date:from:to :cc:subject:date:message-id:reply-to; bh=Xc8E8P5QvCGA0R7OSrp8Ce0wobfMHwsXqe7WP+SgAuw=; b=XmSjrSUdBeS0DlUh53gw3fh/ShuT+36tQ6i/KYo6tzimVWHZks59sX6bUhsK/srt2H ipZlqwuat3ZA+GM01w2VQsaEcV4ju98Iy20IdoY9cUeJnmCZDTdvnCU1Of4BJkQfbTIn LVP5abaM7m/EiDupbDXEzVhff/1mj5Av7PxFs= X-Google-DKIM-Signature: v=1; a=rsa-sha256; c=relaxed/relaxed; d=1e100.net; s=20230601; t=1759242779; x=1759847579; h=references:in-reply-to:cc:to:from:subject:message-id:date :x-gm-message-state:from:to:cc:subject:date:message-id:reply-to; bh=Xc8E8P5QvCGA0R7OSrp8Ce0wobfMHwsXqe7WP+SgAuw=; b=ewY18szDaRDrVb1r5Fmwy/jc+UZvsjlTttEGZIL5Vs5XZSZ/VIgdGLjF18rGVnmooj M9cDbaqz5jyyeMcJLQBHDw4aM33fqR8i8W8k/HgTQ7dU/urkklOLfN+uxqDQ435yKuoe N+HLoMm4oszU+NgA1AQdRerka7wE4VbWIRFurAzxItYQF/IP4OqB1qfbtzrazKDPIPTG n5fXS3uAUIyT+BLe/DEisPLl+vDzK4jVFxFkdZ1UWdoyZl05nHrl8pjannrAx78/CT0S rDiMe3Hb78cl/QhPQOgwgWj3EPGfLEnATNN5kZGLZvdehURi9PzWOyBHdfCVhc4IQ+Gu MKeg== X-Gm-Message-State: AOJu0Yz0oEUV8pKO8ezPXWFORaMNfMWWorK/L52UTlTITuFnRqyAnTqC PzLxVPt9s8LdnQvVFfZopr4sshUWbLzjpHcYdOcP/YsjW1zUGRdT606W5rtjcmO875/Tm7rc9nr dDs3Ja8oRwCBu/9cAN4p/L+Cuiho1uTnZYRY2p+25nz6h X-Gm-Gg: ASbGncs0UkUWm8BDk7zSOVI7nWIBl1nOc+0a9l09HP+ZVkdugH4nipdwxActCPQv8fD HmxvObUAaEy/IvJBnGEPW9/mqlCzw7XlMOjkzZ73bslHTT7iXAamdOX4wC/ecvme16PbZRH8Kun hYQWhYNdw1AvaNsyeICCqloJ0x8kT2ydjqvvSfv6DEZcQwOhgEiZHRyfmQEXLlUrR65kPlZnfcX rBGxcSmFuCRsLvvwVNFr/AORvnoi+6Oc//aalIsKIZzP4xqazu/krMiaC3yH1oNFWX1O5UcRFW0 r9HKCOYpApkoXGLUIOrWTGg/InIqzday64W7lFGSkQ2zSO7jvypWOFkDiszGCWEUn8DS0HafeXd NRg== X-Google-Smtp-Source: AGHT+IHGF5uK54SXuGUy7ffi0GO/MxO236FnNAv6dDUWKhTjWFwR1fWueQwipb5uJfQI92QLVAOMvI3i2quP X-Received: by 2002:a05:6a21:1743:b0:30a:84cf:6f61 with SMTP id adf61e73a8af0-30a84cf7250mr11144856637.20.1759242778975; Tue, 30 Sep 2025 07:32:58 -0700 (PDT) Received: from postal.iol.unh.edu (postal.iol.unh.edu. [132.177.123.84]) by smtp-relay.gmail.com with ESMTPS id 41be03b00d2f7-b5a7acdda19sm353539a12.9.2025.09.30.07.32.58 (version=TLS1_2 cipher=ECDHE-ECDSA-AES128-GCM-SHA256 bits=128/128); Tue, 30 Sep 2025 07:32:58 -0700 (PDT) X-Relaying-Domain: iol.unh.edu Date: Tue, 30 Sep 2025 07:32:58 -0700 (PDT) Message-ID: <68dbea1a.650a0220.229742.5bcfSMTPIN_ADDED_MISSING@mx.google.com> Received: from [172.21.0.2] (unknown [172.18.0.240]) by postal.iol.unh.edu (Postfix) with ESMTP id 3BA996050A61; Tue, 30 Sep 2025 10:32:58 -0400 (EDT) Subject: |SUCCESS| pw157111 [PATCH] net/mlx5: fix IPv6 DSCP offset in NT HWS From: dpdklab@iol.unh.edu To: Test Report Cc: dpdk-test-reports@iol.unh.edu In-Reply-To: <20250930072827.9630-1-gavinl@nvidia.com> References: <20250930072827.9630-1-gavinl@nvidia.com> Content-Type: text/plain X-BeenThere: test-report@dpdk.org X-Mailman-Version: 2.1.29 Precedence: list List-Id: automatic DPDK test reports List-Unsubscribe: , List-Archive: List-Post: List-Help: List-Subscribe: , Errors-To: test-report-bounces@dpdk.org Test-Label: iol-compile-amd64-testing Test-Status: SUCCESS http://dpdk.org/patch/157111 _Testing PASS_ Submitter: Gavin Li Date: Tuesday, September 30 2025 07:28:27 DPDK git baseline: Repo:dpdk-next-net-mlx Branch: master CommitID:2374f33e1d964e100895fd294966380c46f0886d 157111 --> testing pass Upstream job id: Generic-DPDK-Compile-Meson#429983 Test environment and result as below: +---------------------+--------------------+-------------------+-------------------------+----------------------+-------------------+ | Environment | dpdk_meson_compile | dpdk_msvc_compile | dpdk_llvm_clang_compile | dpdk_mingw64_compile | dpdk_compile_spdk | +=====================+====================+===================+=========================+======================+===================+ | Ubuntu 20.04 | PASS | SKIPPED | SKIPPED | SKIPPED | SKIPPED | +---------------------+--------------------+-------------------+-------------------------+----------------------+-------------------+ | FreeBSD 14.2 | PASS | SKIPPED | SKIPPED | SKIPPED | SKIPPED | +---------------------+--------------------+-------------------+-------------------------+----------------------+-------------------+ | CentOS Stream 9 | PASS | SKIPPED | SKIPPED | SKIPPED | PASS | +---------------------+--------------------+-------------------+-------------------------+----------------------+-------------------+ | CentOS Stream 10 | PASS | SKIPPED | SKIPPED | SKIPPED | SKIPPED | +---------------------+--------------------+-------------------+-------------------------+----------------------+-------------------+ | Windows Server 2022 | SKIPPED | PASS | PASS | PASS | SKIPPED | +---------------------+--------------------+-------------------+-------------------------+----------------------+-------------------+ Ubuntu 20.04 Kernel: 4.19 Compiler: gcc gcc (Ubuntu 9.4.0-1ubuntu1~20.04.2) 9.4.0 FreeBSD 14.2 Kernel: 14.2-RELEASE Compiler: clang 18.1.6 CentOS Stream 9 Kernel: 5.15 Compiler: gcc gcc (GCC) 11.5.0 20240719 (Red Hat 11.5.0-11) CentOS Stream 10 Kernel: 5.15 Compiler: gcc gcc (GCC) 14.2.1 20250110 (Red Hat 14.2.1-8) Windows Server 2022 Kernel: 10.0.20348.2031 Compiler: clang 15.0.7, gcc 14.1.0 (MinGW), and MSVC VS 19.39.33521 To view detailed results, visit: https://lab.dpdk.org/results/dashboard/patchsets/34178/ UNH-IOL DPDK Community Lab To manage your email subscriptions, visit: https://lab.dpdk.org/results/dashboard/preferences/subscriptions/