From mboxrd@z Thu Jan 1 00:00:00 1970 Return-Path: Received: from mails.dpdk.org (mails.dpdk.org [217.70.189.124]) by inbox.dpdk.org (Postfix) with ESMTP id B33CC48871 for ; Tue, 30 Sep 2025 16:49:55 +0200 (CEST) Received: from mails.dpdk.org (localhost [127.0.0.1]) by mails.dpdk.org (Postfix) with ESMTP id AF1F840151; Tue, 30 Sep 2025 16:49:55 +0200 (CEST) Received: from mail-oo1-f99.google.com (mail-oo1-f99.google.com [209.85.161.99]) by mails.dpdk.org (Postfix) with ESMTP id 1975C40151 for ; Tue, 30 Sep 2025 16:49:54 +0200 (CEST) Received: by mail-oo1-f99.google.com with SMTP id 006d021491bc7-64a760e5281so194268eaf.3 for ; Tue, 30 Sep 2025 07:49:54 -0700 (PDT) DKIM-Signature: v=1; a=rsa-sha256; c=relaxed/relaxed; d=iol.unh.edu; s=unh-iol; t=1759243793; x=1759848593; darn=dpdk.org; h=cc:to:from:subject:message-id:date:from:to:cc:subject:date :message-id:reply-to; bh=v8BYXyyLYQ4JO1MOhyZrYiyzmDLUTK0b62uidc+QnAo=; b=dvaEbbhyoZLdxzZiJT6WBgqwPe6ur8WpKk6aKFH/cWtyy70Cke90jVK+NdXQBhqOqh 8X7IVVA++SdK1blyFBOlYwZzQtZ+SjBvZfd6AZJhsQV3XceQ3kR6LOQ8wNCkLLSlwd7S I6BpfLfEcU6SCYJ5xzxskpwFcwY+FCuU86BCM= X-Google-DKIM-Signature: v=1; a=rsa-sha256; c=relaxed/relaxed; d=1e100.net; s=20230601; t=1759243793; x=1759848593; h=cc:to:from:subject:message-id:date:x-gm-message-state:from:to:cc :subject:date:message-id:reply-to; bh=v8BYXyyLYQ4JO1MOhyZrYiyzmDLUTK0b62uidc+QnAo=; b=Fv54ZHqa1lSjKHV34oEXT+W28pM6pje3c8Qe6nLLEaaqVOFIgSEbPjdxDSKWuq7Lhb 45Zqje5C1WqqlvjuAyuMPV+PYT3dzJzR4oN34iS5Im5ur2k0AEsyIjAhRZPWP17mArG6 eqO2qtisnbkrYgPvxAfQAanoFDNlIxiTVGSFfB57mlwTfOa2bO5NtxiB0L5+/c1gbm4E voHw3u1Fryi0tyXmSKdv6fQRkdNFYuMuxIPiZnPBBbdMbfpXSqrPXiLJAwfQs6+9cAbu vwsUvj7azxQv3ALdL3lAQ4t6GuSRd5/Vp11c4gCd2Nws53PcS+LcPmcbF6t96mrdFxOA NQPA== X-Gm-Message-State: AOJu0YwGq0zEY8TM0SxFy/yR1hJo1C/fi85mp1xoAtLh7i5YkqlxA7Zz VxemRrGdJW/YfH3/MwoL2JMEn/BmvOsn/uVRbsvsKQgMBsqOrWs4ZFqz4b4vSW1mlzJBCGnNTfh 2UJB/InOuG0cSI/I1avsEVSPWLh0s06qtNnSAZSmnl9LHiNR97pk73337VLov X-Gm-Gg: ASbGncu/mz+hUChSVxJfXZsyogcLY8WX7NC/uJShxKmAJwdAh7NUzGYjsLlhTib08oV lXQ0T3wm5u7p2R9fKStKtUjWCUBWb/mIXHj68gIxl0jWz2eUCVHw9qxgde9JhNUuEpDA0YGLz3M HwU5Zx+XlaKxW3Pzi0Xa1ScF7ksYDQUv6aOJRwAQYt5RTeemYFCiY+IjShNKT9wFnQFeGYEFyY/ LRe7y5TJSSg4Teqj7wVuUOZFp8Gix77/9hY+DA0L+JfZugWjzPWIIy/Gl6NWOBLckOt8uVLcMGA fmoLJxGAdqcjDxCpWiyS0txVDPyavZjKRO1WSY0meUNTEbNCxCywV0Q= X-Google-Smtp-Source: AGHT+IGytnLKbWQN777b0Aq/ro7Zrne360EuDx7pZ7r/R5vhLDhgVB1ZYqVvwmfB0YbTfN2KSiFGbLfbyG0d X-Received: by 2002:a05:6820:1744:b0:643:60ec:b940 with SMTP id 006d021491bc7-64bc36a4186mr41110eaf.8.1759243793220; Tue, 30 Sep 2025 07:49:53 -0700 (PDT) Received: from postal.iol.unh.edu (postal.iol.unh.edu. [2606:4100:3880:1234::84]) by smtp-relay.gmail.com with ESMTPS id 006d021491bc7-63b1f673382sm485623eaf.6.2025.09.30.07.49.53 (version=TLS1_2 cipher=ECDHE-ECDSA-AES128-GCM-SHA256 bits=128/128); Tue, 30 Sep 2025 07:49:53 -0700 (PDT) X-Relaying-Domain: iol.unh.edu Date: Tue, 30 Sep 2025 07:49:53 -0700 (PDT) Message-ID: <68dbee11.4a0a0220.259d24.c932SMTPIN_ADDED_MISSING@mx.google.com> Received: from [172.21.0.2] (unknown [172.18.0.240]) by postal.iol.unh.edu (Postfix) with ESMTP id 86973604D420; Tue, 30 Sep 2025 10:49:52 -0400 (EDT) Subject: |SUCCESS| [GIT MASTER] 1d627ea13aeec2bcccf27246e6be2508370d171e From: dpdklab@iol.unh.edu To: Test Report Cc: dpdk-test-reports@iol.unh.edu Content-Type: text/plain X-BeenThere: test-report@dpdk.org X-Mailman-Version: 2.1.29 Precedence: list List-Id: automatic DPDK test reports List-Unsubscribe: , List-Archive: List-Post: List-Help: List-Subscribe: , Errors-To: test-report-bounces@dpdk.org _Testing PASS_ Branch: dpdk 1d627ea13aeec2bcccf27246e6be2508370d171e --> testing pass Upstream job id: Generic-DPDK-Compile-Meson#429853 Test environment and result as below: +------------------------------+--------------------+ | Environment | dpdk_meson_compile | +==============================+====================+ | Ubuntu 20.04 | PASS | +------------------------------+--------------------+ | Red Hat Enterprise Linux 9.5 | PASS | +------------------------------+--------------------+ | Debian GNU/Linux 12 | PASS | +------------------------------+--------------------+ | Fedora Linux 42 | PASS | +------------------------------+--------------------+ | Ubuntu 22.04 | PASS | +------------------------------+--------------------+ | Ubuntu 24.04 | PASS | +------------------------------+--------------------+ | CentOS Stream 9 | PASS | +------------------------------+--------------------+ | CentOS Stream 10 | PASS | +------------------------------+--------------------+ Ubuntu 20.04 Kernel: 5.15 Compiler: aarch64-linux-gnu-gcc gcc (Ubuntu 9.4.0-1ubuntu1~20.04.2) 9.4.0 Red Hat Enterprise Linux 9.5 Kernel: 5.4 Compiler: gcc gcc (GCC) 11.5.0 20240719 (Red Hat 11.5.0-2) Debian GNU/Linux 12 Kernel: 5.4 Compiler: gcc gcc (Debian 12.2.0-14+deb12u1) 12.2.0 Fedora Linux 42 Kernel: 5.4 Compiler: gcc gcc (GCC) 15.2.1 20250808 (Red Hat 15.2.1-1) Ubuntu 22.04 Kernel: 5.4 Compiler: gcc gcc (Ubuntu 11.4.0-1ubuntu1~22.04) 11.4.0 Ubuntu 24.04 Kernel: 5.4 Compiler: gcc gcc (Ubuntu 13.3.0-6ubuntu2~24.04) 13.3.0 CentOS Stream 9 Kernel: 5.4 Compiler: gcc gcc (GCC) 11.5.0 20240719 (Red Hat 11.5.0-11) CentOS Stream 10 Kernel: 5.4 Compiler: gcc gcc (GCC) 14.2.1 20250110 (Red Hat 14.2.1-8) To view detailed results, visit: https://lab.dpdk.org/results/dashboard/tarballs/35050/ UNH-IOL DPDK Community Lab To manage your email subscriptions, visit: https://lab.dpdk.org/results/dashboard/preferences/subscriptions/