From mboxrd@z Thu Jan 1 00:00:00 1970 Return-Path: Received: from mails.dpdk.org (mails.dpdk.org [217.70.189.124]) by inbox.dpdk.org (Postfix) with ESMTP id C6C3548871 for ; Tue, 30 Sep 2025 16:58:55 +0200 (CEST) Received: from mails.dpdk.org (localhost [127.0.0.1]) by mails.dpdk.org (Postfix) with ESMTP id A6E3E40151; Tue, 30 Sep 2025 16:58:55 +0200 (CEST) Received: from mail-yw1-f227.google.com (mail-yw1-f227.google.com [209.85.128.227]) by mails.dpdk.org (Postfix) with ESMTP id 4088F40151 for ; Tue, 30 Sep 2025 16:58:54 +0200 (CEST) Received: by mail-yw1-f227.google.com with SMTP id 00721157ae682-71d60110772so58669067b3.0 for ; Tue, 30 Sep 2025 07:58:54 -0700 (PDT) DKIM-Signature: v=1; a=rsa-sha256; c=relaxed/relaxed; d=iol.unh.edu; s=unh-iol; t=1759244333; x=1759849133; darn=dpdk.org; h=cc:to:from:subject:message-id:date:from:to:cc:subject:date :message-id:reply-to; bh=xc4TCfzDJle6WK/trFBLgJRF1b09Hoj87Ln04/UfWSQ=; b=FSlXV3QBM+7ATeCuJgohchWdfkY7uAU7DPV9loIwAEH2VwS9RcITXDJsjt+YjWqX92 3xSrMrWMDJUiqHq6CzvWeomlMX43D6I0DzLzMoJmI9135TOan3vZnYWfg7vEWHH/RhjK 8Jj1mGX+1aXmI5KBAVU2VosGBtBpcz4jbO1HA= X-Google-DKIM-Signature: v=1; a=rsa-sha256; c=relaxed/relaxed; d=1e100.net; s=20230601; t=1759244333; x=1759849133; h=cc:to:from:subject:message-id:date:x-gm-message-state:from:to:cc :subject:date:message-id:reply-to; bh=xc4TCfzDJle6WK/trFBLgJRF1b09Hoj87Ln04/UfWSQ=; b=PCgIVUJ9YzS73z3Gfi9gBP125foZyqzhDQk3Wf6gH4ceBlA1XReqbPhMvu+N8KIsqf sQe+refsFiVOpy80GRd6BZpPxxyUIKUdSYWA40bg0bOMsZ3Eb/RWTxCk/URcxxT8pE41 Ue/16IbSkWubot9jvu9YalH2spsV1Jx5z7bzVnmELbNYEWeUQZjY6sRQPCYcj55BaBst 79hvHWA150SClQ10OcLctRZFh1HKVONkVorQKy9UhNJlb9SRx5u/R+6DpTBuHGdgywrg CKrxzym7/rBgbufH3C+SwrR1CKaBt/rnyxVuNyHw6RJusabOXRCcqOECGRYH/eNFjXHA eB/w== X-Gm-Message-State: AOJu0Yxwc6U3ICExdYwOSzgHwhQa3XGIuOhGSmY9QGcJPugzsU3QJqnZ YB7PWQ/jjzk89FRwmr9c2exl94RC8dgW+aWTBg+viqVnZ5ajg05zF/D/L98zUtP7Ys27baAF6gy CANLbkntjd9uUXxY+upY+iqj4Lrd48FeY5AL9trcVrb4V X-Gm-Gg: ASbGnctKOPgywZBvwb1jGIk50Az+t39e+K5FB3IY4FlGH+QR9WPFWpSl3PP2kl6LTsn 0mhxRpMaacEF/TBJmibOvMjEj3U1DdQbpGqmp+zWCtXkUHMoo8f4Jhz8+tw/UfTNmoJu5z808pG ZXtRwC/X7ayaHOrslxBqzTOc+SQfqk404T31tANiUVKPJ9zWrmRS2zoTJCrOHca3O6ZIKcPUgOx amr7anrh658lwvz3p4ELmdUOXcN5oOPmBZXvrdy/AXbfNE+iRIMgjcHh3L+B7VVaIyyuQYVgwXz tuP+FkE8fK7OdH6GBLTK5nTZG7YaHUN95tr69IvBiGlpZVQV0IInLq+sKVnuRegw7czsjc3HeaI zKg== X-Google-Smtp-Source: AGHT+IEOomdM0VBfGbHiBtyOqHKPAXAnLyDsnhI3EMWm/dlBkpLVOMeLkdXgQ6AZf7hnI5sGZzCGeaqxpdlz X-Received: by 2002:a53:bf10:0:b0:629:464e:7f0e with SMTP id 956f58d0204a3-63b6ff7e739mr136426d50.31.1759244333557; Tue, 30 Sep 2025 07:58:53 -0700 (PDT) Received: from postal.iol.unh.edu (postal.iol.unh.edu. [132.177.123.84]) by smtp-relay.gmail.com with ESMTPS id 00721157ae682-765d9c2575fsm6584167b3.31.2025.09.30.07.58.53 (version=TLS1_2 cipher=ECDHE-ECDSA-AES128-GCM-SHA256 bits=128/128); Tue, 30 Sep 2025 07:58:53 -0700 (PDT) X-Relaying-Domain: iol.unh.edu Date: Tue, 30 Sep 2025 07:58:53 -0700 (PDT) Message-ID: <68dbf02d.050a0220.193ff4.9a6aSMTPIN_ADDED_MISSING@mx.google.com> Received: from [172.21.0.3] (unknown [172.18.0.240]) by postal.iol.unh.edu (Postfix) with ESMTP id 31C56604D420; Tue, 30 Sep 2025 10:58:53 -0400 (EDT) Subject: |SUCCESS| [GIT MASTER] 1d627ea13aeec2bcccf27246e6be2508370d171e From: dpdklab@iol.unh.edu To: Test Report Cc: dpdk-test-reports@iol.unh.edu Content-Type: text/plain X-BeenThere: test-report@dpdk.org X-Mailman-Version: 2.1.29 Precedence: list List-Id: automatic DPDK test reports List-Unsubscribe: , List-Archive: List-Post: List-Help: List-Subscribe: , Errors-To: test-report-bounces@dpdk.org _Testing PASS_ Branch: dpdk 1d627ea13aeec2bcccf27246e6be2508370d171e --> testing pass Upstream job id: Generic-Unit-Test-DPDK#376383 Test environment and result as below: +------------------------------+----------------+---------------------------+--------------+------------------------------+ | Environment | dpdk_unit_test | cryptodev_sw_zuc_autotest | lpm_autotest | cryptodev_sw_snow3g_autotest | +==============================+================+===========================+==============+==============================+ | Fedora Linux 42 | PASS | SKIPPED | SKIPPED | SKIPPED | +------------------------------+----------------+---------------------------+--------------+------------------------------+ | CentOS Stream 10 | PASS | SKIPPED | SKIPPED | SKIPPED | +------------------------------+----------------+---------------------------+--------------+------------------------------+ | Ubuntu 24.04 | PASS | SKIPPED | SKIPPED | SKIPPED | +------------------------------+----------------+---------------------------+--------------+------------------------------+ | Debian GNU/Linux 12 | PASS | SKIPPED | SKIPPED | SKIPPED | +------------------------------+----------------+---------------------------+--------------+------------------------------+ | Fedora Linux 40 | PASS | SKIPPED | SKIPPED | SKIPPED | +------------------------------+----------------+---------------------------+--------------+------------------------------+ | Ubuntu 20.04 | PASS | SKIPPED | PASS | SKIPPED | +------------------------------+----------------+---------------------------+--------------+------------------------------+ | Ubuntu 22.04 | PASS | SKIPPED | SKIPPED | SKIPPED | +------------------------------+----------------+---------------------------+--------------+------------------------------+ | Red Hat Enterprise Linux 9.5 | PASS | SKIPPED | SKIPPED | SKIPPED | +------------------------------+----------------+---------------------------+--------------+------------------------------+ | CentOS Stream 9 | PASS | SKIPPED | SKIPPED | SKIPPED | +------------------------------+----------------+---------------------------+--------------+------------------------------+ | Fedora Linux 41 | PASS | SKIPPED | SKIPPED | SKIPPED | +------------------------------+----------------+---------------------------+--------------+------------------------------+ | Debian 12 (arm) | SKIPPED | PASS | SKIPPED | PASS | +------------------------------+----------------+---------------------------+--------------+------------------------------+ Fedora Linux 42 Kernel: 5.4 Compiler: clang gcc (GCC) 15.2.1 20250808 (Red Hat 15.2.1-1) CentOS Stream 10 Kernel: 5.4 Compiler: gcc gcc (GCC) 14.2.1 20250110 (Red Hat 14.2.1-8) Ubuntu 24.04 Kernel: 5.4 Compiler: gcc gcc (Ubuntu 13.3.0-6ubuntu2~24.04) 13.3.0 Debian GNU/Linux 12 Kernel: 5.4 Compiler: gcc gcc (Debian 12.2.0-14+deb12u1) 12.2.0 Fedora Linux 40 Kernel: 5.4 Compiler: clang gcc (GCC) 14.2.1 20240912 (Red Hat 14.2.1-3) Ubuntu 20.04 Kernel: 5.4 Compiler: gcc gcc (Ubuntu 9.4.0-1ubuntu1~20.04.2) 9.4.0 Ubuntu 22.04 Kernel: 5.4 Compiler: gcc gcc (Ubuntu 11.4.0-1ubuntu1~22.04) 11.4.0 Red Hat Enterprise Linux 9.5 Kernel: 5.4 Compiler: gcc gcc (GCC) 11.5.0 20240719 (Red Hat 11.5.0-2) CentOS Stream 9 Kernel: 5.4 Compiler: gcc gcc (GCC) 11.5.0 20240719 (Red Hat 11.5.0-11) Fedora Linux 41 Kernel: 5.4 Compiler: clang gcc (GCC) 14.3.1 20250523 (Red Hat 14.3.1-1) Debian 12 (arm) Kernel: Depends on container host Compiler: gcc (Debian 12.2.0-14) 12.2.0 To view detailed results, visit: https://lab.dpdk.org/results/dashboard/tarballs/35050/ UNH-IOL DPDK Community Lab To manage your email subscriptions, visit: https://lab.dpdk.org/results/dashboard/preferences/subscriptions/