From mboxrd@z Thu Jan 1 00:00:00 1970 Return-Path: Received: from mails.dpdk.org (mails.dpdk.org [217.70.189.124]) by inbox.dpdk.org (Postfix) with ESMTP id DC84848871 for ; Tue, 30 Sep 2025 17:33:38 +0200 (CEST) Received: from mails.dpdk.org (localhost [127.0.0.1]) by mails.dpdk.org (Postfix) with ESMTP id A774840661; Tue, 30 Sep 2025 17:33:38 +0200 (CEST) Received: from mail-il1-f226.google.com (mail-il1-f226.google.com [209.85.166.226]) by mails.dpdk.org (Postfix) with ESMTP id DF0714025F for ; Tue, 30 Sep 2025 17:33:37 +0200 (CEST) Received: by mail-il1-f226.google.com with SMTP id e9e14a558f8ab-42486ed0706so30764255ab.0 for ; Tue, 30 Sep 2025 08:33:37 -0700 (PDT) DKIM-Signature: v=1; a=rsa-sha256; c=relaxed/relaxed; d=iol.unh.edu; s=unh-iol; t=1759246417; x=1759851217; darn=dpdk.org; h=references:in-reply-to:cc:to:from:subject:message-id:date:from:to :cc:subject:date:message-id:reply-to; bh=9aZBArxmn59vzvd/qHrcCOv39YNDbj20HTA/9VHlN7o=; b=GJ1Lx/byvyhlKdjYOQ58iOzacIdjOOBc8Z+nS5QLNKXpT7bpAxNCqBPMa+s/h1J2Wv f+t9cKq2+zCxhkJFt5AjlDvcMRCjOSF7K3VC+czj0ibM+eEOtNqpd9uWIWdqeUpeCsoS 5/Q8FPEBF45d/ClEiPTzdPTQAho4o2Hk/a74Y= X-Google-DKIM-Signature: v=1; a=rsa-sha256; c=relaxed/relaxed; d=1e100.net; s=20230601; t=1759246417; x=1759851217; h=references:in-reply-to:cc:to:from:subject:message-id:date :x-gm-message-state:from:to:cc:subject:date:message-id:reply-to; bh=9aZBArxmn59vzvd/qHrcCOv39YNDbj20HTA/9VHlN7o=; b=UVJE3qRpGB6o4VJl7L65C8ls2arI/rZhW/uuQ/EkqGiHES6wZGVsuY5Snk/pVirGTF 1CPmvgQ90dcUuzvKlt/OIRt1tSfObjzR7yf5oW0z1dxw40YLyosWBxIhMGFR3Zu7ATN8 8p2uGS1rr2oZKjlLtMZI3CrsxPYUtZmbLdBadixczkBYV4znNmEfqUzksdn+9ILXU2ov DOOG5O6lIOUSFZKfiaUMxY0TbGWNcTcsESdoKkftmcKJI+/AI80wDL9iQg5iyVM2x0yC NVlrbEYm11SdtcuakaJLkSCLBbhGbDbeyBR6y4Rz+7p3HJC9IDzzqfTIqDY0NkqBHTjo +TIA== X-Gm-Message-State: AOJu0YyHdVKsdhRKioQZbw5dyt4C4oXJA5xJKJpyKSJHjmU4xGpDGY6I yPpX2uwqff+kkLXrNx+WPP93WaUHlPDoCf0gxbgNCWHbbD+HRRgF5i8QBVsQFaG486+0WL8GX0X uAJ7pIZzPgJ+me5xdWG8EdSpqn1wcC2axwy9mikoYpVGKssYp/zg5/JH+HyKb X-Gm-Gg: ASbGncuqI2iFIS6vn7mrcQMQdj0QJSf3A4k+1cbxt5CEEcHinUpxqT/MhJgzClU5qrm 2xA0klFapKS1ED29TAIN4kPF3k14KtGXhpP+r+XVD4EaMRLgTd1c0XjrXFaG92ZiGrRIXzyrJDe 8IRfcHYUu21kS6v/sEIF4qBxY5cp+oEb6Xl6Ke6USUFZiRNoFwWjFQsHVk+J8JTpstH8rhBZvmg g9e7NiC0QECwaLAR4MRrn8pLQGItvFH6xMsSZnFThIZKUOjJ5MnkP9liECiIIj5fn3+xgVhBcTx BRkHosREgnY+MJaekn1bpqX/0gGxr5F/IIc+HhXFiSrADjMcfkQoVaY= X-Google-Smtp-Source: AGHT+IHZ/kH8XAFL55V/d8MxQ0cmLtCU3Q9bbqpYLbthi+2tNxukMBwXhS5AZ3KGe3Qjnh9mx61p0vPo1UTR X-Received: by 2002:a05:6e02:2583:b0:3f3:4562:ca92 with SMTP id e9e14a558f8ab-42d815c67dcmr5998625ab.10.1759246416778; Tue, 30 Sep 2025 08:33:36 -0700 (PDT) Received: from postal.iol.unh.edu (postal.iol.unh.edu. [2606:4100:3880:1234::84]) by smtp-relay.gmail.com with ESMTPS id 8926c6da1cb9f-5750028f79dsm335600173.29.2025.09.30.08.33.36 (version=TLS1_2 cipher=ECDHE-ECDSA-AES128-GCM-SHA256 bits=128/128); Tue, 30 Sep 2025 08:33:36 -0700 (PDT) X-Relaying-Domain: iol.unh.edu Date: Tue, 30 Sep 2025 08:33:36 -0700 (PDT) Message-ID: <68dbf850.050a0220.1382df.3dfcSMTPIN_ADDED_MISSING@mx.google.com> Received: from [172.21.0.2] (unknown [172.18.0.240]) by postal.iol.unh.edu (Postfix) with ESMTP id 6EB9A604D420; Tue, 30 Sep 2025 11:33:36 -0400 (EDT) Subject: |SUCCESS| pw157143 [PATCH] net/ice: fix initialization with 8 ports From: dpdklab@iol.unh.edu To: Test Report Cc: dpdk-test-reports@iol.unh.edu, Bruce Richardson In-Reply-To: <20250930142850.1782615-1-bruce.richardson@intel.com> References: <20250930142850.1782615-1-bruce.richardson@intel.com> Content-Type: text/plain X-BeenThere: test-report@dpdk.org X-Mailman-Version: 2.1.29 Precedence: list List-Id: automatic DPDK test reports List-Unsubscribe: , List-Archive: List-Post: List-Help: List-Subscribe: , Errors-To: test-report-bounces@dpdk.org Test-Label: iol-unit-amd64-testing Test-Status: SUCCESS http://dpdk.org/patch/157143 _Testing PASS_ Submitter: Bruce Richardson Date: Tuesday, September 30 2025 14:28:50 DPDK git baseline: Repo:dpdk-next-net-intel Branch: master CommitID:9845e5848bbe337306fb6ae2a6b1ce5e6ab5b714 157143 --> testing pass Upstream job id: Generic-VM-Unit-Test-DPDK#31496 Test environment and result as below: +-------------------------------+----------------+ | Environment | dpdk_unit_test | +===============================+================+ | CentOS Stream 9 | PASS | +-------------------------------+----------------+ | CentOS Stream 10 | PASS | +-------------------------------+----------------+ | Debian GNU/Linux 12 | PASS | +-------------------------------+----------------+ | Fedora Linux 40 | PASS | +-------------------------------+----------------+ | Fedora Linux 41 | PASS | +-------------------------------+----------------+ | Fedora Linux 42 | PASS | +-------------------------------+----------------+ | Red Hat Enterprise Linux 9.5 | PASS | +-------------------------------+----------------+ | Red Hat Enterprise Linux 8.10 | PASS | +-------------------------------+----------------+ | Ubuntu 24.04 | PASS | +-------------------------------+----------------+ | Ubuntu 20.04 | PASS | +-------------------------------+----------------+ | Ubuntu 22.04 | PASS | +-------------------------------+----------------+ | Windows Server 2022 | PASS | +-------------------------------+----------------+ CentOS Stream 9 Kernel: 5.15 Compiler: gcc gcc (GCC) 11.5.0 20240719 (Red Hat 11.5.0-11) CentOS Stream 10 Kernel: 5.15 Compiler: gcc gcc (GCC) 14.2.1 20250110 (Red Hat 14.2.1-8) Debian GNU/Linux 12 Kernel: 5.15 Compiler: gcc gcc (Debian 12.2.0-14+deb12u1) 12.2.0 Fedora Linux 40 Kernel: 5.15 Compiler: clang gcc (GCC) 14.2.1 20240912 (Red Hat 14.2.1-3) Fedora Linux 41 Kernel: 5.15 Compiler: gcc gcc (GCC) 14.3.1 20250523 (Red Hat 14.3.1-1) Fedora Linux 42 Kernel: 5.15 Compiler: clang gcc (GCC) 15.2.1 20250808 (Red Hat 15.2.1-1) Red Hat Enterprise Linux 9.5 Kernel: 5.15 Compiler: gcc gcc (GCC) 11.5.0 20240719 (Red Hat 11.5.0-2) Red Hat Enterprise Linux 8.10 Kernel: 5.15 Compiler: gcc gcc (GCC) 8.5.0 20210514 (Red Hat 8.5.0-22) Ubuntu 24.04 Kernel: 5.15 Compiler: gcc gcc (Ubuntu 13.3.0-6ubuntu2~24.04) 13.3.0 Ubuntu 20.04 Kernel: 5.15 Compiler: gcc gcc (Ubuntu 9.4.0-1ubuntu1~20.04.2) 9.4.0 Ubuntu 22.04 Kernel: 5.15 Compiler: gcc gcc (Ubuntu 11.4.0-1ubuntu1~22.04) 11.4.0 Windows Server 2022 Kernel: 10.0.20348.2031 Compiler: clang 15.0.7, gcc 14.1.0 (MinGW), and MSVC VS 19.39.33521 To view detailed results, visit: https://lab.dpdk.org/results/dashboard/patchsets/34184/ UNH-IOL DPDK Community Lab To manage your email subscriptions, visit: https://lab.dpdk.org/results/dashboard/preferences/subscriptions/