From mboxrd@z Thu Jan 1 00:00:00 1970 Return-Path: Received: from mails.dpdk.org (mails.dpdk.org [217.70.189.124]) by inbox.dpdk.org (Postfix) with ESMTP id C722248871 for ; Tue, 30 Sep 2025 17:34:35 +0200 (CEST) Received: from mails.dpdk.org (localhost [127.0.0.1]) by mails.dpdk.org (Postfix) with ESMTP id C40D940151; Tue, 30 Sep 2025 17:34:35 +0200 (CEST) Received: from mail-io1-f100.google.com (mail-io1-f100.google.com [209.85.166.100]) by mails.dpdk.org (Postfix) with ESMTP id C703D40151 for ; Tue, 30 Sep 2025 17:34:34 +0200 (CEST) Received: by mail-io1-f100.google.com with SMTP id ca18e2360f4ac-887764c2868so552790939f.1 for ; Tue, 30 Sep 2025 08:34:34 -0700 (PDT) DKIM-Signature: v=1; a=rsa-sha256; c=relaxed/relaxed; d=iol.unh.edu; s=unh-iol; t=1759246474; x=1759851274; darn=dpdk.org; h=references:in-reply-to:cc:to:from:subject:message-id:date:from:to :cc:subject:date:message-id:reply-to; bh=m8gZOFBhxVnRLo8LiHSleqrztJPe8GLTxRB10KKe5hE=; b=LAH5iDFDScUQZr0l0uGCD1fRun3VBb43fx+v9NYBHPn2/Q/WaQ79fPoHXLiERzM3Ti z4qDdT3efgMsWvQZvTTyIJaOMrLWkC78+AcHUysAMXyRsQ29JoVqqMHFB+QTBoQ6ET+N e0ucacRnnvjL3I6sX5vLSZoof+pH8c/fIuTIU= X-Google-DKIM-Signature: v=1; a=rsa-sha256; c=relaxed/relaxed; d=1e100.net; s=20230601; t=1759246474; x=1759851274; h=references:in-reply-to:cc:to:from:subject:message-id:date :x-gm-message-state:from:to:cc:subject:date:message-id:reply-to; bh=m8gZOFBhxVnRLo8LiHSleqrztJPe8GLTxRB10KKe5hE=; b=jTC0crU2M28AlkHU5SMWeos6YzPnxSo/SvM2tDmtB2+/UkLDJAw5VSXZm4RGyquj/u rjPvg7UFo/SuXVt7+z6Kq/wcAWf4QS7ahLn2aWr/aYQsxiATjpJbCzJDZtZAPr5e0rC5 D4aDWfLplz5TL5QlWMqlxlx3K9yVXSKcSLxPVg7xi1hIc0gznaIwXH1Iyv6ceKb4PUHM lDdOYAJOjAtXX12A40VNe+X16fqc6EGbWxmEkWpWBtx2tVsYpS4t+aDhNYLGirufLWNR 7vPSY64vEqG9EN1/hRDzhJwhUH1stuF6tZAd+KzbGeKEf0r/xpCWLSqucbmAgOXGDp3T /e5w== X-Gm-Message-State: AOJu0YypNYcOSD1jDVx3/u9LUqDlkVaKXum/Dur6rpmmfIUwazLWJ+N4 r+4mcp6rpltjThg8m4hXmhu07b6mHtMjO0zYr5jujyvh6NFM3hY3RYEbxRZZmAo+uoZXZxQ2tYy q6OBVJaeKKyEekvmDcOeav9Z2KCh3+O1hqTf4HhTAGjT2 X-Gm-Gg: ASbGncvg6IS92fIy/y9KDBpbUfyV2+RX2zBnwipfF7rZK/f8IRu3DNM+THwVqoepFta aWRmSOxH3Qe3jwx8vdvOHsfDaRzLMPAapE6V8FP4e+bI3YWjiaSRDgBT4IXumQ1PMel7BjNAYYn pynsRsI75cwOSS/NJStnEnxWSvx8eIMrlVSVeAu9HPO3TLyF3p5KzlxVyXb4LYOs8s1oa7bVHW0 51GArvysnf+14g4zLmD1oqQlxhulhFGF4Lt6Mq4brnq+cPi5a9F4BvV4snU2n4wZSYHuFzZToM7 rnod1c4mGAJ65Y/QMQlduOeOzj2SAyaAsgJitcShw3HnuB+BWJ0h+SUf1geZGfRS8XIAor/rVfD xgw== X-Google-Smtp-Source: AGHT+IECcHSAIvrjW8xeXw9wucdTeMfnNRz+vqaNx/Wp1Pty6PwHNy+8Cc7Ya9HcflzywKt/nHktV089Rzmh X-Received: by 2002:a05:6e02:1aa6:b0:42d:7dae:e643 with SMTP id e9e14a558f8ab-42d8168805dmr5186965ab.23.1759246474009; Tue, 30 Sep 2025 08:34:34 -0700 (PDT) Received: from postal.iol.unh.edu (postal.iol.unh.edu. [132.177.123.84]) by smtp-relay.gmail.com with ESMTPS id e9e14a558f8ab-425bf6d4f6fsm10763945ab.26.2025.09.30.08.34.33 (version=TLS1_2 cipher=ECDHE-ECDSA-AES128-GCM-SHA256 bits=128/128); Tue, 30 Sep 2025 08:34:34 -0700 (PDT) X-Relaying-Domain: iol.unh.edu Date: Tue, 30 Sep 2025 08:34:34 -0700 (PDT) Message-ID: <68dbf88a.050a0220.588e8.f981SMTPIN_ADDED_MISSING@mx.google.com> Received: from [172.21.0.2] (unknown [172.18.0.240]) by postal.iol.unh.edu (Postfix) with ESMTP id 8B515604D420; Tue, 30 Sep 2025 11:34:33 -0400 (EDT) Subject: |SUCCESS| pw157143 [PATCH] net/ice: fix initialization with 8 ports From: dpdklab@iol.unh.edu To: Test Report Cc: dpdk-test-reports@iol.unh.edu, Bruce Richardson In-Reply-To: <20250930142850.1782615-1-bruce.richardson@intel.com> References: <20250930142850.1782615-1-bruce.richardson@intel.com> Content-Type: text/plain X-BeenThere: test-report@dpdk.org X-Mailman-Version: 2.1.29 Precedence: list List-Id: automatic DPDK test reports List-Unsubscribe: , List-Archive: List-Post: List-Help: List-Subscribe: , Errors-To: test-report-bounces@dpdk.org Test-Label: iol-compile-amd64-testing Test-Status: SUCCESS http://dpdk.org/patch/157143 _Testing PASS_ Submitter: Bruce Richardson Date: Tuesday, September 30 2025 14:28:50 DPDK git baseline: Repo:dpdk-next-net-intel Branch: master CommitID:9845e5848bbe337306fb6ae2a6b1ce5e6ab5b714 157143 --> testing pass Upstream job id: Windows-Compile-DPDK-Native#31328 Test environment and result as below: +---------------------+--------------------+-------------------------+-------------------+----------------------+ | Environment | dpdk_meson_compile | dpdk_llvm_clang_compile | dpdk_msvc_compile | dpdk_mingw64_compile | +=====================+====================+=========================+===================+======================+ | Ubuntu 20.04 | PASS | SKIPPED | SKIPPED | SKIPPED | +---------------------+--------------------+-------------------------+-------------------+----------------------+ | FreeBSD 14.2 | PASS | SKIPPED | SKIPPED | SKIPPED | +---------------------+--------------------+-------------------------+-------------------+----------------------+ | Windows Server 2022 | SKIPPED | PASS | PASS | PASS | +---------------------+--------------------+-------------------------+-------------------+----------------------+ Ubuntu 20.04 Kernel: 4.19 Compiler: gcc gcc (Ubuntu 9.4.0-1ubuntu1~20.04.2) 9.4.0 FreeBSD 14.2 Kernel: 14.2-RELEASE Compiler: clang 18.1.6 Windows Server 2022 Kernel: 10.0.20348.2031 Compiler: clang 15.0.7, gcc 14.1.0 (MinGW), and MSVC VS 19.39.33521 To view detailed results, visit: https://lab.dpdk.org/results/dashboard/patchsets/34184/ UNH-IOL DPDK Community Lab To manage your email subscriptions, visit: https://lab.dpdk.org/results/dashboard/preferences/subscriptions/