From mboxrd@z Thu Jan 1 00:00:00 1970 Return-Path: Received: from mails.dpdk.org (mails.dpdk.org [217.70.189.124]) by inbox.dpdk.org (Postfix) with ESMTP id 562E448871 for ; Tue, 30 Sep 2025 17:38:34 +0200 (CEST) Received: from mails.dpdk.org (localhost [127.0.0.1]) by mails.dpdk.org (Postfix) with ESMTP id 32DE440151; Tue, 30 Sep 2025 17:38:34 +0200 (CEST) Received: from mail-pl1-f228.google.com (mail-pl1-f228.google.com [209.85.214.228]) by mails.dpdk.org (Postfix) with ESMTP id 8B36440151 for ; Tue, 30 Sep 2025 17:38:32 +0200 (CEST) Received: by mail-pl1-f228.google.com with SMTP id d9443c01a7336-27c369f8986so59082595ad.3 for ; Tue, 30 Sep 2025 08:38:32 -0700 (PDT) DKIM-Signature: v=1; a=rsa-sha256; c=relaxed/relaxed; d=iol.unh.edu; s=unh-iol; t=1759246711; x=1759851511; darn=dpdk.org; h=references:in-reply-to:cc:to:from:subject:message-id:date:from:to :cc:subject:date:message-id:reply-to; bh=4iIqwv5cpocqfNf9lIgOAj9WAsQCtwlEYADDxTnoY8k=; b=NMS3Pz/XNDCa7eAVSZgWVHdlbt2jVaj8fduPmAZDzMeqV51HSZo+fzCvrQ7neNlELA UqKFJbFRNkJeu3/2zGQ8VDKTqFh3h+rC88gsJJf7T4ATJkCWf9RCnwU81FQbRkkTTJFT wIXSq7E6AlLbqsvZyWqZyXT4KVwuRlJg1CaIg= X-Google-DKIM-Signature: v=1; a=rsa-sha256; c=relaxed/relaxed; d=1e100.net; s=20230601; t=1759246711; x=1759851511; h=references:in-reply-to:cc:to:from:subject:message-id:date :x-gm-message-state:from:to:cc:subject:date:message-id:reply-to; bh=4iIqwv5cpocqfNf9lIgOAj9WAsQCtwlEYADDxTnoY8k=; b=g9x/HxhjT7KHsMeyDlkycAD2i7URUL3Vjq97EdPecaBZ718nKK/fL7+tnmNMENmFj1 0lThQKmjpUXXTf71YzqQ0WX6fAN222mMpy0KeHnUDiGKVvXK8NGSyFI/vKA0d65OMMhn 692TXAhPOUa6k4nfjGceKcemuSxDLsn4ltA0tNMhPvc78aHGt+Y216Yo1iMadqal2RE9 xT7jEw7cIK7p4vgrXxQRvkPPwu76u6soU9tESUkaTxksC/67SP8kIhJvPxT5IGI7fwwu PY7HY7diGU4K2YqV4vDuPxtUOnkFB+oh4X2mfRFtQ7yZm10VHzlihqzls6bVBUuFNyeS uBsw== X-Gm-Message-State: AOJu0YxcesF77062lhNA0vm3fODAadWwxzP8icgBe5o6ZnV/lBva7NHp xRnnFxVmcwnLPmS0YcxVz8LgG7oqaT9Q3xLrSyzOzYNRkfOGI08kjaeZ58He3kkS5qurQ4F7PR5 MDNFuWHcaPHaCxiMC94O9Vy5rsEpdtNFxE43HKgAUdpvTRzXMC9ashPXZIUa2 X-Gm-Gg: ASbGncsaYQsaPw5KLgyMMPgpC0vmAuMqPAgN4Vy3vtZ6H8irPhjg/23ljjMECPzXBXg 8c7HJpirAE8is7XwqJB1RG3R6rXJx73NsmlHQ99P5+g/yuqwxfhphXF4z16UZc0720RdlWGXXIk lApYIRqZs+g5W+9lj3mzJJ6z38XWnj71275+FVXJDHBeqywDsY8P2iYffjrLDBA5ECp75I5hb96 LKJuN6+YU6pofyem6s3isGJrfWYbVn2wYz/YlgWs4Zs2FTM0sSBLP5LHYR+kA10oL931/x7u8RV rpOMRPuL/94WrNZ8F+pLB/n0qcMonFKqGaGSvZ/924W/Fm3xk+cpDO4= X-Google-Smtp-Source: AGHT+IHarbmwn7FMcH+3cXnWc94ji8fX+ocF66mmDDaVTSIjcvZ95xzLUzEBds40+nVAa2Nbt1LTC15rpO0j X-Received: by 2002:a17:903:46c3:b0:27e:ef12:6e94 with SMTP id d9443c01a7336-28e7f442cc2mr2106215ad.55.1759246711605; Tue, 30 Sep 2025 08:38:31 -0700 (PDT) Received: from postal.iol.unh.edu (postal.iol.unh.edu. [2606:4100:3880:1234::84]) by smtp-relay.gmail.com with ESMTPS id d9443c01a7336-27ed6700305sm12614445ad.33.2025.09.30.08.38.31 (version=TLS1_2 cipher=ECDHE-ECDSA-AES128-GCM-SHA256 bits=128/128); Tue, 30 Sep 2025 08:38:31 -0700 (PDT) X-Relaying-Domain: iol.unh.edu Date: Tue, 30 Sep 2025 08:38:31 -0700 (PDT) Message-ID: <68dbf977.170a0220.2ed7d.ab9aSMTPIN_ADDED_MISSING@mx.google.com> Received: from [172.21.0.3] (unknown [172.18.0.240]) by postal.iol.unh.edu (Postfix) with ESMTP id 17A37604D420; Tue, 30 Sep 2025 11:38:31 -0400 (EDT) Subject: |SUCCESS| pw157143 [PATCH] net/ice: fix initialization with 8 ports From: dpdklab@iol.unh.edu To: Test Report Cc: dpdk-test-reports@iol.unh.edu, Bruce Richardson In-Reply-To: <20250930142850.1782615-1-bruce.richardson@intel.com> References: <20250930142850.1782615-1-bruce.richardson@intel.com> Content-Type: text/plain X-BeenThere: test-report@dpdk.org X-Mailman-Version: 2.1.29 Precedence: list List-Id: automatic DPDK test reports List-Unsubscribe: , List-Archive: List-Post: List-Help: List-Subscribe: , Errors-To: test-report-bounces@dpdk.org Test-Label: iol-unit-amd64-testing Test-Status: SUCCESS http://dpdk.org/patch/157143 _Testing PASS_ Submitter: Bruce Richardson Date: Tuesday, September 30 2025 14:28:50 DPDK git baseline: Repo:dpdk-next-net-intel Branch: master CommitID:9845e5848bbe337306fb6ae2a6b1ce5e6ab5b714 157143 --> testing pass Upstream job id: Generic-VM-Unit-Test-DPDK#31497 Test environment and result as below: +-------------------------------+----------------+ | Environment | dpdk_unit_test | +===============================+================+ | CentOS Stream 9 | PASS | +-------------------------------+----------------+ | CentOS Stream 10 | PASS | +-------------------------------+----------------+ | Debian GNU/Linux 12 | PASS | +-------------------------------+----------------+ | Fedora Linux 40 | PASS | +-------------------------------+----------------+ | Fedora Linux 41 | PASS | +-------------------------------+----------------+ | Fedora Linux 42 | PASS | +-------------------------------+----------------+ | Red Hat Enterprise Linux 9.5 | PASS | +-------------------------------+----------------+ | Red Hat Enterprise Linux 8.10 | PASS | +-------------------------------+----------------+ | Ubuntu 24.04 | PASS | +-------------------------------+----------------+ | Ubuntu 20.04 | PASS | +-------------------------------+----------------+ | Ubuntu 22.04 | PASS | +-------------------------------+----------------+ | Windows Server 2022 | PASS | +-------------------------------+----------------+ CentOS Stream 9 Kernel: 5.15 Compiler: gcc gcc (GCC) 11.5.0 20240719 (Red Hat 11.5.0-11) CentOS Stream 10 Kernel: 5.15 Compiler: gcc gcc (GCC) 14.2.1 20250110 (Red Hat 14.2.1-8) Debian GNU/Linux 12 Kernel: 5.15 Compiler: gcc gcc (Debian 12.2.0-14+deb12u1) 12.2.0 Fedora Linux 40 Kernel: 5.15 Compiler: clang gcc (GCC) 14.2.1 20240912 (Red Hat 14.2.1-3) Fedora Linux 41 Kernel: 5.15 Compiler: gcc gcc (GCC) 14.3.1 20250523 (Red Hat 14.3.1-1) Fedora Linux 42 Kernel: 5.15 Compiler: clang gcc (GCC) 15.2.1 20250808 (Red Hat 15.2.1-1) Red Hat Enterprise Linux 9.5 Kernel: 5.15 Compiler: gcc gcc (GCC) 11.5.0 20240719 (Red Hat 11.5.0-2) Red Hat Enterprise Linux 8.10 Kernel: 5.15 Compiler: gcc gcc (GCC) 8.5.0 20210514 (Red Hat 8.5.0-22) Ubuntu 24.04 Kernel: 5.15 Compiler: gcc gcc (Ubuntu 13.3.0-6ubuntu2~24.04) 13.3.0 Ubuntu 20.04 Kernel: 5.15 Compiler: gcc gcc (Ubuntu 9.4.0-1ubuntu1~20.04.2) 9.4.0 Ubuntu 22.04 Kernel: 5.15 Compiler: gcc gcc (Ubuntu 11.4.0-1ubuntu1~22.04) 11.4.0 Windows Server 2022 Kernel: 10.0.20348.2031 Compiler: clang 15.0.7, gcc 14.1.0 (MinGW), and MSVC VS 19.39.33521 To view detailed results, visit: https://lab.dpdk.org/results/dashboard/patchsets/34184/ UNH-IOL DPDK Community Lab To manage your email subscriptions, visit: https://lab.dpdk.org/results/dashboard/preferences/subscriptions/