From mboxrd@z Thu Jan 1 00:00:00 1970 Return-Path: Received: from mails.dpdk.org (mails.dpdk.org [217.70.189.124]) by inbox.dpdk.org (Postfix) with ESMTP id 2AE0848871 for ; Tue, 30 Sep 2025 17:58:28 +0200 (CEST) Received: from mails.dpdk.org (localhost [127.0.0.1]) by mails.dpdk.org (Postfix) with ESMTP id 0A57340151; Tue, 30 Sep 2025 17:58:28 +0200 (CEST) Received: from mail-yw1-f227.google.com (mail-yw1-f227.google.com [209.85.128.227]) by mails.dpdk.org (Postfix) with ESMTP id C2E8840151 for ; Tue, 30 Sep 2025 17:58:26 +0200 (CEST) Received: by mail-yw1-f227.google.com with SMTP id 00721157ae682-71d71bcab6fso62643417b3.0 for ; Tue, 30 Sep 2025 08:58:26 -0700 (PDT) DKIM-Signature: v=1; a=rsa-sha256; c=relaxed/relaxed; d=iol.unh.edu; s=unh-iol; t=1759247906; x=1759852706; darn=dpdk.org; h=references:in-reply-to:cc:to:from:subject:message-id:date:from:to :cc:subject:date:message-id:reply-to; bh=V9twafQEsU7lvNrVrbMFT0Zcfq9NgfkteS3JAHYsx8w=; b=ifZqXW5dcJnidrUkIhGhMUH5ApTLkCtEl8ETL/rkhi2CrWGrOY7HsmZ++1FYRmWjmx 1JLOpcQMWTIG7qEtY1lCzJVXoUo+cHx1Icc+86GtHAyu3F7V8YArOX/ic1kVTL+yethY +Asc3UEo6FpTG2seoz1Si8TiOExDCDpZS9cos= X-Google-DKIM-Signature: v=1; a=rsa-sha256; c=relaxed/relaxed; d=1e100.net; s=20230601; t=1759247906; x=1759852706; h=references:in-reply-to:cc:to:from:subject:message-id:date :x-gm-message-state:from:to:cc:subject:date:message-id:reply-to; bh=V9twafQEsU7lvNrVrbMFT0Zcfq9NgfkteS3JAHYsx8w=; b=ZqL12f7hjC+LAsnWgCJwby5cgjmzgqkoYQpZWSYQ/bblEmfPHsZG/O65qcdHtGgH/2 Dt81GgGUUUoIMezND5f2DBT+JyqCiD4xUF7ib6ENp/lLnCA99pudd8C9QMsxok3SDGD/ iW0SEO7I9T5EjWUUftRxxXdiaKlsOBMzmUsO8F8+1eDOz4FXlWpjp6KI+XcROHaAegVU NfIDZ3XkyHTakOswojvPzSkWpoyEVN9KP52+kbs9tHgFsENF7Q349aQAP0XR2Prn3S6c 6vainkHXBCB8VKzTHTNx79iAwBv0VrbHXgLdfccXUEF4YZ9CgkXiR+Edojx2pAdlZugc YIHw== X-Gm-Message-State: AOJu0YzxfDJpwf7HCdJg7S4Z2OD/e9qc0vhfbSZfnSEVyi+gkskYOk3U VBPUnBVAV3MsUcXuH7O/0GhzQLv/8veU1mgdffvefPNQub9L/KRne4sazHF+24Y9D8DfBPA1pU6 HwGEMcVwkod2oONRDeCVrsatBIZlUQJnj2LoDlDg48eytK/bpFYbUDhnfTsi4 X-Gm-Gg: ASbGnctZMHqRdqFzAQExN/9WsW8CCgUNkWpK6zQwP5Fj2S7Fe1jtKM8Aly727eXsEsA ROFjSQQdIc5MWCXOudey8xJ5+fE6JvqyfEZXWxymqo9isZIdFz9ODUF/dFZQzlST0BJ5HFnol9J vNXhAIMz6sZPPb2GFCC8+rnrtbkhdydekB+FvrMSrGWvS6Nhpf4V7ZTuyFtkT4nDpZqjKTihFW3 Y/LvnvjYiTo6L7POtY2ai8QKPbH9NmPwcrvtYjoQJM7TIKBlIDRgq9E1R7IFh1SH+xpNKlchVF1 ZG1pxAXeuWUAi8Njtwj/XWF5/LSmhxpx8Ws5CYNAcqPJq+eyf3iS++k= X-Google-Smtp-Source: AGHT+IEltNS1KuqrQ8LGo+SUrjmIjnN9j30wqW6Lx+owvlt5I8EZ1wjkpJyePSjuvLRVAun/lcLil6+yy5np X-Received: by 2002:a05:690c:6e0e:b0:729:5655:3444 with SMTP id 00721157ae682-77f6f2c5830mr1637597b3.25.1759247905551; Tue, 30 Sep 2025 08:58:25 -0700 (PDT) Received: from postal.iol.unh.edu (postal.iol.unh.edu. [2606:4100:3880:1234::84]) by smtp-relay.gmail.com with ESMTPS id 00721157ae682-77f6644f56bsm912397b3.39.2025.09.30.08.58.25 (version=TLS1_2 cipher=ECDHE-ECDSA-AES128-GCM-SHA256 bits=128/128); Tue, 30 Sep 2025 08:58:25 -0700 (PDT) X-Relaying-Domain: iol.unh.edu Date: Tue, 30 Sep 2025 08:58:25 -0700 (PDT) Message-ID: <68dbfe21.050a0220.56d93.5187SMTPIN_ADDED_MISSING@mx.google.com> Received: from [172.21.0.2] (unknown [172.18.0.240]) by postal.iol.unh.edu (Postfix) with ESMTP id 2FCA6604D420; Tue, 30 Sep 2025 11:58:25 -0400 (EDT) Subject: |SUCCESS| pw157111 [PATCH] net/mlx5: fix IPv6 DSCP offset in NT HWS From: dpdklab@iol.unh.edu To: Test Report Cc: dpdk-test-reports@iol.unh.edu In-Reply-To: <20250930072827.9630-1-gavinl@nvidia.com> References: <20250930072827.9630-1-gavinl@nvidia.com> Content-Type: text/plain X-BeenThere: test-report@dpdk.org X-Mailman-Version: 2.1.29 Precedence: list List-Id: automatic DPDK test reports List-Unsubscribe: , List-Archive: List-Post: List-Help: List-Subscribe: , Errors-To: test-report-bounces@dpdk.org Test-Label: iol-compile-amd64-testing Test-Status: SUCCESS http://dpdk.org/patch/157111 _Testing PASS_ Submitter: Gavin Li Date: Tuesday, September 30 2025 07:28:27 DPDK git baseline: Repo:dpdk-next-net-mlx Branch: master CommitID:2374f33e1d964e100895fd294966380c46f0886d 157111 --> testing pass Upstream job id: Generic-DPDK-Compile-Meson#430005 Test environment and result as below: +-------------------------------+--------------------+-------------------+-------------------------+----------------------+-------------------+------------------+ | Environment | dpdk_meson_compile | dpdk_msvc_compile | dpdk_llvm_clang_compile | dpdk_mingw64_compile | dpdk_compile_spdk | dpdk_compile_ovs | +===============================+====================+===================+=========================+======================+===================+==================+ | Ubuntu 20.04 | PASS | SKIPPED | SKIPPED | SKIPPED | SKIPPED | SKIPPED | +-------------------------------+--------------------+-------------------+-------------------------+----------------------+-------------------+------------------+ | FreeBSD 14.2 | PASS | SKIPPED | SKIPPED | SKIPPED | SKIPPED | SKIPPED | +-------------------------------+--------------------+-------------------+-------------------------+----------------------+-------------------+------------------+ | CentOS Stream 9 | PASS | SKIPPED | SKIPPED | SKIPPED | PASS | SKIPPED | +-------------------------------+--------------------+-------------------+-------------------------+----------------------+-------------------+------------------+ | CentOS Stream 10 | PASS | SKIPPED | SKIPPED | SKIPPED | SKIPPED | SKIPPED | +-------------------------------+--------------------+-------------------+-------------------------+----------------------+-------------------+------------------+ | Debian GNU/Linux 12 | PASS | SKIPPED | SKIPPED | SKIPPED | PASS | SKIPPED | +-------------------------------+--------------------+-------------------+-------------------------+----------------------+-------------------+------------------+ | Fedora Linux 42 | PASS | SKIPPED | SKIPPED | SKIPPED | PASS | PASS | +-------------------------------+--------------------+-------------------+-------------------------+----------------------+-------------------+------------------+ | openSUSE Leap 15.6 | PASS | SKIPPED | SKIPPED | SKIPPED | SKIPPED | SKIPPED | +-------------------------------+--------------------+-------------------+-------------------------+----------------------+-------------------+------------------+ | Red Hat Enterprise Linux 8.10 | PASS | SKIPPED | SKIPPED | SKIPPED | SKIPPED | SKIPPED | +-------------------------------+--------------------+-------------------+-------------------------+----------------------+-------------------+------------------+ | Red Hat Enterprise Linux 9.5 | PASS | SKIPPED | SKIPPED | SKIPPED | SKIPPED | SKIPPED | +-------------------------------+--------------------+-------------------+-------------------------+----------------------+-------------------+------------------+ | Ubuntu 22.04 | PASS | SKIPPED | SKIPPED | SKIPPED | PASS | SKIPPED | +-------------------------------+--------------------+-------------------+-------------------------+----------------------+-------------------+------------------+ | Ubuntu 24.04 | PASS | SKIPPED | SKIPPED | SKIPPED | PASS | PASS | +-------------------------------+--------------------+-------------------+-------------------------+----------------------+-------------------+------------------+ | Alpine Linux 3.22.0 | PASS | SKIPPED | SKIPPED | SKIPPED | SKIPPED | SKIPPED | +-------------------------------+--------------------+-------------------+-------------------------+----------------------+-------------------+------------------+ | Windows Server 2022 | SKIPPED | PASS | PASS | PASS | SKIPPED | SKIPPED | +-------------------------------+--------------------+-------------------+-------------------------+----------------------+-------------------+------------------+ Ubuntu 20.04 Kernel: 4.19 Compiler: gcc gcc (Ubuntu 9.4.0-1ubuntu1~20.04.2) 9.4.0 FreeBSD 14.2 Kernel: 14.2-RELEASE Compiler: clang 18.1.6 CentOS Stream 9 Kernel: 5.15 Compiler: gcc gcc (GCC) 11.5.0 20240719 (Red Hat 11.5.0-11) CentOS Stream 10 Kernel: 5.15 Compiler: gcc gcc (GCC) 14.2.1 20250110 (Red Hat 14.2.1-8) Debian GNU/Linux 12 Kernel: 5.15 Compiler: gcc gcc (Debian 12.2.0-14+deb12u1) 12.2.0 Fedora Linux 42 Kernel: 5.15 Compiler: clang gcc (GCC) 15.2.1 20250808 (Red Hat 15.2.1-1) openSUSE Leap 15.6 Kernel: 5.15 Compiler: gcc gcc (SUSE Linux) 7.5.0 Red Hat Enterprise Linux 8.10 Kernel: 5.15 Compiler: gcc gcc (GCC) 8.5.0 20210514 (Red Hat 8.5.0-22) Red Hat Enterprise Linux 9.5 Kernel: 5.15 Compiler: gcc gcc (GCC) 11.5.0 20240719 (Red Hat 11.5.0-2) Ubuntu 22.04 Kernel: 5.15 Compiler: gcc gcc (Ubuntu 11.4.0-1ubuntu1~22.04) 11.4.0 Ubuntu 24.04 Kernel: 5.15 Compiler: gcc gcc (Ubuntu 13.3.0-6ubuntu2~24.04) 13.3.0 Alpine Linux 3.22.0 Kernel: 5.15 Compiler: gcc gcc (Alpine 14.2.0) 14.2.0 Windows Server 2022 Kernel: 10.0.20348.2031 Compiler: clang 15.0.7, gcc 14.1.0 (MinGW), and MSVC VS 19.39.33521 To view detailed results, visit: https://lab.dpdk.org/results/dashboard/patchsets/34178/ UNH-IOL DPDK Community Lab To manage your email subscriptions, visit: https://lab.dpdk.org/results/dashboard/preferences/subscriptions/