From mboxrd@z Thu Jan 1 00:00:00 1970 Return-Path: Received: from mails.dpdk.org (mails.dpdk.org [217.70.189.124]) by inbox.dpdk.org (Postfix) with ESMTP id AA66F48873 for ; Tue, 30 Sep 2025 19:10:19 +0200 (CEST) Received: from mails.dpdk.org (localhost [127.0.0.1]) by mails.dpdk.org (Postfix) with ESMTP id A590F40151; Tue, 30 Sep 2025 19:10:19 +0200 (CEST) Received: from mail-il1-f227.google.com (mail-il1-f227.google.com [209.85.166.227]) by mails.dpdk.org (Postfix) with ESMTP id 91F7B40151 for ; Tue, 30 Sep 2025 19:10:18 +0200 (CEST) Received: by mail-il1-f227.google.com with SMTP id e9e14a558f8ab-42d7b620348so7934025ab.0 for ; Tue, 30 Sep 2025 10:10:18 -0700 (PDT) DKIM-Signature: v=1; a=rsa-sha256; c=relaxed/relaxed; d=iol.unh.edu; s=unh-iol; t=1759252218; x=1759857018; darn=dpdk.org; h=cc:to:from:subject:message-id:date:from:to:cc:subject:date :message-id:reply-to; bh=CJiehEO0XPWX4/ukDwDwFSc8b925goJOiL9tRKnteAQ=; b=MxdN8M5vxDnQZtq6O7LFVMZKiIIV2g4JqXgHEeGMDG8Kp5zxPwCgNZBj9Vsto2C8ac 3aODZBPdgkU+CL5qW7EWm4a8+4cYgMYYF2VZGxID/Pt4f3BBq/F7ivI/Fc2lOP4hwkgh w80nI5i+AMp+fPJ95Kyh+yPROjdN6vdNq4EtA= X-Google-DKIM-Signature: v=1; a=rsa-sha256; c=relaxed/relaxed; d=1e100.net; s=20230601; t=1759252218; x=1759857018; h=cc:to:from:subject:message-id:date:x-gm-message-state:from:to:cc :subject:date:message-id:reply-to; bh=CJiehEO0XPWX4/ukDwDwFSc8b925goJOiL9tRKnteAQ=; b=rgAs1ghqtnWFZE4nJE6L+cfAe7PU6yIP1F93Txl8WiWp74CSlLcZxH7ciZ4gh58IwY Td5eSi+XLwdR1maf6XumN2ByWwwDtwOBTBKmOzXkpvu2dUwCYBVzevzQ6KTCDR0zpVr8 lVbyfR/SfvJA4ae7GBoJF8l+SdG6Jcr1uIcFNZc0HJstXXM+eIgItaQblo17StLihqQJ DzrtFCC/Suor2Wy8y2m1BLogS0i9yoTZjLYcqq4qsUCbjLMYIrWAJHxwcuR18/jmFSMW hSmoiky+b7p+5a8x5IjyCroASP8MB+in7z/by8LrEAPxAQ/pitwBPX12+LwWVkyTuDe2 anBw== X-Gm-Message-State: AOJu0YzBfrY5FGuxYx473ZPb6O+FYdEIWPsrsDjLd2h/0QCT6pDz2KZP w83OWP2n8pA1OE7/7F8XPEYvLuKDDbfImSoYhixKA8rmUpiI62USopMlaX/14dS2nVuA4WEdTcP Tj0ul7sbITAo9TGzB53Z/2F3Ac20j5oBWAgEqBxz0fk8h X-Gm-Gg: ASbGncs5PTwPHi4vxjqtUFaTgG0qv4vpmF/UhJYPz767LYWIFm0LF06jOgW22OA9Hje CLctaRfg/KqDNu982kTtJ/IpAJHR0YjmZa5cv43TXyV1xdCYIuS69M/m4p84nh6DlFU+ClVPey9 z3xBdnWBCL0PDwzorRRqQr/CsY9bCKEEMmN9/AJd6DiyDDhW6XAIHMZN3r8Qv0mTaWaZAM5tpzu 5xby0TR7q4PlRrn4SkG8K28basFBrBXd573+PZQXQ99lQnVml2w09X0wNXCKlhKcC+bV2sma86T FpTLEvnYyyS+WGc6VkBzoD8ovMogcm6aMBCtbHaSfOwLnajt4M13nHIG4ppubv32wAlCUKDWHeG Ebg== X-Google-Smtp-Source: AGHT+IEO9A7vBcoxtrodiVX6OqHxmst0Dr+EiJ3ku/y2vIZM3ZolWJWSu4JOuqpCegFYISW1VbmM5drBFI8u X-Received: by 2002:a05:6e02:2289:b0:428:973:797d with SMTP id e9e14a558f8ab-42d816126f2mr11153125ab.9.1759252217854; Tue, 30 Sep 2025 10:10:17 -0700 (PDT) Received: from postal.iol.unh.edu (postal.iol.unh.edu. [132.177.123.84]) by smtp-relay.gmail.com with ESMTPS id 8926c6da1cb9f-574eb1e904dsm347529173.9.2025.09.30.10.10.17 (version=TLS1_2 cipher=ECDHE-ECDSA-AES128-GCM-SHA256 bits=128/128); Tue, 30 Sep 2025 10:10:17 -0700 (PDT) X-Relaying-Domain: iol.unh.edu Date: Tue, 30 Sep 2025 10:10:17 -0700 (PDT) Message-ID: <68dc0ef9.050a0220.38708c.4bc9SMTPIN_ADDED_MISSING@mx.google.com> Received: from [172.21.0.2] (unknown [172.18.0.240]) by postal.iol.unh.edu (Postfix) with ESMTP id 6DE0B6050A61; Tue, 30 Sep 2025 13:10:17 -0400 (EDT) Subject: |SUCCESS| [GIT MASTER] f3878b615e69a12087a6c5d212723478cfc79c31 From: dpdklab@iol.unh.edu To: Test Report Cc: dpdk-test-reports@iol.unh.edu, Jerin Jacob Content-Type: text/plain X-BeenThere: test-report@dpdk.org X-Mailman-Version: 2.1.29 Precedence: list List-Id: automatic DPDK test reports List-Unsubscribe: , List-Archive: List-Post: List-Help: List-Subscribe: , Errors-To: test-report-bounces@dpdk.org _Testing PASS_ Branch: dpdk-next-eventdev f3878b615e69a12087a6c5d212723478cfc79c31 --> testing pass Upstream job id: Windows-Compile-DPDK-Native#31330 Test environment and result as below: +---------------------+--------------------+-------------------------+-------------------+----------------------+ | Environment | dpdk_meson_compile | dpdk_llvm_clang_compile | dpdk_msvc_compile | dpdk_mingw64_compile | +=====================+====================+=========================+===================+======================+ | Ubuntu 20.04 | PASS | SKIPPED | SKIPPED | SKIPPED | +---------------------+--------------------+-------------------------+-------------------+----------------------+ | FreeBSD 14.2 | PASS | SKIPPED | SKIPPED | SKIPPED | +---------------------+--------------------+-------------------------+-------------------+----------------------+ | Windows Server 2022 | SKIPPED | PASS | PASS | PASS | +---------------------+--------------------+-------------------------+-------------------+----------------------+ Ubuntu 20.04 Kernel: 4.19 Compiler: gcc gcc (Ubuntu 9.4.0-1ubuntu1~20.04.2) 9.4.0 FreeBSD 14.2 Kernel: 14.2-RELEASE Compiler: clang 18.1.6 Windows Server 2022 Kernel: 10.0.20348.2031 Compiler: clang 15.0.7, gcc 14.1.0 (MinGW), and MSVC VS 19.39.33521 To view detailed results, visit: https://lab.dpdk.org/results/dashboard/tarballs/35062/ UNH-IOL DPDK Community Lab To manage your email subscriptions, visit: https://lab.dpdk.org/results/dashboard/preferences/subscriptions/