From mboxrd@z Thu Jan 1 00:00:00 1970 Return-Path: Received: from mails.dpdk.org (mails.dpdk.org [217.70.189.124]) by inbox.dpdk.org (Postfix) with ESMTP id 1327E48873 for ; Tue, 30 Sep 2025 19:14:01 +0200 (CEST) Received: from mails.dpdk.org (localhost [127.0.0.1]) by mails.dpdk.org (Postfix) with ESMTP id 0D8D740151; Tue, 30 Sep 2025 19:14:01 +0200 (CEST) Received: from mail-oa1-f100.google.com (mail-oa1-f100.google.com [209.85.160.100]) by mails.dpdk.org (Postfix) with ESMTP id A461D402CB for ; Tue, 30 Sep 2025 19:13:57 +0200 (CEST) Received: by mail-oa1-f100.google.com with SMTP id 586e51a60fabf-3627a1979a0so4786440fac.1 for ; Tue, 30 Sep 2025 10:13:57 -0700 (PDT) DKIM-Signature: v=1; a=rsa-sha256; c=relaxed/relaxed; d=iol.unh.edu; s=unh-iol; t=1759252437; x=1759857237; darn=dpdk.org; h=references:in-reply-to:cc:to:from:subject:message-id:date:from:to :cc:subject:date:message-id:reply-to; bh=q6tLUNNWUlq5f5jCnyFeUK+rRZhqY5lc68h53MS5mr8=; b=F7TXRMVVGFmBB5F8hNPbxrKaH0sL58muvTqLA8sOr7EDoytnuepIlKY0EFTHzDGmIm R731R+lqrLcJRCkdVOyz0A0jYNfqKAN2ybqqXTdLLmtJvbXUmbsVV961FrvGipxKfC/F Zdh29kJjXoJYviF8u5+NnOoqnQ3XAgulvRUgQ= X-Google-DKIM-Signature: v=1; a=rsa-sha256; c=relaxed/relaxed; d=1e100.net; s=20230601; t=1759252437; x=1759857237; h=references:in-reply-to:cc:to:from:subject:message-id:date :x-gm-message-state:from:to:cc:subject:date:message-id:reply-to; bh=q6tLUNNWUlq5f5jCnyFeUK+rRZhqY5lc68h53MS5mr8=; b=drMLmD/VDRNxnwfQiLgj5T/OHFzlgVLAonQI4vJXn+Ft4ZcFA1yG6bdn1EmtAD4tra EOkWPC2gVNL2bb0jXpUj8iWXw9ud1hBOXCRs9rlIAPB+mchK/Bgz1Ju9ejh+IBog+fam csgtwHSHjmcdFg9eVzvYwHjsnICnfElzujpiUbdOSAufadWLcr9tfa3kHut5q1QwQDcw MHbxP3hv8cy1Zhy9YybBIu3vZNcGB5c8zE21aCR0u/tTVq1v5YiPnWCY2Tx1ZrGIHp45 EDtbnz8LfwwIksSIFrU9Nf9PWyH0bbBu1mYCZ7yDiGN9e2LJa++vxmzv7A8bOpDPWCci 8K2w== X-Gm-Message-State: AOJu0YwbyQd8psy5EKm3yPIPhFOSDgxSKmQWQcYm2KuKTRD/59fxgj5Y 4ks9PMrnCY+7H9Wki3HSTCilfi+OsRz7ScfV2XvlRRnkvxwGNel30muyEvMCm7HnkqrWSLNpZku cGn112vs+1I8yaja39XhDKQRJogK/bpCaNucJ08lwchyn X-Gm-Gg: ASbGnctU9LT/x+vkAFrz61n8dGFO+Oqmw5sWCwnEAd7G6LmsjKIE7SqxQ/VTfD7ctX6 rNUVhBW+qEIf4BLaaM1EirrxwhqdaGS/XNinRm8j2xrCrBDTIaDm+xmbi6n9Y8c8i9V2+2g56Ee ZJ5H4R++L3jKIVXSSwr3BLjdtpRkuvvYtRWiIeJzb+PW7nFcanIsWyUhA7obyk/bCUuNE2plxj/ CAkmj2wUvgn/QY37pVgFBSYr+Kl9qVBghEPEUVudGGPrz5Jf3Wtzo8MC0WAOpbqGowlAaGp6I2F bro5fwCK8JkVNVusXoNd9VdH8hGZH+glE9/003DZAq2HNZU7A5IcB6PK0opM7nk9VfG6SUec+wZ ngg== X-Google-Smtp-Source: AGHT+IFY+JsmjRmeXjzkjwdAY+ZfCDz4M7K13oFK99XVRJ2CM3HHEZ+7u9Fg4Ge+bnUCtdIOREYfwxiaopC0 X-Received: by 2002:a05:6871:eb18:b0:375:dc31:4a9 with SMTP id 586e51a60fabf-39bb2ec3ff1mr144151fac.33.1759252436895; Tue, 30 Sep 2025 10:13:56 -0700 (PDT) Received: from postal.iol.unh.edu (postal.iol.unh.edu. [132.177.123.84]) by smtp-relay.gmail.com with ESMTPS id 586e51a60fabf-363b49ab5d9sm1153294fac.17.2025.09.30.10.13.56 (version=TLS1_2 cipher=ECDHE-ECDSA-AES128-GCM-SHA256 bits=128/128); Tue, 30 Sep 2025 10:13:56 -0700 (PDT) X-Relaying-Domain: iol.unh.edu Date: Tue, 30 Sep 2025 10:13:56 -0700 (PDT) Message-ID: <68dc0fd4.050a0220.b0a56.6aedSMTPIN_ADDED_MISSING@mx.google.com> Received: from [172.21.0.2] (unknown [172.18.0.240]) by postal.iol.unh.edu (Postfix) with ESMTP id 6BC0E604D420; Tue, 30 Sep 2025 13:13:56 -0400 (EDT) Subject: |SUCCESS| pw157112-157113 [PATCH] [v4,2/2] net/idpf: enable AVX2 for From: dpdklab@iol.unh.edu To: Test Report Cc: dpdk-test-reports@iol.unh.edu, Bruce Richardson In-Reply-To: <20250930090709.2521114-3-shaiq.wani@intel.com> References: <20250930090709.2521114-3-shaiq.wani@intel.com> Content-Type: text/plain X-BeenThere: test-report@dpdk.org X-Mailman-Version: 2.1.29 Precedence: list List-Id: automatic DPDK test reports List-Unsubscribe: , List-Archive: List-Post: List-Help: List-Subscribe: , Errors-To: test-report-bounces@dpdk.org Test-Label: iol-compile-amd64-testing Test-Status: SUCCESS http://dpdk.org/patch/157113 _Testing PASS_ Submitter: Shaiq Wani Date: Tuesday, September 30 2025 09:07:09 DPDK git baseline: Repo:dpdk-next-net-intel Branch: master CommitID:9845e5848bbe337306fb6ae2a6b1ce5e6ab5b714 157112-157113 --> testing pass Upstream job id: Generic-DPDK-Compile-Meson#430021 Test environment and result as below: +---------------------+--------------------+-------------------+-------------------------+----------------------+-------------------+ | Environment | dpdk_meson_compile | dpdk_msvc_compile | dpdk_llvm_clang_compile | dpdk_mingw64_compile | dpdk_compile_spdk | +=====================+====================+===================+=========================+======================+===================+ | FreeBSD 14.2 | PASS | SKIPPED | SKIPPED | SKIPPED | SKIPPED | +---------------------+--------------------+-------------------+-------------------------+----------------------+-------------------+ | Ubuntu 20.04 | PASS | SKIPPED | SKIPPED | SKIPPED | SKIPPED | +---------------------+--------------------+-------------------+-------------------------+----------------------+-------------------+ | CentOS Stream 9 | PASS | SKIPPED | SKIPPED | SKIPPED | PASS | +---------------------+--------------------+-------------------+-------------------------+----------------------+-------------------+ | Windows Server 2022 | SKIPPED | PASS | PASS | PASS | SKIPPED | +---------------------+--------------------+-------------------+-------------------------+----------------------+-------------------+ FreeBSD 14.2 Kernel: 14.2-RELEASE Compiler: clang 18.1.6 Ubuntu 20.04 Kernel: 4.19 Compiler: gcc gcc (Ubuntu 9.4.0-1ubuntu1~20.04.2) 9.4.0 CentOS Stream 9 Kernel: 5.15 Compiler: gcc gcc (GCC) 11.5.0 20240719 (Red Hat 11.5.0-11) Windows Server 2022 Kernel: 10.0.20348.2031 Compiler: clang 15.0.7, gcc 14.1.0 (MinGW), and MSVC VS 19.39.33521 To view detailed results, visit: https://lab.dpdk.org/results/dashboard/patchsets/34179/ UNH-IOL DPDK Community Lab To manage your email subscriptions, visit: https://lab.dpdk.org/results/dashboard/preferences/subscriptions/