From mboxrd@z Thu Jan 1 00:00:00 1970 Return-Path: Received: from mails.dpdk.org (mails.dpdk.org [217.70.189.124]) by inbox.dpdk.org (Postfix) with ESMTP id 88D2A48873 for ; Tue, 30 Sep 2025 19:18:14 +0200 (CEST) Received: from mails.dpdk.org (localhost [127.0.0.1]) by mails.dpdk.org (Postfix) with ESMTP id 6577840151; Tue, 30 Sep 2025 19:18:14 +0200 (CEST) Received: from mail-pl1-f226.google.com (mail-pl1-f226.google.com [209.85.214.226]) by mails.dpdk.org (Postfix) with ESMTP id 05A8540151 for ; Tue, 30 Sep 2025 19:18:12 +0200 (CEST) Received: by mail-pl1-f226.google.com with SMTP id d9443c01a7336-27eed7bdfeeso1680885ad.0 for ; Tue, 30 Sep 2025 10:18:12 -0700 (PDT) DKIM-Signature: v=1; a=rsa-sha256; c=relaxed/relaxed; d=iol.unh.edu; s=unh-iol; t=1759252692; x=1759857492; darn=dpdk.org; h=cc:to:from:subject:message-id:date:from:to:cc:subject:date :message-id:reply-to; bh=lZHcOtlpTfL1UYJM+1zlbW30I9g6Sz/4uSrORq5VSqE=; b=JBkay7BKRKkponW98avgT6ePPDqnyM1az5gkFIzuYPVBpNxFp2A6e8MCOVQXrtQ6sN qJlGoUywDawLIUhkUPeGMh5/EP9z+pQoIDdUkFqgxhgB3YlUAe99HGQRZdpRNxYSh2Jh PftCADxdIPxBLYCE3STn6tTRtHjzKhZxV+30g= X-Google-DKIM-Signature: v=1; a=rsa-sha256; c=relaxed/relaxed; d=1e100.net; s=20230601; t=1759252692; x=1759857492; h=cc:to:from:subject:message-id:date:x-gm-message-state:from:to:cc :subject:date:message-id:reply-to; bh=lZHcOtlpTfL1UYJM+1zlbW30I9g6Sz/4uSrORq5VSqE=; b=xINR4VZoXS68ozb8GJ/rlbm7pemdNEXKueoM62mfD3pl1JbQ6/kMhzMm3+BtP3yZxG Sy454DRab21G65QvCDl+UUGNPARTfvM85eiDIU1S+FxUnSdKHRlhYfrbtu8g46LlV5SD A5mCRNN09pXq0FQxoIfUWDfHUZgDC7gJAo5q1vmus/9vfRSuA0i0T3Ty2/OxIdukniTB u7jtGpAqfmTBDwJMKYmQoyW3udNpSXMEu/gKsP7d1IW0nWMnESaRyDwPrDn7w3jsQKY6 Y8iN2W54KnOR4WahPyjBcM+vkw8KoFi3b09Qn3tiJ9k5HIKz+vfGnjB31z5itWBLd2CE tn9g== X-Gm-Message-State: AOJu0YxYeeqJIiEY+3nB8LDwgjeRLaousWcud96AP3OOeNHfPmWV9uzM gu5sKYJeVNZaQ8aatcC96EFh7G4U0hppUMwcnletva/cxia+/sc+BQhrzGR8qg/lPeb3ipeOkyo Qst3ow8olWIsMLkNKWbG86r0pXCC/QCsv5Bfc4JXpXxia X-Gm-Gg: ASbGnct1ixc47EYgyMgRvXpv+4j8IeoZHNlYk2Y8ayPohsBsM64xeAVDRLVjxz5RfyX Vb+k/0PWoqhMK0upM+mO5XKVAmTljNkSerLkt5eMdMWQmzC9mKVzXOVPA4MHMA8Bb/R9XRgoZqJ 87YJMhOlpz3McjiXFeJfBjefjs+pkPXAmmfKzBgg8rMLtgVB0PROASBGh3nP5ZbasSmpGOm+s5J G9fukBpiWOdAwE/d0HZ1xZ8s3u/tun0kOZMEmk414qSPckJwQN9Y4v5F1uWvczCAnu52w52ej4j TLQPPhyL7iE9YQakX1BxEKw58CsIob1gcXLKorK/uaSceMFh9mR0Mlgx//U9mLxzMeW0q1KU4xW uXg== X-Google-Smtp-Source: AGHT+IFVZNP7FWr0SHTk5YglUGMMoVzNcAq78TL5DHIY8cj17+CKKJOTXUzU5R6ngh7LXo/PQrHJ8+xvh4qS X-Received: by 2002:a17:903:3b83:b0:267:8049:7c87 with SMTP id d9443c01a7336-28e7eb610ccmr6610585ad.14.1759252691814; Tue, 30 Sep 2025 10:18:11 -0700 (PDT) Received: from postal.iol.unh.edu (postal.iol.unh.edu. [132.177.123.84]) by smtp-relay.gmail.com with ESMTPS id d9443c01a7336-27ed67e6795sm12045345ad.36.2025.09.30.10.18.11 (version=TLS1_2 cipher=ECDHE-ECDSA-AES128-GCM-SHA256 bits=128/128); Tue, 30 Sep 2025 10:18:11 -0700 (PDT) X-Relaying-Domain: iol.unh.edu Date: Tue, 30 Sep 2025 10:18:11 -0700 (PDT) Message-ID: <68dc10d3.170a0220.17505b.99c8SMTPIN_ADDED_MISSING@mx.google.com> Received: from [172.21.0.2] (unknown [172.18.0.240]) by postal.iol.unh.edu (Postfix) with ESMTP id 15B82604D420; Tue, 30 Sep 2025 13:18:11 -0400 (EDT) Subject: |SUCCESS| [GIT MASTER] f3878b615e69a12087a6c5d212723478cfc79c31 From: dpdklab@iol.unh.edu To: Test Report Cc: dpdk-test-reports@iol.unh.edu, Jerin Jacob Content-Type: text/plain X-BeenThere: test-report@dpdk.org X-Mailman-Version: 2.1.29 Precedence: list List-Id: automatic DPDK test reports List-Unsubscribe: , List-Archive: List-Post: List-Help: List-Subscribe: , Errors-To: test-report-bounces@dpdk.org _Testing PASS_ Branch: dpdk-next-eventdev f3878b615e69a12087a6c5d212723478cfc79c31 --> testing pass Upstream job id: Generic-VM-Unit-Test-DPDK#31498 Test environment and result as below: +-------------------------------+----------------+ | Environment | dpdk_unit_test | +===============================+================+ | CentOS Stream 9 | PASS | +-------------------------------+----------------+ | CentOS Stream 10 | PASS | +-------------------------------+----------------+ | Fedora Linux 40 | PASS | +-------------------------------+----------------+ | Debian GNU/Linux 12 | PASS | +-------------------------------+----------------+ | Fedora Linux 41 | PASS | +-------------------------------+----------------+ | Fedora Linux 42 | PASS | +-------------------------------+----------------+ | Red Hat Enterprise Linux 8.10 | PASS | +-------------------------------+----------------+ | Windows Server 2022 | PASS | +-------------------------------+----------------+ | Red Hat Enterprise Linux 9.5 | PASS | +-------------------------------+----------------+ | Ubuntu 20.04 | PASS | +-------------------------------+----------------+ | Ubuntu 24.04 | PASS | +-------------------------------+----------------+ | Ubuntu 22.04 | PASS | +-------------------------------+----------------+ CentOS Stream 9 Kernel: 5.15 Compiler: gcc gcc (GCC) 11.5.0 20240719 (Red Hat 11.5.0-11) CentOS Stream 10 Kernel: 5.15 Compiler: gcc gcc (GCC) 14.2.1 20250110 (Red Hat 14.2.1-8) Fedora Linux 40 Kernel: 5.15 Compiler: clang gcc (GCC) 14.2.1 20240912 (Red Hat 14.2.1-3) Debian GNU/Linux 12 Kernel: 5.15 Compiler: gcc gcc (Debian 12.2.0-14+deb12u1) 12.2.0 Fedora Linux 41 Kernel: 5.15 Compiler: gcc gcc (GCC) 14.3.1 20250523 (Red Hat 14.3.1-1) Fedora Linux 42 Kernel: 5.15 Compiler: gcc gcc (GCC) 15.2.1 20250808 (Red Hat 15.2.1-1) Red Hat Enterprise Linux 8.10 Kernel: 5.15 Compiler: gcc gcc (GCC) 8.5.0 20210514 (Red Hat 8.5.0-22) Windows Server 2022 Kernel: 10.0.20348.2031 Compiler: clang 15.0.7, gcc 14.1.0 (MinGW), and MSVC VS 19.39.33521 Red Hat Enterprise Linux 9.5 Kernel: 5.15 Compiler: gcc gcc (GCC) 11.5.0 20240719 (Red Hat 11.5.0-2) Ubuntu 20.04 Kernel: 5.15 Compiler: gcc gcc (Ubuntu 9.4.0-1ubuntu1~20.04.2) 9.4.0 Ubuntu 24.04 Kernel: 5.15 Compiler: gcc gcc (Ubuntu 13.3.0-6ubuntu2~24.04) 13.3.0 Ubuntu 22.04 Kernel: 5.15 Compiler: gcc gcc (Ubuntu 11.4.0-1ubuntu1~22.04) 11.4.0 To view detailed results, visit: https://lab.dpdk.org/results/dashboard/tarballs/35062/ UNH-IOL DPDK Community Lab To manage your email subscriptions, visit: https://lab.dpdk.org/results/dashboard/preferences/subscriptions/