From mboxrd@z Thu Jan 1 00:00:00 1970 Return-Path: Received: from mails.dpdk.org (mails.dpdk.org [217.70.189.124]) by inbox.dpdk.org (Postfix) with ESMTP id F1C0848873 for ; Tue, 30 Sep 2025 19:22:37 +0200 (CEST) Received: from mails.dpdk.org (localhost [127.0.0.1]) by mails.dpdk.org (Postfix) with ESMTP id CB37040151; Tue, 30 Sep 2025 19:22:37 +0200 (CEST) Received: from mail-il1-f225.google.com (mail-il1-f225.google.com [209.85.166.225]) by mails.dpdk.org (Postfix) with ESMTP id DCDAB40151 for ; Tue, 30 Sep 2025 19:22:36 +0200 (CEST) Received: by mail-il1-f225.google.com with SMTP id e9e14a558f8ab-424d3c1256fso588735ab.1 for ; Tue, 30 Sep 2025 10:22:36 -0700 (PDT) DKIM-Signature: v=1; a=rsa-sha256; c=relaxed/relaxed; d=iol.unh.edu; s=unh-iol; t=1759252956; x=1759857756; darn=dpdk.org; h=cc:to:from:subject:message-id:date:from:to:cc:subject:date :message-id:reply-to; bh=lzwBQcDde+Q0CyLMQA3hogd7MyQt+dBje5asz5x2VFo=; b=B/QVVNO1HaqD3hiAc6FM+QI3/ni0rrJ/MbOiteB/tY0SLaeL07RmYWuEb2D4Z2qEFl 59inHqHhqBU9wGlezauGbLz6KC7dpt73rHY/Q6lgOj0OzKoNDc9fTES8AleIa3rWoSfw yFtoEWPQ14lVWEZcLtq6OW+fQP25X0iRPhxMU= X-Google-DKIM-Signature: v=1; a=rsa-sha256; c=relaxed/relaxed; d=1e100.net; s=20230601; t=1759252956; x=1759857756; h=cc:to:from:subject:message-id:date:x-gm-message-state:from:to:cc :subject:date:message-id:reply-to; bh=lzwBQcDde+Q0CyLMQA3hogd7MyQt+dBje5asz5x2VFo=; b=LzlGq7MIglOktvhr3rf/ESZAJRFqp8qf1xCjdz7vGyCNuAq98Dq5nuK0aNnsIUkK+a lrapSt07Z3mSREz24G0cOZTOAK66QrCJhA47LqswcPL4rO/ORbaOTcy31yZe6ZzMSbaX /YpJzFzyNW7lFbhac7MttJbK0NmcELfy6PewEtqloKjH496AMxLPHOpnvX2tog3dnm+N f0dJbyqmlQu0WSc52YuhyHi2Kj/WDXojhM1+iteApardlXOY053YQ+DvR/5o0KwQlP35 Pxyx5OSgz3DCQ+vfdvDdvL9Gt+o6nzPROZ2yos5RwmY0boIynFaJZXNO8nCnxonine1F 6G5w== X-Gm-Message-State: AOJu0YzZAk479S/bVfgcHO8rQZ1hv4pvSB0kIMvxjSv2LUEEYl5IUIjO MbMU2/5NBL6IR+kgis0/SYr6x2cQ/lba5ICZMRKdwhxglyLuhPSbLw5KmAkyYPSR5IdF+cqsJc9 BOUQC1GoN5bb1LF4yPC2VYX6P57TlRfJSkrIAYlZSx7HCcxPy9lYLtJ3VBehr X-Gm-Gg: ASbGncsG5CD9Ql8mIM6Z7xTP29yUr3JCo6ZJewmr4NzQ7Umply7BoSUe5sRoq9bNHtc Q4XJzPC4ya7Hks7ztB3RgdFT9n7wogjRiIcawRZSV8JJD5UQnkCYXQ9qLLsraUATRopy/3VLTzh gxeqy7yUVEsklsbhhqsLNhIDarR2G7o7Hp8ofoQSZoXpWMago+FWVvVW9Hj5FTSdDlcOzYwH2fy uHybI+6TABw++XCMPBrQxVkG+/W5H1NYFFdcWH/RWy3DxIEnmnNJAhNP+0h0BNmxmWnpNNzyLEz 54D8WyYOTZC9DlsIj9g37NxTvPOU/kbWQ+K9nQz+bAjMqhQ+nGe6DFk= X-Google-Smtp-Source: AGHT+IEQF3QWSTEpNU6L+bhOTSdZIIhBSOZ2cYmuOhCHhEd859/EZhZ2Ru1ErNm1NV7WZE0Wd8DaAnuBhUlm X-Received: by 2002:a05:6e02:1fe8:b0:428:cd3c:6a3c with SMTP id e9e14a558f8ab-42d815abc08mr11258295ab.1.1759252956063; Tue, 30 Sep 2025 10:22:36 -0700 (PDT) Received: from postal.iol.unh.edu (postal.iol.unh.edu. [2606:4100:3880:1234::84]) by smtp-relay.gmail.com with ESMTPS id e9e14a558f8ab-425bff80310sm11266585ab.36.2025.09.30.10.22.35 (version=TLS1_2 cipher=ECDHE-ECDSA-AES128-GCM-SHA256 bits=128/128); Tue, 30 Sep 2025 10:22:36 -0700 (PDT) X-Relaying-Domain: iol.unh.edu Date: Tue, 30 Sep 2025 10:22:36 -0700 (PDT) Message-ID: <68dc11dc.050a0220.39ecb4.5582SMTPIN_ADDED_MISSING@mx.google.com> Received: from [172.21.0.2] (unknown [172.18.0.240]) by postal.iol.unh.edu (Postfix) with ESMTP id 9D647604D420; Tue, 30 Sep 2025 13:22:35 -0400 (EDT) Subject: |SUCCESS| [GIT MASTER] f3878b615e69a12087a6c5d212723478cfc79c31 From: dpdklab@iol.unh.edu To: Test Report Cc: dpdk-test-reports@iol.unh.edu, Jerin Jacob Content-Type: text/plain X-BeenThere: test-report@dpdk.org X-Mailman-Version: 2.1.29 Precedence: list List-Id: automatic DPDK test reports List-Unsubscribe: , List-Archive: List-Post: List-Help: List-Subscribe: , Errors-To: test-report-bounces@dpdk.org _Testing PASS_ Branch: dpdk-next-eventdev f3878b615e69a12087a6c5d212723478cfc79c31 --> testing pass Upstream job id: Generic-VM-Unit-Test-DPDK#31499 Test environment and result as below: +-------------------------------+----------------+ | Environment | dpdk_unit_test | +===============================+================+ | CentOS Stream 9 | PASS | +-------------------------------+----------------+ | CentOS Stream 10 | PASS | +-------------------------------+----------------+ | Fedora Linux 40 | PASS | +-------------------------------+----------------+ | Debian GNU/Linux 12 | PASS | +-------------------------------+----------------+ | Fedora Linux 41 | PASS | +-------------------------------+----------------+ | Fedora Linux 42 | PASS | +-------------------------------+----------------+ | Red Hat Enterprise Linux 8.10 | PASS | +-------------------------------+----------------+ | Windows Server 2022 | PASS | +-------------------------------+----------------+ | Red Hat Enterprise Linux 9.5 | PASS | +-------------------------------+----------------+ | Ubuntu 20.04 | PASS | +-------------------------------+----------------+ | Ubuntu 24.04 | PASS | +-------------------------------+----------------+ | Ubuntu 22.04 | PASS | +-------------------------------+----------------+ CentOS Stream 9 Kernel: 5.15 Compiler: gcc gcc (GCC) 11.5.0 20240719 (Red Hat 11.5.0-11) CentOS Stream 10 Kernel: 5.15 Compiler: gcc gcc (GCC) 14.2.1 20250110 (Red Hat 14.2.1-8) Fedora Linux 40 Kernel: 5.15 Compiler: clang gcc (GCC) 14.2.1 20240912 (Red Hat 14.2.1-3) Debian GNU/Linux 12 Kernel: 5.15 Compiler: gcc gcc (Debian 12.2.0-14+deb12u1) 12.2.0 Fedora Linux 41 Kernel: 5.15 Compiler: gcc gcc (GCC) 14.3.1 20250523 (Red Hat 14.3.1-1) Fedora Linux 42 Kernel: 5.15 Compiler: gcc gcc (GCC) 15.2.1 20250808 (Red Hat 15.2.1-1) Red Hat Enterprise Linux 8.10 Kernel: 5.15 Compiler: gcc gcc (GCC) 8.5.0 20210514 (Red Hat 8.5.0-22) Windows Server 2022 Kernel: 10.0.20348.2031 Compiler: clang 15.0.7, gcc 14.1.0 (MinGW), and MSVC VS 19.39.33521 Red Hat Enterprise Linux 9.5 Kernel: 5.15 Compiler: gcc gcc (GCC) 11.5.0 20240719 (Red Hat 11.5.0-2) Ubuntu 20.04 Kernel: 5.15 Compiler: gcc gcc (Ubuntu 9.4.0-1ubuntu1~20.04.2) 9.4.0 Ubuntu 24.04 Kernel: 5.15 Compiler: gcc gcc (Ubuntu 13.3.0-6ubuntu2~24.04) 13.3.0 Ubuntu 22.04 Kernel: 5.15 Compiler: gcc gcc (Ubuntu 11.4.0-1ubuntu1~22.04) 11.4.0 To view detailed results, visit: https://lab.dpdk.org/results/dashboard/tarballs/35062/ UNH-IOL DPDK Community Lab To manage your email subscriptions, visit: https://lab.dpdk.org/results/dashboard/preferences/subscriptions/