From mboxrd@z Thu Jan 1 00:00:00 1970 Return-Path: Received: from mails.dpdk.org (mails.dpdk.org [217.70.189.124]) by inbox.dpdk.org (Postfix) with ESMTP id 081FD48873 for ; Tue, 30 Sep 2025 19:34:05 +0200 (CEST) Received: from mails.dpdk.org (localhost [127.0.0.1]) by mails.dpdk.org (Postfix) with ESMTP id C5C0C40151; Tue, 30 Sep 2025 19:34:05 +0200 (CEST) Received: from mail-oo1-f98.google.com (mail-oo1-f98.google.com [209.85.161.98]) by mails.dpdk.org (Postfix) with ESMTP id 9651640151 for ; Tue, 30 Sep 2025 19:34:04 +0200 (CEST) Received: by mail-oo1-f98.google.com with SMTP id 006d021491bc7-6418c6b8cbdso2120762eaf.1 for ; Tue, 30 Sep 2025 10:34:04 -0700 (PDT) DKIM-Signature: v=1; a=rsa-sha256; c=relaxed/relaxed; d=iol.unh.edu; s=unh-iol; t=1759253644; x=1759858444; darn=dpdk.org; h=references:in-reply-to:cc:to:from:subject:message-id:date:from:to :cc:subject:date:message-id:reply-to; bh=XHN/mw9P79vgD0w2zZpl620+12ruGqpeeXZ7wEifvlA=; b=ceuG5EQtplwhPG3DFkNMJIr2e1fFSv5ECvt8PdpdXzOq6EnnnV8bUWZMH/pzUIxiiv /gfzY0KUgcJLyP7DF0c1eBIuD9AA0m4Bx/KToynJykYSYFDC2R5mb/b1pY0hGKW7KWiT QIH5mMNMOyxCxuz7yAAsmzsyJomm/E18vqaWY= X-Google-DKIM-Signature: v=1; a=rsa-sha256; c=relaxed/relaxed; d=1e100.net; s=20230601; t=1759253644; x=1759858444; h=references:in-reply-to:cc:to:from:subject:message-id:date :x-gm-message-state:from:to:cc:subject:date:message-id:reply-to; bh=XHN/mw9P79vgD0w2zZpl620+12ruGqpeeXZ7wEifvlA=; b=dqK/21Sm/g11TaP/17tldT9u0lqO87/RPDNFs05QUGMouCIjlHmoFd8zupOsRtg2nj bbs2t9JhS5QK7dGbZRrr/S5aU+9duJsQU/9TaeAR1UpUw4iOJrfekFfYXImMi3WzutSZ UmaEfQdjueKU8tk3MR79tztsZxnvRUJEpf7AEohYfmfGNiPO0UE9W2Pqgiii8mYsupUY 0pbuHO2sQJvDj2Ixdkuc06CymKASW3RvqZUyQZfGb7lF3Uc6cVflKz0XMSZNIWGwry5F BzFEHJp4z3+zpNVBpgGdZLPhOcEGRNsIYwBCC1bs8oodaHJTjfcaCNwf94M/bltVxzxh sDeg== X-Gm-Message-State: AOJu0YwHpGzoL4CYBGlHWwtl3wpwAHSDdyyr7h2lm9+Ee9VOGviG7+we 5SjTk4GQ+f1hx6yBhxb1DHhnkAaEbjm5bSBiiEk4tTW/k1pd9qSKEgQL6P/OJ9Ky+055S3ctpbY 2rACjoH329C4BDnx2vyZeOqNUZOypgZBdypWR3Kn5w+o9H0guIZCtrJM/zFK0 X-Gm-Gg: ASbGncu3db4lfo5XVghRErWWzPJgtWIRVasFeQrOBJLh8B/9cd2N5K4k8dO9FtF6WtL I60EjSUUso/QYwozO4umUQBM8hAkRdlEF1In6GogDcojPIxctccIbKX+uZ9SBNvZGiRttCP5LIm 89Jf41coEA5XO/3/Bo/ASkXSGnBn8emgjovGUWsJ09PhnTvVhtgul79vZnO0uVtSG6RgubnwyTe t4tEA5TmQxHiShFKhSP3WUgGt330NIQmOCBpZaBtY0r3by02hBZaWsAaE3f4nNRrqO+kqm7S6DY 7NPZuKWIu5qFSZqlOSUjQVG0tZCck067wHcAiKrs5wtq0VaE0mVICPs= X-Google-Smtp-Source: AGHT+IFmHG0xJXuzP0MZch1vD+1Mf+Llg30/7npMOvSzqJKBfWf310VT9q0VYq3izMfgeAbLVoZIYMnXHc73 X-Received: by 2002:a05:6820:2215:b0:643:f2c6:f834 with SMTP id 006d021491bc7-64bbf3de3ccmr392037eaf.7.1759253643635; Tue, 30 Sep 2025 10:34:03 -0700 (PDT) Received: from postal.iol.unh.edu (postal.iol.unh.edu. [2606:4100:3880:1234::84]) by smtp-relay.gmail.com with ESMTPS id 006d021491bc7-63b1e626790sm512003eaf.1.2025.09.30.10.34.03 (version=TLS1_2 cipher=ECDHE-ECDSA-AES128-GCM-SHA256 bits=128/128); Tue, 30 Sep 2025 10:34:03 -0700 (PDT) X-Relaying-Domain: iol.unh.edu Date: Tue, 30 Sep 2025 10:34:03 -0700 (PDT) Message-ID: <68dc148b.050a0220.29642b.f5a1SMTPIN_ADDED_MISSING@mx.google.com> Received: from [172.21.0.2] (unknown [172.18.0.240]) by postal.iol.unh.edu (Postfix) with ESMTP id 27AF5604D420; Tue, 30 Sep 2025 13:34:03 -0400 (EDT) Subject: |SUCCESS| pw157112-157113 [PATCH] [v4,2/2] net/idpf: enable AVX2 for From: dpdklab@iol.unh.edu To: Test Report Cc: dpdk-test-reports@iol.unh.edu, Bruce Richardson In-Reply-To: <20250930090709.2521114-3-shaiq.wani@intel.com> References: <20250930090709.2521114-3-shaiq.wani@intel.com> Content-Type: text/plain X-BeenThere: test-report@dpdk.org X-Mailman-Version: 2.1.29 Precedence: list List-Id: automatic DPDK test reports List-Unsubscribe: , List-Archive: List-Post: List-Help: List-Subscribe: , Errors-To: test-report-bounces@dpdk.org Test-Label: iol-compile-amd64-testing Test-Status: SUCCESS http://dpdk.org/patch/157113 _Testing PASS_ Submitter: Shaiq Wani Date: Tuesday, September 30 2025 09:07:09 DPDK git baseline: Repo:dpdk-next-net-intel Branch: master CommitID:9845e5848bbe337306fb6ae2a6b1ce5e6ab5b714 157112-157113 --> testing pass Upstream job id: Generic-DPDK-Compile-Meson#430023 Test environment and result as below: +---------------------+--------------------+-------------------+-------------------------+----------------------+-------------------+ | Environment | dpdk_meson_compile | dpdk_msvc_compile | dpdk_llvm_clang_compile | dpdk_mingw64_compile | dpdk_compile_spdk | +=====================+====================+===================+=========================+======================+===================+ | FreeBSD 14.2 | PASS | SKIPPED | SKIPPED | SKIPPED | SKIPPED | +---------------------+--------------------+-------------------+-------------------------+----------------------+-------------------+ | Ubuntu 20.04 | PASS | SKIPPED | SKIPPED | SKIPPED | SKIPPED | +---------------------+--------------------+-------------------+-------------------------+----------------------+-------------------+ | CentOS Stream 9 | PASS | SKIPPED | SKIPPED | SKIPPED | PASS | +---------------------+--------------------+-------------------+-------------------------+----------------------+-------------------+ | CentOS Stream 10 | PASS | SKIPPED | SKIPPED | SKIPPED | SKIPPED | +---------------------+--------------------+-------------------+-------------------------+----------------------+-------------------+ | Windows Server 2022 | SKIPPED | PASS | PASS | PASS | SKIPPED | +---------------------+--------------------+-------------------+-------------------------+----------------------+-------------------+ FreeBSD 14.2 Kernel: 14.2-RELEASE Compiler: clang 18.1.6 Ubuntu 20.04 Kernel: 4.19 Compiler: gcc gcc (Ubuntu 9.4.0-1ubuntu1~20.04.2) 9.4.0 CentOS Stream 9 Kernel: 5.15 Compiler: gcc gcc (GCC) 11.5.0 20240719 (Red Hat 11.5.0-11) CentOS Stream 10 Kernel: 5.15 Compiler: gcc gcc (GCC) 14.2.1 20250110 (Red Hat 14.2.1-8) Windows Server 2022 Kernel: 10.0.20348.2031 Compiler: clang 15.0.7, gcc 14.1.0 (MinGW), and MSVC VS 19.39.33521 To view detailed results, visit: https://lab.dpdk.org/results/dashboard/patchsets/34179/ UNH-IOL DPDK Community Lab To manage your email subscriptions, visit: https://lab.dpdk.org/results/dashboard/preferences/subscriptions/