From mboxrd@z Thu Jan 1 00:00:00 1970 Return-Path: Received: from mails.dpdk.org (mails.dpdk.org [217.70.189.124]) by inbox.dpdk.org (Postfix) with ESMTP id 31B2948873 for ; Tue, 30 Sep 2025 19:36:28 +0200 (CEST) Received: from mails.dpdk.org (localhost [127.0.0.1]) by mails.dpdk.org (Postfix) with ESMTP id 1569B40151; Tue, 30 Sep 2025 19:36:28 +0200 (CEST) Received: from mail-pl1-f225.google.com (mail-pl1-f225.google.com [209.85.214.225]) by mails.dpdk.org (Postfix) with ESMTP id 1659C40151 for ; Tue, 30 Sep 2025 19:36:27 +0200 (CEST) Received: by mail-pl1-f225.google.com with SMTP id d9443c01a7336-2681660d604so58789245ad.0 for ; Tue, 30 Sep 2025 10:36:27 -0700 (PDT) DKIM-Signature: v=1; a=rsa-sha256; c=relaxed/relaxed; d=iol.unh.edu; s=unh-iol; t=1759253786; x=1759858586; darn=dpdk.org; h=cc:to:from:subject:message-id:date:from:to:cc:subject:date :message-id:reply-to; bh=VF1+HTOqzyGuq93mp6QrFFXKG/6OVSVpa2VBsj+vfFI=; b=eqccmls/Gu0bSsm8duFU58Eq/ad4L96i+TSIW5DmyQ43v8hxrQr+4YATNDcttoZY5F XGbx5cmQUdyl8xHlfETxduvc5iIwyqdgemo3lOSQTsg48l2fJhfLAc/8YJHyswlCfD+b hTKWWTjdsCJygwt4+ctfxHMAOZ6Cnu4xrDsVo= X-Google-DKIM-Signature: v=1; a=rsa-sha256; c=relaxed/relaxed; d=1e100.net; s=20230601; t=1759253786; x=1759858586; h=cc:to:from:subject:message-id:date:x-gm-message-state:from:to:cc :subject:date:message-id:reply-to; bh=VF1+HTOqzyGuq93mp6QrFFXKG/6OVSVpa2VBsj+vfFI=; b=Hx9dYrWdwolM9yIDXsvuFnHEGP8MYUdumrEpYx3cCOMBmelcuCYWNOPOS4K9arIMTq AWvBP/rak8eKjKcaBbaYWncnNqx6KEU+Y1E+VuFCoBdEMeACbhVL3idFZDuP7QjEfz9T ut28vvTOSImWgZStYxjJDXN2RQXEprZ8ufHlOpEypkkH4nB4cm2zTwj8qZuHxibKV1c6 rgyjTZZlHxBKQXy/bF2CP1y/EFo6ZzD5sMGVU2KrsrGktWLtm8nJenH8ykwpEDzdyed1 pxatGXErzM1arP7NL6gNmJjsjF/it5KjdmOiFIcEX2T3gwPn0UaJeWlJ3AGW9RKzlURD BMhg== X-Gm-Message-State: AOJu0YxeLTnqI641u+120mt1ikBeVYMGS7/HD0xqcl9Pq3Wo9j4dzIGu SmyK2g4o3Mefj9Dfly2P8u9eCJrVjNQ2FOEg+IOsAuqB1Ib2bhWLAra+dvUFDmkwRkhlhCNMohJ T7n8+GWx/XKZsEEW+gY/dlE2EE+2e9j+ngw5i X-Gm-Gg: ASbGncuh7TOpE3AmkA7FuhEVM4XY+mKlSc9pYq9X0snjX4eX7ZQlwEawe99pVnuapes +lEyhQsTw/tYyISzbOMyWF7Z1W+wQD5dqT4kQlebmlqD7ztNToZi9XO+krofuMQZVxgJJFjkuAu QeVUC+WOh18thmFzbH5loEXuf3KsPG+uTBUuIhbd0Sbcp+j5+t4A6uW+r2ByGbH+IEG3P5HZqH6 3tkpmDdhg0f/Sg0c2Ptrplt4fDhGgqPShH+3l+v6hUfJZ5vovOgr9cZwLFFimIE5sQNFiYttkgg zYyYpIpb4RPBSY1M4zV9mC4OxojW1F5Tl6B1w0NEnEDt5Y2KoMAkaZpCZSHo7L4rYL8JwbnscT5 jJw== X-Google-Smtp-Source: AGHT+IEXAJvSyjCU+qIwxcA/W7EIfDs4w/rOgNdbxhwrzryCNp0HmpQV7DNyBeBRHrqd259w+/mkn6QFwpD+ X-Received: by 2002:a17:902:f705:b0:286:74e3:3889 with SMTP id d9443c01a7336-28e7f4d3761mr5589055ad.55.1759253786256; Tue, 30 Sep 2025 10:36:26 -0700 (PDT) Received: from postal.iol.unh.edu (postal.iol.unh.edu. [132.177.123.84]) by smtp-relay.gmail.com with ESMTPS id d9443c01a7336-27ed66dd03asm12273265ad.23.2025.09.30.10.36.26 (version=TLS1_2 cipher=ECDHE-ECDSA-AES128-GCM-SHA256 bits=128/128); Tue, 30 Sep 2025 10:36:26 -0700 (PDT) X-Relaying-Domain: iol.unh.edu Date: Tue, 30 Sep 2025 10:36:26 -0700 (PDT) Message-ID: <68dc151a.170a0220.141e2f.8ed8SMTPIN_ADDED_MISSING@mx.google.com> Received: from [172.21.0.2] (unknown [172.18.0.240]) by postal.iol.unh.edu (Postfix) with ESMTP id 84197604D420; Tue, 30 Sep 2025 13:36:25 -0400 (EDT) Subject: |SUCCESS| [GIT MASTER] 3b43ce3f4a54468e7ef65760c2fd7b4d6ee6d9fc From: dpdklab@iol.unh.edu To: Test Report Cc: dpdk-test-reports@iol.unh.edu, Xueming Li , Christian Ehrhardt , Kevin Traynor , Luca Boccassi Content-Type: text/plain X-BeenThere: test-report@dpdk.org X-Mailman-Version: 2.1.29 Precedence: list List-Id: automatic DPDK test reports List-Unsubscribe: , List-Archive: List-Post: List-Help: List-Subscribe: , Errors-To: test-report-bounces@dpdk.org _Testing PASS_ Branch: tags/v22.11 3b43ce3f4a54468e7ef65760c2fd7b4d6ee6d9fc --> testing pass Upstream job id: Generic-DPDK-Compile-Meson#429902 Test environment and result as below: +------------------------------+--------------------+ | Environment | dpdk_meson_compile | +==============================+====================+ | Red Hat Enterprise Linux 9.5 | PASS | +------------------------------+--------------------+ | Ubuntu 20.04 | PASS | +------------------------------+--------------------+ | Debian GNU/Linux 12 | PASS | +------------------------------+--------------------+ | Fedora Linux 42 | PASS | +------------------------------+--------------------+ | Ubuntu 22.04 | PASS | +------------------------------+--------------------+ | Ubuntu 24.04 | PASS | +------------------------------+--------------------+ | CentOS Stream 9 | PASS | +------------------------------+--------------------+ | CentOS Stream 10 | PASS | +------------------------------+--------------------+ Red Hat Enterprise Linux 9.5 Kernel: 5.4 Compiler: gcc gcc (GCC) 11.5.0 20240719 (Red Hat 11.5.0-2) Ubuntu 20.04 Kernel: 5.15 Compiler: aarch64-linux-gnu-gcc gcc (Ubuntu 9.4.0-1ubuntu1~20.04.2) 9.4.0 Debian GNU/Linux 12 Kernel: 5.4 Compiler: gcc gcc (Debian 12.2.0-14+deb12u1) 12.2.0 Fedora Linux 42 Kernel: 5.4 Compiler: gcc gcc (GCC) 15.2.1 20250808 (Red Hat 15.2.1-1) Ubuntu 22.04 Kernel: 5.4 Compiler: gcc gcc (Ubuntu 11.4.0-1ubuntu1~22.04) 11.4.0 Ubuntu 24.04 Kernel: 5.4 Compiler: gcc gcc (Ubuntu 13.3.0-6ubuntu2~24.04) 13.3.0 CentOS Stream 9 Kernel: 5.4 Compiler: gcc gcc (GCC) 11.5.0 20240719 (Red Hat 11.5.0-11) CentOS Stream 10 Kernel: 5.4 Compiler: gcc gcc (GCC) 14.2.1 20250110 (Red Hat 14.2.1-8) To view detailed results, visit: https://lab.dpdk.org/results/dashboard/tarballs/35051/ UNH-IOL DPDK Community Lab To manage your email subscriptions, visit: https://lab.dpdk.org/results/dashboard/preferences/subscriptions/