From mboxrd@z Thu Jan 1 00:00:00 1970 Return-Path: Received: from mails.dpdk.org (mails.dpdk.org [217.70.189.124]) by inbox.dpdk.org (Postfix) with ESMTP id 8149248874 for ; Tue, 30 Sep 2025 20:38:40 +0200 (CEST) Received: from mails.dpdk.org (localhost [127.0.0.1]) by mails.dpdk.org (Postfix) with ESMTP id 7CBAB40150; Tue, 30 Sep 2025 20:38:40 +0200 (CEST) Received: from mail-il1-f225.google.com (mail-il1-f225.google.com [209.85.166.225]) by mails.dpdk.org (Postfix) with ESMTP id 8372B40150 for ; Tue, 30 Sep 2025 20:38:39 +0200 (CEST) Received: by mail-il1-f225.google.com with SMTP id e9e14a558f8ab-4247cfc66a3so28519325ab.2 for ; Tue, 30 Sep 2025 11:38:39 -0700 (PDT) DKIM-Signature: v=1; a=rsa-sha256; c=relaxed/relaxed; d=iol.unh.edu; s=unh-iol; t=1759257519; x=1759862319; darn=dpdk.org; h=references:in-reply-to:cc:to:from:subject:message-id:date:from:to :cc:subject:date:message-id:reply-to; bh=pp/IbHLeN++60g7KSvgHMt+N4kp+gUA0wfEvb95Tyek=; b=UV+6jF6zjnaFXQ7mNHt1cRIm6lauW0a1DcEECQy88/NKslMxHtFsIqYYE7mRMSpa72 HHGLxKx6yJE/b7uTU1VLc3I3ughc7ZB6gYvW+Ymj8ULR1pWLeDi210pGl7DITsL1QBds B7hFiRhzS62Pa64SY25h0iC6hANJvfDQfxK5M= X-Google-DKIM-Signature: v=1; a=rsa-sha256; c=relaxed/relaxed; d=1e100.net; s=20230601; t=1759257519; x=1759862319; h=references:in-reply-to:cc:to:from:subject:message-id:date :x-gm-message-state:from:to:cc:subject:date:message-id:reply-to; bh=pp/IbHLeN++60g7KSvgHMt+N4kp+gUA0wfEvb95Tyek=; b=QOSY5ZHbDF8UyaoVXbq4T2EjuR6CfQDenUVvNCTilAS2Lr6fkfBGsG5lvmZWotFTyA ORnVaFj7FJVo9PDxianyWijsAVD1nEAPJhIu+6YHZEf8Nd7omSH7W3+J5J1yHj4+8SFG 9cqS8aGfr8dnH55QTOczuT56sFAJxOPkfB/5Fzr8DY08cFerEzRxsErGgoloSutzzfTX ybQWa3LIPLzCEZ1pRsILmr/jcFFkkLMLfTX2PamWFqGh+eyZlzSM0ecNzgGAFPGWsY78 kQHKeEITqwTM9D9LP6XMFiWXIYQE9gL+GvKI1h0nRFNzjBkG7hQy8tMIUbMfjtkMskU8 //0Q== X-Gm-Message-State: AOJu0YzOVuVj/gH3nwwuJoc8n8feyRO0bY7eGjRCPQAs42DnT9luQ1RZ ub6JulhrEj8gxpsS6yxHkaMnCEfRhYPYiZLszdRFev/11X/l23E7g3liHoTu3erq2lAxUhH4QnR 22nKky/bmvE3ZnmgYxgiSHxNkIRp8oszz9R38qFSwrHBIwQvrFFc7YSxBaTZV X-Gm-Gg: ASbGnct97rDwPJBladIwFf1usd1Lc4Fy0q9BG76I0HpGTHV/4sNuydGYY8dKBaGTEZc SOFpaVv/oEPYvV2j25mjfuOiIKOOPBlGr5Gj9ezxuRLMRYPzol3ieL3DExpG4rgOKrmgJA9R8j7 LSX+hOuLqNCvmJc2xQBHXdMZZvDoQuYZP/lDH5LxKsmRqwxMKXur0I49wgFSUFA+DasPvRPMXiz N+IXV5eDPZpApYT7r9hgPcb7KuJyvx+dw9O0C2F0zywUrB4T8f3CvLVNQ1zjXMOlXF89X+eFZT3 CdVA/joDiH9zHzkaCJgdeTSGjW8HEB51LIjXIF/+BHrlp13pWAzB8nI= X-Google-Smtp-Source: AGHT+IHPJ9xmjkU6Hfioqy6AZG4i/pa/S5W+1jFkm8jJHDI2b6MXL1vMIaNEPvu4JCPd4LVR/LWmFCYGMnBF X-Received: by 2002:a05:6e02:216b:b0:425:8ac8:f594 with SMTP id e9e14a558f8ab-42d81617a49mr11467115ab.16.1759257518860; Tue, 30 Sep 2025 11:38:38 -0700 (PDT) Received: from postal.iol.unh.edu (postal.iol.unh.edu. [2606:4100:3880:1234::84]) by smtp-relay.gmail.com with ESMTPS id e9e14a558f8ab-4274fa9b459sm9280785ab.13.2025.09.30.11.38.38 (version=TLS1_2 cipher=ECDHE-ECDSA-AES128-GCM-SHA256 bits=128/128); Tue, 30 Sep 2025 11:38:38 -0700 (PDT) X-Relaying-Domain: iol.unh.edu Date: Tue, 30 Sep 2025 11:38:38 -0700 (PDT) Message-ID: <68dc23ae.050a0220.1125b9.672bSMTPIN_ADDED_MISSING@mx.google.com> Received: from [172.21.0.4] (unknown [172.18.0.240]) by postal.iol.unh.edu (Postfix) with ESMTP id 6A750604D420; Tue, 30 Sep 2025 14:38:38 -0400 (EDT) Subject: |SUCCESS| pw157112-157113 [PATCH] [v4,2/2] net/idpf: enable AVX2 for From: dpdklab@iol.unh.edu To: Test Report Cc: dpdk-test-reports@iol.unh.edu, Bruce Richardson In-Reply-To: <20250930090709.2521114-3-shaiq.wani@intel.com> References: <20250930090709.2521114-3-shaiq.wani@intel.com> Content-Type: text/plain X-BeenThere: test-report@dpdk.org X-Mailman-Version: 2.1.29 Precedence: list List-Id: automatic DPDK test reports List-Unsubscribe: , List-Archive: List-Post: List-Help: List-Subscribe: , Errors-To: test-report-bounces@dpdk.org Test-Label: iol-compile-amd64-testing Test-Status: SUCCESS http://dpdk.org/patch/157113 _Testing PASS_ Submitter: Shaiq Wani Date: Tuesday, September 30 2025 09:07:09 DPDK git baseline: Repo:dpdk-next-net-intel Branch: master CommitID:9845e5848bbe337306fb6ae2a6b1ce5e6ab5b714 157112-157113 --> testing pass Upstream job id: Generic-DPDK-Compile-Meson#430034 Test environment and result as below: +-------------------------------+--------------------+-------------------+-------------------------+----------------------+-------------------+------------------+ | Environment | dpdk_meson_compile | dpdk_msvc_compile | dpdk_llvm_clang_compile | dpdk_mingw64_compile | dpdk_compile_spdk | dpdk_compile_ovs | +===============================+====================+===================+=========================+======================+===================+==================+ | FreeBSD 14.2 | PASS | SKIPPED | SKIPPED | SKIPPED | SKIPPED | SKIPPED | +-------------------------------+--------------------+-------------------+-------------------------+----------------------+-------------------+------------------+ | Ubuntu 20.04 | PASS | SKIPPED | SKIPPED | SKIPPED | SKIPPED | SKIPPED | +-------------------------------+--------------------+-------------------+-------------------------+----------------------+-------------------+------------------+ | CentOS Stream 9 | PASS | SKIPPED | SKIPPED | SKIPPED | PASS | SKIPPED | +-------------------------------+--------------------+-------------------+-------------------------+----------------------+-------------------+------------------+ | CentOS Stream 10 | PASS | SKIPPED | SKIPPED | SKIPPED | SKIPPED | SKIPPED | +-------------------------------+--------------------+-------------------+-------------------------+----------------------+-------------------+------------------+ | Debian GNU/Linux 12 | PASS | SKIPPED | SKIPPED | SKIPPED | PASS | SKIPPED | +-------------------------------+--------------------+-------------------+-------------------------+----------------------+-------------------+------------------+ | Fedora Linux 42 | PASS | SKIPPED | SKIPPED | SKIPPED | PASS | PASS | +-------------------------------+--------------------+-------------------+-------------------------+----------------------+-------------------+------------------+ | openSUSE Leap 15.6 | PASS | SKIPPED | SKIPPED | SKIPPED | SKIPPED | SKIPPED | +-------------------------------+--------------------+-------------------+-------------------------+----------------------+-------------------+------------------+ | Red Hat Enterprise Linux 8.10 | PASS | SKIPPED | SKIPPED | SKIPPED | SKIPPED | SKIPPED | +-------------------------------+--------------------+-------------------+-------------------------+----------------------+-------------------+------------------+ | Red Hat Enterprise Linux 9.5 | PASS | SKIPPED | SKIPPED | SKIPPED | SKIPPED | SKIPPED | +-------------------------------+--------------------+-------------------+-------------------------+----------------------+-------------------+------------------+ | Ubuntu 22.04 | PASS | SKIPPED | SKIPPED | SKIPPED | PASS | SKIPPED | +-------------------------------+--------------------+-------------------+-------------------------+----------------------+-------------------+------------------+ | Ubuntu 24.04 | PASS | SKIPPED | SKIPPED | SKIPPED | PASS | PASS | +-------------------------------+--------------------+-------------------+-------------------------+----------------------+-------------------+------------------+ | Alpine Linux 3.22.0 | PASS | SKIPPED | SKIPPED | SKIPPED | SKIPPED | SKIPPED | +-------------------------------+--------------------+-------------------+-------------------------+----------------------+-------------------+------------------+ | Windows Server 2022 | SKIPPED | PASS | PASS | PASS | SKIPPED | SKIPPED | +-------------------------------+--------------------+-------------------+-------------------------+----------------------+-------------------+------------------+ FreeBSD 14.2 Kernel: 14.2-RELEASE Compiler: clang 18.1.6 Ubuntu 20.04 Kernel: 4.19 Compiler: gcc gcc (Ubuntu 9.4.0-1ubuntu1~20.04.2) 9.4.0 CentOS Stream 9 Kernel: 5.15 Compiler: gcc gcc (GCC) 11.5.0 20240719 (Red Hat 11.5.0-11) CentOS Stream 10 Kernel: 5.15 Compiler: gcc gcc (GCC) 14.2.1 20250110 (Red Hat 14.2.1-8) Debian GNU/Linux 12 Kernel: 5.15 Compiler: gcc gcc (Debian 12.2.0-14+deb12u1) 12.2.0 Fedora Linux 42 Kernel: 5.15 Compiler: clang gcc (GCC) 15.2.1 20250808 (Red Hat 15.2.1-1) openSUSE Leap 15.6 Kernel: 5.15 Compiler: gcc gcc (SUSE Linux) 7.5.0 Red Hat Enterprise Linux 8.10 Kernel: 5.15 Compiler: gcc gcc (GCC) 8.5.0 20210514 (Red Hat 8.5.0-22) Red Hat Enterprise Linux 9.5 Kernel: 5.15 Compiler: gcc gcc (GCC) 11.5.0 20240719 (Red Hat 11.5.0-2) Ubuntu 22.04 Kernel: 5.15 Compiler: gcc gcc (Ubuntu 11.4.0-1ubuntu1~22.04) 11.4.0 Ubuntu 24.04 Kernel: 5.15 Compiler: gcc gcc (Ubuntu 13.3.0-6ubuntu2~24.04) 13.3.0 Alpine Linux 3.22.0 Kernel: 5.15 Compiler: gcc gcc (Alpine 14.2.0) 14.2.0 Windows Server 2022 Kernel: 10.0.20348.2031 Compiler: clang 15.0.7, gcc 14.1.0 (MinGW), and MSVC VS 19.39.33521 To view detailed results, visit: https://lab.dpdk.org/results/dashboard/patchsets/34179/ UNH-IOL DPDK Community Lab To manage your email subscriptions, visit: https://lab.dpdk.org/results/dashboard/preferences/subscriptions/