From mboxrd@z Thu Jan 1 00:00:00 1970 Return-Path: Received: from mails.dpdk.org (mails.dpdk.org [217.70.189.124]) by inbox.dpdk.org (Postfix) with ESMTP id 192B448874 for ; Tue, 30 Sep 2025 20:44:05 +0200 (CEST) Received: from mails.dpdk.org (localhost [127.0.0.1]) by mails.dpdk.org (Postfix) with ESMTP id E7EE040150; Tue, 30 Sep 2025 20:44:04 +0200 (CEST) Received: from mail-pl1-f226.google.com (mail-pl1-f226.google.com [209.85.214.226]) by mails.dpdk.org (Postfix) with ESMTP id 247BB40150 for ; Tue, 30 Sep 2025 20:44:04 +0200 (CEST) Received: by mail-pl1-f226.google.com with SMTP id d9443c01a7336-269af38418aso79959835ad.1 for ; Tue, 30 Sep 2025 11:44:04 -0700 (PDT) DKIM-Signature: v=1; a=rsa-sha256; c=relaxed/relaxed; d=iol.unh.edu; s=unh-iol; t=1759257843; x=1759862643; darn=dpdk.org; h=references:in-reply-to:cc:to:from:subject:message-id:date:from:to :cc:subject:date:message-id:reply-to; bh=rdCmyx77l1cu6Y9a2P1pvbiW+39JjqPFCiKOcxmPvHg=; b=Xe+f2879/fh2OwFGFy/VspYqLcB9w72XJkfZscoto/ZKbqgD8fbccWBQJrswH3RXrM qidCI2Uquugn/FqRT9FkC+LtVpfpPp7afni6klQ+CEa+nu+Uv3guQhpvuSl4XU3E+aox unDL2l9+F+mKDMf39c9K3HhinqZRMufspXzRY= X-Google-DKIM-Signature: v=1; a=rsa-sha256; c=relaxed/relaxed; d=1e100.net; s=20230601; t=1759257843; x=1759862643; h=references:in-reply-to:cc:to:from:subject:message-id:date :x-gm-message-state:from:to:cc:subject:date:message-id:reply-to; bh=rdCmyx77l1cu6Y9a2P1pvbiW+39JjqPFCiKOcxmPvHg=; b=N9NcSfzJsBoAmmg0WPsu3cvE9BwFd9T5OExhCRcrXaNNFHO/MmL8AMTkhIvM/r894E obXVgWG4yKDT9MUQ8sGcINL0Cc7QO+EFw/HOMOkoB+qfkmFt7Y2HEk/NhMGdxotQWby+ WvAHZz8PAmqh+UhLCYxEeO8eitqM6Adk9BReeJW5QkQepzSyBA1GnJkDkwLYd/5Ykvee HPlZZ9meVa+zoLFFLEKipIQYj99vGXM6d5M4ql5q2oBs/w1u3RrwOgKznNwE3+502l/w rU5o1WsHLKoQdOLeqc+GmcniHXeXBJ6SVJJ6ahkAxV+nlODsOBIsi7HcTG0IOQ3ei+pm QaSg== X-Gm-Message-State: AOJu0YyuZPlNbeqlhCOIDzeKPS7kQX74p9AHYJySuqXf86Fyhep565C5 QngvHh6l4JTsZNq8/sk4OsdOHGt7Fs/W2OCsKjC0E4jN7j2s7aRFGd1ZKp4yUwqnchzCYUSF86c 7Qr2xLQsTmIuwiPW3JA3lYvvFzDIpdfHcB7zVFtpeIdDS X-Gm-Gg: ASbGnctvk6YtCWIsbY4eGgh7ja8wkVRyU19jwBOm8jUAvTMfXuU47wxt0IrCzp0uOGB DONKzi5dQ0ivrLPDsKKu+xw+rlY5uHhh3iSySGsqRqM/9atIWkCFEG4iLLptV2OrOundfrSIq1z 8D3zO+CaIR0YA9jFjE/WQcsJIaI3i+BKDa1Y/AEFR3nFpZZoVsX20r45CCVQ+rWoqvVjOeBAKBd opO7N7HOybr/aY7gMrSoANxztKbewRJgjCsB4xotgtB7G8sfamvvgWuwKNQWxd7Ith5ir6FzqWo atiy73NNSh3ZFKxEF3iEsyUMDFIMbmaoS6TPm/lbNrdG7QBB1yKeozhTPtrquhOKHuXG3aUKMYe raA== X-Google-Smtp-Source: AGHT+IFKx0hEa0EUo6m7AaHtwoBqV/BoMijvEcrnPaWq5EEo3iNY5nMuqrcfrxqSR24HrZDljBFrWOb1C+Qv X-Received: by 2002:a17:902:e94e:b0:24c:e6fa:2a38 with SMTP id d9443c01a7336-28e7f298119mr13312075ad.25.1759257843333; Tue, 30 Sep 2025 11:44:03 -0700 (PDT) Received: from postal.iol.unh.edu (postal.iol.unh.edu. [132.177.123.84]) by smtp-relay.gmail.com with ESMTPS id d9443c01a7336-27ed66dd2d0sm11719495ad.17.2025.09.30.11.44.03 (version=TLS1_2 cipher=ECDHE-ECDSA-AES128-GCM-SHA256 bits=128/128); Tue, 30 Sep 2025 11:44:03 -0700 (PDT) X-Relaying-Domain: iol.unh.edu Date: Tue, 30 Sep 2025 11:44:03 -0700 (PDT) Message-ID: <68dc24f3.170a0220.abbe9.727eSMTPIN_ADDED_MISSING@mx.google.com> Received: from [172.21.0.8] (unknown [172.18.0.240]) by postal.iol.unh.edu (Postfix) with ESMTP id 9C709604D420; Tue, 30 Sep 2025 14:44:02 -0400 (EDT) Subject: |SUCCESS| pw157047-157055 [PATCH] [v6,9/9] power: separate public an From: dpdklab@iol.unh.edu To: Test Report Cc: dpdk-test-reports@iol.unh.edu In-Reply-To: <20250930065740.1838899-10-david.marchand@redhat.com> References: <20250930065740.1838899-10-david.marchand@redhat.com> Content-Type: text/plain X-BeenThere: test-report@dpdk.org X-Mailman-Version: 2.1.29 Precedence: list List-Id: automatic DPDK test reports List-Unsubscribe: , List-Archive: List-Post: List-Help: List-Subscribe: , Errors-To: test-report-bounces@dpdk.org Test-Label: iol-compile-arm64-testing Test-Status: SUCCESS http://dpdk.org/patch/157055 _Testing PASS_ Submitter: David Marchand Date: Tuesday, September 30 2025 06:57:39 DPDK git baseline: Repo:dpdk Branch: master CommitID:1d627ea13aeec2bcccf27246e6be2508370d171e 157047-157055 --> testing pass Upstream job id: Generic-DPDK-Compile-Meson#429943 Test environment and result as below: +------------------------------+--------------------+ | Environment | dpdk_meson_compile | +==============================+====================+ | Red Hat Enterprise Linux 9.5 | PASS | +------------------------------+--------------------+ | Ubuntu 20.04 | PASS | +------------------------------+--------------------+ | Debian GNU/Linux 12 | PASS | +------------------------------+--------------------+ | Fedora Linux 42 | PASS | +------------------------------+--------------------+ | Ubuntu 22.04 | PASS | +------------------------------+--------------------+ | Ubuntu 24.04 | PASS | +------------------------------+--------------------+ | CentOS Stream 9 | PASS | +------------------------------+--------------------+ | CentOS Stream 10 | PASS | +------------------------------+--------------------+ Red Hat Enterprise Linux 9.5 Kernel: 5.4 Compiler: gcc gcc (GCC) 11.5.0 20240719 (Red Hat 11.5.0-2) Ubuntu 20.04 Kernel: 5.15 Compiler: aarch64-linux-gnu-gcc gcc (Ubuntu 9.4.0-1ubuntu1~20.04.2) 9.4.0 Debian GNU/Linux 12 Kernel: 5.4 Compiler: gcc gcc (Debian 12.2.0-14+deb12u1) 12.2.0 Fedora Linux 42 Kernel: 5.4 Compiler: gcc gcc (GCC) 15.2.1 20250808 (Red Hat 15.2.1-1) Ubuntu 22.04 Kernel: 5.4 Compiler: gcc gcc (Ubuntu 11.4.0-1ubuntu1~22.04) 11.4.0 Ubuntu 24.04 Kernel: 5.4 Compiler: gcc gcc (Ubuntu 13.3.0-6ubuntu2~24.04) 13.3.0 CentOS Stream 9 Kernel: 5.4 Compiler: gcc gcc (GCC) 11.5.0 20240719 (Red Hat 11.5.0-11) CentOS Stream 10 Kernel: 5.4 Compiler: gcc gcc (GCC) 14.2.1 20250110 (Red Hat 14.2.1-8) To view detailed results, visit: https://lab.dpdk.org/results/dashboard/patchsets/34175/ UNH-IOL DPDK Community Lab To manage your email subscriptions, visit: https://lab.dpdk.org/results/dashboard/preferences/subscriptions/