From mboxrd@z Thu Jan 1 00:00:00 1970 Return-Path: Received: from mails.dpdk.org (mails.dpdk.org [217.70.189.124]) by inbox.dpdk.org (Postfix) with ESMTP id 0DDDA48874 for ; Tue, 30 Sep 2025 20:44:34 +0200 (CEST) Received: from mails.dpdk.org (localhost [127.0.0.1]) by mails.dpdk.org (Postfix) with ESMTP id 080E040150; Tue, 30 Sep 2025 20:44:34 +0200 (CEST) Received: from mail-pl1-f226.google.com (mail-pl1-f226.google.com [209.85.214.226]) by mails.dpdk.org (Postfix) with ESMTP id 025F040150 for ; Tue, 30 Sep 2025 20:44:33 +0200 (CEST) Received: by mail-pl1-f226.google.com with SMTP id d9443c01a7336-27eec33b737so66188135ad.1 for ; Tue, 30 Sep 2025 11:44:32 -0700 (PDT) DKIM-Signature: v=1; a=rsa-sha256; c=relaxed/relaxed; d=iol.unh.edu; s=unh-iol; t=1759257872; x=1759862672; darn=dpdk.org; h=cc:to:from:subject:message-id:date:from:to:cc:subject:date :message-id:reply-to; bh=o3BE+rLjID728HP/49+7F8kBHQoIyGv+4JmgXH210uY=; b=RJl7+R5MiB2kGcQ4HFZ1LhEteIDNhyNk7drRuM+5hogwN6xAZk3i0/qBntIwi2vkaV sh76f8r1MDo+FIGy+v7K5TffdQPI/FkW2KBL4Wn8bSSfSqpkNcW/cTY3SICO2tu7FoaJ EL4XCRX7Fn9IRbyE3DnTkQ7yJixLtpu2vPkI4= X-Google-DKIM-Signature: v=1; a=rsa-sha256; c=relaxed/relaxed; d=1e100.net; s=20230601; t=1759257872; x=1759862672; h=cc:to:from:subject:message-id:date:x-gm-message-state:from:to:cc :subject:date:message-id:reply-to; bh=o3BE+rLjID728HP/49+7F8kBHQoIyGv+4JmgXH210uY=; b=EcheQHEhhGfeDyTT+CO8LowzgFVIAVS9nQOxvjBYCX79XU8c1uII+Cz8jiIw5VLxTR CaNT6pxv7H28fwYGem3HAw+Rph+/OtT2fqKInU9Xugdks5ne2PHrgzfKVkdvbjmqdgM9 7weJkoiTJ8sRkriLRMZJP9YjBblCXok9RO759ltO0fBy3qf0ROC7sdN04TQWgAtPBKV/ rx5E7Am2ShJYge1ZaxaDJ+SQajzlndAnqFCkfrDyK1JwyAQhF5bjX8NwuvGrKba7Bo0G mI7XbIT/+FOP78d5IY8tQh5DyCnFPG7sYmUzJpMIc3gDhaooeJhQOxQWQjmIiWEO5eHs 2Jbw== X-Gm-Message-State: AOJu0Yz0aSjiUWHktk0/6uAhJGn+MWYAlKvLUjadDsjZz8sAFb4Lqg1l 9DJ2/zmoW9wSncDQm8FtKc3ScPt9pslv93qLhRh0yIaFhC4BffNUV56WF2TBYwc1vB9JJNr2dGu HzbjoRdryvqbyIan7HQXWzG+4rGQm/PkEUMJg X-Gm-Gg: ASbGnctAhulcBccxpfUPy7ZII2HebOjBulxKZDP8Rle6zvBA8Bv1bgLcu9jzid5EAKB ex/0ZbhvAfJ7vN8D5w3266dB7f1RRypGOkz8QQyIlfQQDucEp3p0KdRstpp6BjLiISOIAaOd3ah 6Mwa8Ux6wDkGv0OJWhofxc5FHhV/XZbn2d0q3LBmHWNcl9NiupKFWCEUAYvQyLsgRVLjJfwTO9k eJ7ELET1B6DWk+3DSLqYHT6VbqLidtibpGN3R0A+NTs1f4mTsG5M0DdgNRa9g3+KqXgD/7I1erw q2lrxNh2AwI6frVHof8tGUN/NH+ZU+tro4/FufFj1UXORMtOLsCbu2t1cYVWDnirpjQgZhnLne6 naQ== X-Google-Smtp-Source: AGHT+IEqEAAQsUR41DzSqDW8dll6MNww+U04FlNTPuSsFbb+mZES85u+ekkA1Zo4Xg3pmRWrBpe1SX9B/9ol X-Received: by 2002:a17:903:22c2:b0:264:8a8d:92dd with SMTP id d9443c01a7336-28e7f2c577fmr8822225ad.20.1759257872271; Tue, 30 Sep 2025 11:44:32 -0700 (PDT) Received: from postal.iol.unh.edu (postal.iol.unh.edu. [132.177.123.84]) by smtp-relay.gmail.com with ESMTPS id d9443c01a7336-27ed67e78c2sm12996245ad.41.2025.09.30.11.44.32 (version=TLS1_2 cipher=ECDHE-ECDSA-AES128-GCM-SHA256 bits=128/128); Tue, 30 Sep 2025 11:44:32 -0700 (PDT) X-Relaying-Domain: iol.unh.edu Date: Tue, 30 Sep 2025 11:44:32 -0700 (PDT) Message-ID: <68dc2510.170a0220.1c7689.eab5SMTPIN_ADDED_MISSING@mx.google.com> Received: from [172.21.0.4] (unknown [172.18.0.240]) by postal.iol.unh.edu (Postfix) with ESMTP id 8922D604D420; Tue, 30 Sep 2025 14:44:31 -0400 (EDT) Subject: |SUCCESS| [GIT MASTER] b287e404643aeab5bb5db084c142789df187844e From: dpdklab@iol.unh.edu To: Test Report Cc: dpdk-test-reports@iol.unh.edu, Xueming Li , Christian Ehrhardt , Kevin Traynor , Luca Boccassi Content-Type: text/plain X-BeenThere: test-report@dpdk.org X-Mailman-Version: 2.1.29 Precedence: list List-Id: automatic DPDK test reports List-Unsubscribe: , List-Archive: List-Post: List-Help: List-Subscribe: , Errors-To: test-report-bounces@dpdk.org _Testing PASS_ Branch: tags/v24.11 b287e404643aeab5bb5db084c142789df187844e --> testing pass Upstream job id: Generic-DPDK-Compile-Meson#429925 Test environment and result as below: +------------------------------+--------------------+ | Environment | dpdk_meson_compile | +==============================+====================+ | Ubuntu 20.04 | PASS | +------------------------------+--------------------+ | Red Hat Enterprise Linux 9.5 | PASS | +------------------------------+--------------------+ | Debian GNU/Linux 12 | PASS | +------------------------------+--------------------+ | Fedora Linux 42 | PASS | +------------------------------+--------------------+ | Ubuntu 22.04 | PASS | +------------------------------+--------------------+ | Ubuntu 24.04 | PASS | +------------------------------+--------------------+ | CentOS Stream 9 | PASS | +------------------------------+--------------------+ | CentOS Stream 10 | PASS | +------------------------------+--------------------+ Ubuntu 20.04 Kernel: 5.15 Compiler: aarch64-linux-gnu-gcc gcc (Ubuntu 9.4.0-1ubuntu1~20.04.2) 9.4.0 Red Hat Enterprise Linux 9.5 Kernel: 5.4 Compiler: gcc gcc (GCC) 11.5.0 20240719 (Red Hat 11.5.0-2) Debian GNU/Linux 12 Kernel: 5.4 Compiler: gcc gcc (Debian 12.2.0-14+deb12u1) 12.2.0 Fedora Linux 42 Kernel: 5.4 Compiler: gcc gcc (GCC) 15.2.1 20250808 (Red Hat 15.2.1-1) Ubuntu 22.04 Kernel: 5.4 Compiler: gcc gcc (Ubuntu 11.4.0-1ubuntu1~22.04) 11.4.0 Ubuntu 24.04 Kernel: 5.4 Compiler: gcc gcc (Ubuntu 13.3.0-6ubuntu2~24.04) 13.3.0 CentOS Stream 9 Kernel: 5.4 Compiler: gcc gcc (GCC) 11.5.0 20240719 (Red Hat 11.5.0-11) CentOS Stream 10 Kernel: 5.4 Compiler: gcc gcc (GCC) 14.2.1 20250110 (Red Hat 14.2.1-8) To view detailed results, visit: https://lab.dpdk.org/results/dashboard/tarballs/35053/ UNH-IOL DPDK Community Lab To manage your email subscriptions, visit: https://lab.dpdk.org/results/dashboard/preferences/subscriptions/