From mboxrd@z Thu Jan 1 00:00:00 1970 Return-Path: Received: from mails.dpdk.org (mails.dpdk.org [217.70.189.124]) by inbox.dpdk.org (Postfix) with ESMTP id 5812E48874 for ; Tue, 30 Sep 2025 21:10:32 +0200 (CEST) Received: from mails.dpdk.org (localhost [127.0.0.1]) by mails.dpdk.org (Postfix) with ESMTP id 3EB7240150; Tue, 30 Sep 2025 21:10:32 +0200 (CEST) Received: from mail-il1-f227.google.com (mail-il1-f227.google.com [209.85.166.227]) by mails.dpdk.org (Postfix) with ESMTP id 84EA740150 for ; Tue, 30 Sep 2025 21:10:31 +0200 (CEST) Received: by mail-il1-f227.google.com with SMTP id e9e14a558f8ab-424d3c1256fso1169315ab.1 for ; Tue, 30 Sep 2025 12:10:31 -0700 (PDT) DKIM-Signature: v=1; a=rsa-sha256; c=relaxed/relaxed; d=iol.unh.edu; s=unh-iol; t=1759259431; x=1759864231; darn=dpdk.org; h=references:in-reply-to:cc:to:from:subject:message-id:date:from:to :cc:subject:date:message-id:reply-to; bh=Wldnzu8rnz1n9x7fzE5jBzbfz2xwtWr2LYGkXhmbMto=; b=ByWWdh1cUDTFIToyPisPf0+l63lPrJ+D2d+hzncvIewtgO5jDpruD7tyFfC0SZp6Vg WyxK6PFDoaynR+UU5AGOagnazZsZMVS1LuE0K5hoI1qmEegythw4MxBh+I7bJf1dPf50 DlRB9woORUKep2TqIc9FJPq6SavJihwRF7www= X-Google-DKIM-Signature: v=1; a=rsa-sha256; c=relaxed/relaxed; d=1e100.net; s=20230601; t=1759259431; x=1759864231; h=references:in-reply-to:cc:to:from:subject:message-id:date :x-gm-message-state:from:to:cc:subject:date:message-id:reply-to; bh=Wldnzu8rnz1n9x7fzE5jBzbfz2xwtWr2LYGkXhmbMto=; b=lrhVwOeW+A3UplqprP7AmnAqKt4hIMRUSvJVVnH4Eo+WgvX+Uxftmp4uLc1LwIotLa 25aMzg+2wsz5tBy9Gow23fe71FH2mbEbXIWkVzARKvefzDeTOCyTuIXU3ZtH3VHfvSBU h7gLmSX4IUDqVzOvAk72c24v/H1Hn09XNPv6NI5YBE8isURlRusH9slZ3G2XYxxCv+zy m0gqhEEYNNdnzPfJDCj41bk3oEw0tLzfM27vYXXNGVKpHm5Xoi2dA2dI63FG6fP9mG0B CxrbEe90JGcuvw7iNvWgBC6gMCUrFtJfw21FSBx290fLMpFDpp0l+Rd574iiD2M4Ge2Y 0Pwg== X-Gm-Message-State: AOJu0YyHbIx9Bl8q+1IK2MZX7RnMwWd31xEQJM1GDhCq3Of4sLmWwj+2 qXMhmXCXL4U4DvIRCE+mcuQYjMatZvHEka2shVUeNb0/VM71uWOguFJaObT5i4q0JmnerYCIk2n RKDVVZvywQ15utl8yyLtkZaICntYFLH4FguPvDEqXUz0ToYaau+AsUNp20VyK X-Gm-Gg: ASbGnctjHWCCsR3PSBpBBFYqDagGqf3zTSWrJ9aRD8BR4eA2CJz6/3tMvsGofFooese ertnDRNf+/XDovtYksvgVoG31z5aB25TpU17m8WzZ8PTRjIzbjXhISYe8p63nl7U6/vZdvrKFNP gvF1pu585MNqz69+1LKAg6VhfOzx9sPmBsueC+RUYEshrvQUZI34jtxqHMHMatXRcmSVsInxtAo coL91c8MpnJReLqosNxfzjVN+yADpV0IXbxBW6IfEum19IVGOvUJXCYVSR1wFgQM3K5tBJZ+ZJd 6f1etadhJDiuoapsMqhJjOdwUCs4qax7HBKkfbroKpeJSdwxVpXlHNE= X-Google-Smtp-Source: AGHT+IHpUpuBkSR1dOqlBHxCzUFsfi7SZyvRgPTQuU/d9vhWX6/gY6IDnKlfQMa1hEA8/rj9R8aRMRslSsso X-Received: by 2002:a05:6e02:3790:b0:424:86d:7bb9 with SMTP id e9e14a558f8ab-42d814dab7cmr16488855ab.0.1759259430704; Tue, 30 Sep 2025 12:10:30 -0700 (PDT) Received: from postal.iol.unh.edu (postal.iol.unh.edu. [2606:4100:3880:1234::84]) by smtp-relay.gmail.com with ESMTPS id e9e14a558f8ab-428e8eb95e4sm6644395ab.3.2025.09.30.12.10.30 (version=TLS1_2 cipher=ECDHE-ECDSA-AES128-GCM-SHA256 bits=128/128); Tue, 30 Sep 2025 12:10:30 -0700 (PDT) X-Relaying-Domain: iol.unh.edu Date: Tue, 30 Sep 2025 12:10:30 -0700 (PDT) Message-ID: <68dc2b26.050a0220.3b026.89c7SMTPIN_ADDED_MISSING@mx.google.com> Received: from [172.21.0.2] (unknown [172.18.0.240]) by postal.iol.unh.edu (Postfix) with ESMTP id 42547604D420; Tue, 30 Sep 2025 15:10:30 -0400 (EDT) Subject: |SUCCESS| pw157114-157133 [PATCH] [v4,20/20] doc: update for txgbe From: dpdklab@iol.unh.edu To: Test Report Cc: dpdk-test-reports@iol.unh.edu, Stephen Hemminger In-Reply-To: <20250930095953.18508-21-zaiyuwang@trustnetic.com> References: <20250930095953.18508-21-zaiyuwang@trustnetic.com> Content-Type: text/plain X-BeenThere: test-report@dpdk.org X-Mailman-Version: 2.1.29 Precedence: list List-Id: automatic DPDK test reports List-Unsubscribe: , List-Archive: List-Post: List-Help: List-Subscribe: , Errors-To: test-report-bounces@dpdk.org Test-Label: iol-compile-amd64-testing Test-Status: SUCCESS http://dpdk.org/patch/157133 _Testing PASS_ Submitter: Zaiyu Wang Date: Tuesday, September 30 2025 09:59:52 DPDK git baseline: Repo:dpdk-next-net Branch: master CommitID:c04bbd131b2c14b3049bf86d3ef367b34e6fdf1e 157114-157133 --> testing pass Upstream job id: Generic-DPDK-Compile-Meson#430057 Test environment and result as below: +-------------------------------+--------------------+-------------------------+-------------------+----------------------+-------------------+------------------+ | Environment | dpdk_meson_compile | dpdk_llvm_clang_compile | dpdk_msvc_compile | dpdk_mingw64_compile | dpdk_compile_spdk | dpdk_compile_ovs | +===============================+====================+=========================+===================+======================+===================+==================+ | Ubuntu 20.04 | PASS | SKIPPED | SKIPPED | SKIPPED | SKIPPED | SKIPPED | +-------------------------------+--------------------+-------------------------+-------------------+----------------------+-------------------+------------------+ | FreeBSD 14.2 | PASS | SKIPPED | SKIPPED | SKIPPED | SKIPPED | SKIPPED | +-------------------------------+--------------------+-------------------------+-------------------+----------------------+-------------------+------------------+ | CentOS Stream 9 | PASS | SKIPPED | SKIPPED | SKIPPED | PASS | SKIPPED | +-------------------------------+--------------------+-------------------------+-------------------+----------------------+-------------------+------------------+ | CentOS Stream 10 | PASS | SKIPPED | SKIPPED | SKIPPED | SKIPPED | SKIPPED | +-------------------------------+--------------------+-------------------------+-------------------+----------------------+-------------------+------------------+ | Debian GNU/Linux 12 | PASS | SKIPPED | SKIPPED | SKIPPED | PASS | SKIPPED | +-------------------------------+--------------------+-------------------------+-------------------+----------------------+-------------------+------------------+ | Fedora Linux 42 | PASS | SKIPPED | SKIPPED | SKIPPED | PASS | PASS | +-------------------------------+--------------------+-------------------------+-------------------+----------------------+-------------------+------------------+ | openSUSE Leap 15.6 | PASS | SKIPPED | SKIPPED | SKIPPED | SKIPPED | SKIPPED | +-------------------------------+--------------------+-------------------------+-------------------+----------------------+-------------------+------------------+ | Red Hat Enterprise Linux 8.10 | PASS | SKIPPED | SKIPPED | SKIPPED | SKIPPED | SKIPPED | +-------------------------------+--------------------+-------------------------+-------------------+----------------------+-------------------+------------------+ | Red Hat Enterprise Linux 9.5 | PASS | SKIPPED | SKIPPED | SKIPPED | SKIPPED | SKIPPED | +-------------------------------+--------------------+-------------------------+-------------------+----------------------+-------------------+------------------+ | Ubuntu 22.04 | PASS | SKIPPED | SKIPPED | SKIPPED | PASS | SKIPPED | +-------------------------------+--------------------+-------------------------+-------------------+----------------------+-------------------+------------------+ | Ubuntu 24.04 | PASS | SKIPPED | SKIPPED | SKIPPED | PASS | PASS | +-------------------------------+--------------------+-------------------------+-------------------+----------------------+-------------------+------------------+ | Alpine Linux 3.22.0 | PASS | SKIPPED | SKIPPED | SKIPPED | SKIPPED | SKIPPED | +-------------------------------+--------------------+-------------------------+-------------------+----------------------+-------------------+------------------+ | Windows Server 2022 | SKIPPED | PASS | PASS | PASS | SKIPPED | SKIPPED | +-------------------------------+--------------------+-------------------------+-------------------+----------------------+-------------------+------------------+ Ubuntu 20.04 Kernel: 4.19 Compiler: gcc gcc (Ubuntu 9.4.0-1ubuntu1~20.04.2) 9.4.0 FreeBSD 14.2 Kernel: 14.2-RELEASE Compiler: clang 18.1.6 CentOS Stream 9 Kernel: 5.15 Compiler: gcc gcc (GCC) 11.5.0 20240719 (Red Hat 11.5.0-11) CentOS Stream 10 Kernel: 5.15 Compiler: gcc gcc (GCC) 14.2.1 20250110 (Red Hat 14.2.1-8) Debian GNU/Linux 12 Kernel: 5.15 Compiler: gcc gcc (Debian 12.2.0-14+deb12u1) 12.2.0 Fedora Linux 42 Kernel: 5.15 Compiler: clang gcc (GCC) 15.2.1 20250808 (Red Hat 15.2.1-1) openSUSE Leap 15.6 Kernel: 5.15 Compiler: gcc gcc (SUSE Linux) 7.5.0 Red Hat Enterprise Linux 8.10 Kernel: 5.15 Compiler: gcc gcc (GCC) 8.5.0 20210514 (Red Hat 8.5.0-22) Red Hat Enterprise Linux 9.5 Kernel: 5.15 Compiler: gcc gcc (GCC) 11.5.0 20240719 (Red Hat 11.5.0-2) Ubuntu 22.04 Kernel: 5.15 Compiler: gcc gcc (Ubuntu 11.4.0-1ubuntu1~22.04) 11.4.0 Ubuntu 24.04 Kernel: 5.15 Compiler: gcc gcc (Ubuntu 13.3.0-6ubuntu2~24.04) 13.3.0 Alpine Linux 3.22.0 Kernel: 5.15 Compiler: gcc gcc (Alpine 14.2.0) 14.2.0 Windows Server 2022 Kernel: 10.0.20348.2031 Compiler: clang 15.0.7, gcc 14.1.0 (MinGW), and MSVC VS 19.39.33521 To view detailed results, visit: https://lab.dpdk.org/results/dashboard/patchsets/34180/ UNH-IOL DPDK Community Lab To manage your email subscriptions, visit: https://lab.dpdk.org/results/dashboard/preferences/subscriptions/