From mboxrd@z Thu Jan 1 00:00:00 1970 Return-Path: Received: from mails.dpdk.org (mails.dpdk.org [217.70.189.124]) by inbox.dpdk.org (Postfix) with ESMTP id 41C2248874 for ; Tue, 30 Sep 2025 21:48:10 +0200 (CEST) Received: from mails.dpdk.org (localhost [127.0.0.1]) by mails.dpdk.org (Postfix) with ESMTP id 1DC3840150; Tue, 30 Sep 2025 21:48:10 +0200 (CEST) Received: from mail-pg1-f228.google.com (mail-pg1-f228.google.com [209.85.215.228]) by mails.dpdk.org (Postfix) with ESMTP id 8910A40150 for ; Tue, 30 Sep 2025 21:48:08 +0200 (CEST) Received: by mail-pg1-f228.google.com with SMTP id 41be03b00d2f7-b4ee87cc81eso5542643a12.1 for ; Tue, 30 Sep 2025 12:48:08 -0700 (PDT) DKIM-Signature: v=1; a=rsa-sha256; c=relaxed/relaxed; d=iol.unh.edu; s=unh-iol; t=1759261687; x=1759866487; darn=dpdk.org; h=cc:to:from:subject:message-id:date:from:to:cc:subject:date :message-id:reply-to; bh=BmockNgY44q+gBiMNj+w/NFeAWYCluwm/CcXWUQURxw=; b=iT5YRwxT2XFIGQgQlAtineQDA9+eGlZx8AkhCRkwSRJamPkuD4SlFaztLygtbxjlZ2 k+feczNz1gNRtyUsdP4jJnxobMnuKeT5kTKOWFzvyp2ck+s2TLYG6XMdYfNcpkTd6c2T bTS1TJCLm/Iy2E0QQdr0f1z27jDOOfpzhfXrE= X-Google-DKIM-Signature: v=1; a=rsa-sha256; c=relaxed/relaxed; d=1e100.net; s=20230601; t=1759261687; x=1759866487; h=cc:to:from:subject:message-id:date:x-gm-message-state:from:to:cc :subject:date:message-id:reply-to; bh=BmockNgY44q+gBiMNj+w/NFeAWYCluwm/CcXWUQURxw=; b=PYpiNSJa/MZa1+yW+DC4TCVbUgdP/vfOAq/oCAsZ9EvInfcwUluJ+BHtc6wW6XuXmO ofdf3ezNgFucDi2/HddJxz7VSguDPyh65yFOT/tSdu/vFAKtVFEAdraYbXsuAebFU1QU ni8cj6FXyFGTuppe8JBJ9xwwm1BxXy157XvAL3FqOS+qsohJOeo4l7h3isldOVRhDfzd 8DSu1bfMj8IR+Ape+ZYGliOs2Ub3VVwd2zLiccBjPSAP53IAdHrKgmKOm3A6VZf8yek9 Shb1x3zdIsMN/W4FzAttf4QHs/06M4AkGv+ogmsEbwqBefGA15SmQbER1hdGfO//ghwe m2hQ== X-Gm-Message-State: AOJu0YwPPHl14FpckqN/fMxk+9WEEn0VWHlm2zBoju2+MCfWTkFv4moV ZGjo9iJiZ2dVz2SRlonHv9bKZhNaLNaEkku0cUBrBvd6+Qu6t9XTKWGRzKV7AWbIf36yGGLWxcG 1ttdq7tJVXCnXNMkncl7FluTgYO1ML/jXd+7MDYMK977iFHzykP20XGKP0rM7 X-Gm-Gg: ASbGncvfiqGGyzc+9aXpmD6IS1tB7N9TFCgRy5DBNdcxJfqscicIdcGoBjknVSHcFEB jNMt4lbmgGrpR6GE/JOC7bhr97ame0sK7CBFPXl+kVuY+hCLY28UpCP1Ueilxqf6rAFv0cc6mVY TQGpecSZpzFZ5RuXHH8o+BDDMDsjqT146ESDMKy47jj3V7IkDW4HD2u7PaGekr2WQQJKbVdldvy ORcOdsXwSO7gQXdPyXVBm+edCWXeKLBEbmzjk8Gv223R4vmIB3NN+l+yMRpac2bieg3FcpVWEG2 6KpBG1C+E9l+KpRTnY3toLp7c+18JcMC77Khheks1aJYks3yhdrLMqc= X-Google-Smtp-Source: AGHT+IFpK1IGXZmogiJDV2vZJGBeZoivmkgRrXjJEudjPSQsHUUwTthBa4GnE7/CWmNj4RuruR+45ygJGmzd X-Received: by 2002:a17:903:1ace:b0:275:8110:7a48 with SMTP id d9443c01a7336-28e7f2eed8amr10756995ad.39.1759261687507; Tue, 30 Sep 2025 12:48:07 -0700 (PDT) Received: from postal.iol.unh.edu (postal.iol.unh.edu. [2606:4100:3880:1234::84]) by smtp-relay.gmail.com with ESMTPS id d9443c01a7336-27ed66bbbc1sm12546895ad.2.2025.09.30.12.48.07 (version=TLS1_2 cipher=ECDHE-ECDSA-AES128-GCM-SHA256 bits=128/128); Tue, 30 Sep 2025 12:48:07 -0700 (PDT) X-Relaying-Domain: iol.unh.edu Date: Tue, 30 Sep 2025 12:48:07 -0700 (PDT) Message-ID: <68dc33f7.170a0220.356a2e.b441SMTPIN_ADDED_MISSING@mx.google.com> Received: from [172.21.0.2] (unknown [172.18.0.240]) by postal.iol.unh.edu (Postfix) with ESMTP id B3FB4604D420; Tue, 30 Sep 2025 15:48:06 -0400 (EDT) Subject: |SUCCESS| [GIT MASTER] 9845e5848bbe337306fb6ae2a6b1ce5e6ab5b714 From: dpdklab@iol.unh.edu To: Test Report Cc: dpdk-test-reports@iol.unh.edu, Bruce Richardson Content-Type: text/plain X-BeenThere: test-report@dpdk.org X-Mailman-Version: 2.1.29 Precedence: list List-Id: automatic DPDK test reports List-Unsubscribe: , List-Archive: List-Post: List-Help: List-Subscribe: , Errors-To: test-report-bounces@dpdk.org _Testing PASS_ Branch: dpdk-next-net-intel 9845e5848bbe337306fb6ae2a6b1ce5e6ab5b714 --> testing pass Upstream job id: Generic-DPDK-Compile-Meson#430077 Test environment and result as below: +-------------------------------+--------------------+-------------------+-------------------------+----------------------+-------------------+------------------+ | Environment | dpdk_meson_compile | dpdk_msvc_compile | dpdk_llvm_clang_compile | dpdk_mingw64_compile | dpdk_compile_spdk | dpdk_compile_ovs | +===============================+====================+===================+=========================+======================+===================+==================+ | Ubuntu 20.04 | PASS | SKIPPED | SKIPPED | SKIPPED | SKIPPED | SKIPPED | +-------------------------------+--------------------+-------------------+-------------------------+----------------------+-------------------+------------------+ | FreeBSD 14.2 | PASS | SKIPPED | SKIPPED | SKIPPED | SKIPPED | SKIPPED | +-------------------------------+--------------------+-------------------+-------------------------+----------------------+-------------------+------------------+ | CentOS Stream 9 | PASS | SKIPPED | SKIPPED | SKIPPED | PASS | SKIPPED | +-------------------------------+--------------------+-------------------+-------------------------+----------------------+-------------------+------------------+ | Debian GNU/Linux 12 | PASS | SKIPPED | SKIPPED | SKIPPED | PASS | SKIPPED | +-------------------------------+--------------------+-------------------+-------------------------+----------------------+-------------------+------------------+ | Fedora Linux 42 | PASS | SKIPPED | SKIPPED | SKIPPED | PASS | PASS | +-------------------------------+--------------------+-------------------+-------------------------+----------------------+-------------------+------------------+ | CentOS Stream 10 | PASS | SKIPPED | SKIPPED | SKIPPED | SKIPPED | SKIPPED | +-------------------------------+--------------------+-------------------+-------------------------+----------------------+-------------------+------------------+ | openSUSE Leap 15.6 | PASS | SKIPPED | SKIPPED | SKIPPED | SKIPPED | SKIPPED | +-------------------------------+--------------------+-------------------+-------------------------+----------------------+-------------------+------------------+ | Red Hat Enterprise Linux 8.10 | PASS | SKIPPED | SKIPPED | SKIPPED | SKIPPED | SKIPPED | +-------------------------------+--------------------+-------------------+-------------------------+----------------------+-------------------+------------------+ | Red Hat Enterprise Linux 9.5 | PASS | SKIPPED | SKIPPED | SKIPPED | SKIPPED | SKIPPED | +-------------------------------+--------------------+-------------------+-------------------------+----------------------+-------------------+------------------+ | Ubuntu 22.04 | PASS | SKIPPED | SKIPPED | SKIPPED | PASS | SKIPPED | +-------------------------------+--------------------+-------------------+-------------------------+----------------------+-------------------+------------------+ | Ubuntu 24.04 | PASS | SKIPPED | SKIPPED | SKIPPED | PASS | PASS | +-------------------------------+--------------------+-------------------+-------------------------+----------------------+-------------------+------------------+ | Alpine Linux 3.22.0 | PASS | SKIPPED | SKIPPED | SKIPPED | SKIPPED | SKIPPED | +-------------------------------+--------------------+-------------------+-------------------------+----------------------+-------------------+------------------+ | Windows Server 2022 | SKIPPED | PASS | PASS | PASS | SKIPPED | SKIPPED | +-------------------------------+--------------------+-------------------+-------------------------+----------------------+-------------------+------------------+ Ubuntu 20.04 Kernel: 4.19 Compiler: gcc gcc (Ubuntu 9.4.0-1ubuntu1~20.04.2) 9.4.0 FreeBSD 14.2 Kernel: 14.2-RELEASE Compiler: clang 18.1.6 CentOS Stream 9 Kernel: 5.15 Compiler: gcc gcc (GCC) 11.5.0 20240719 (Red Hat 11.5.0-11) Debian GNU/Linux 12 Kernel: 5.15 Compiler: gcc gcc (Debian 12.2.0-14+deb12u1) 12.2.0 Fedora Linux 42 Kernel: 5.15 Compiler: clang gcc (GCC) 15.2.1 20250808 (Red Hat 15.2.1-1) CentOS Stream 10 Kernel: 5.15 Compiler: gcc gcc (GCC) 14.2.1 20250110 (Red Hat 14.2.1-8) openSUSE Leap 15.6 Kernel: 5.15 Compiler: gcc gcc (SUSE Linux) 7.5.0 Red Hat Enterprise Linux 8.10 Kernel: 5.15 Compiler: gcc gcc (GCC) 8.5.0 20210514 (Red Hat 8.5.0-22) Red Hat Enterprise Linux 9.5 Kernel: 5.15 Compiler: gcc gcc (GCC) 11.5.0 20240719 (Red Hat 11.5.0-2) Ubuntu 22.04 Kernel: 5.15 Compiler: gcc gcc (Ubuntu 11.4.0-1ubuntu1~22.04) 11.4.0 Ubuntu 24.04 Kernel: 5.15 Compiler: gcc gcc (Ubuntu 13.3.0-6ubuntu2~24.04) 13.3.0 Alpine Linux 3.22.0 Kernel: 5.15 Compiler: gcc gcc (Alpine 14.2.0) 14.2.0 Windows Server 2022 Kernel: 10.0.20348.2031 Compiler: clang 15.0.7, gcc 14.1.0 (MinGW), and MSVC VS 19.39.33521 To view detailed results, visit: https://lab.dpdk.org/results/dashboard/tarballs/35059/ UNH-IOL DPDK Community Lab To manage your email subscriptions, visit: https://lab.dpdk.org/results/dashboard/preferences/subscriptions/