From mboxrd@z Thu Jan 1 00:00:00 1970 Return-Path: Received: from mails.dpdk.org (mails.dpdk.org [217.70.189.124]) by inbox.dpdk.org (Postfix) with ESMTP id 4CC6548874 for ; Tue, 30 Sep 2025 21:49:40 +0200 (CEST) Received: from mails.dpdk.org (localhost [127.0.0.1]) by mails.dpdk.org (Postfix) with ESMTP id 4677240150; Tue, 30 Sep 2025 21:49:40 +0200 (CEST) Received: from mail-ua1-f100.google.com (mail-ua1-f100.google.com [209.85.222.100]) by mails.dpdk.org (Postfix) with ESMTP id 84B4F40150 for ; Tue, 30 Sep 2025 21:49:38 +0200 (CEST) Received: by mail-ua1-f100.google.com with SMTP id a1e0cc1a2514c-8e2e9192a0aso2811964241.3 for ; Tue, 30 Sep 2025 12:49:38 -0700 (PDT) DKIM-Signature: v=1; a=rsa-sha256; c=relaxed/relaxed; d=iol.unh.edu; s=unh-iol; t=1759261778; x=1759866578; darn=dpdk.org; h=references:in-reply-to:cc:to:from:subject:message-id:date:from:to :cc:subject:date:message-id:reply-to; bh=CLrG5gyEqml+b8Wiu8d2gFeHy/fxbia99BcJdzL7+tg=; b=dIatITszjKTkyIqMbnUblqUkZM0bTC80vvX3ClJzs92PKFHNpzBlhy1LescNzO03t3 5Ygi+irgS9ongunqxeGt4dUTmh+HUHJFV/JZYDlP7rRg5GRUwoTClQNk/lZ0mYJNDgvt Dgowz/lENgEV0W4Y8YGbPW0tUadeKbo/W99EU= X-Google-DKIM-Signature: v=1; a=rsa-sha256; c=relaxed/relaxed; d=1e100.net; s=20230601; t=1759261778; x=1759866578; h=references:in-reply-to:cc:to:from:subject:message-id:date :x-gm-message-state:from:to:cc:subject:date:message-id:reply-to; bh=CLrG5gyEqml+b8Wiu8d2gFeHy/fxbia99BcJdzL7+tg=; b=VIiduLq9D+9bsZEvtb/qnso8+2UbcnkTmjflqusoZ84vF1my0jR1qKcjG5Ry3S508C lnnzaFO2PY8EF/9iEriTnEznQ1+M6c/Iz2dL1HntHuHadhF0vpEoRRfmFuzSZCS2Dagl YBUqQXakVi2lOQgGfRxSwkVb2zRFyStrm/tXEHm/0mqXFeK9KRiYM0LEl51WUMhdGNsm HhZset4gFtf7HNYx7CrXskKyEdk9UhR4cGdS8ClkURDV5yF87iSUA2WLlDoyu2Hc/DaV 90tIV15ql5yjpWH+mBOkwXG8Lnnk8Mv1j4t5iZMfbomf8AjUpnS+VrHVMbSJTCZkgCf5 IZ6Q== X-Gm-Message-State: AOJu0YxIv0wZHEni7uGs20vSY6XioRV6RdUbqxs6X/IjQ4mhftfp5qfq GnLdgW/CD7zN/P3liqdDDFOT1omOcpY0R2TDuHjGYmBmValZmCwd89/5tk29Nz89qiYcmIR5JXg INA7I/3coduUz9pZHDGS15uF+mKgR1vGr9LHKzc3oJd4o0bjImoAfxMbQQUBc X-Gm-Gg: ASbGnctToxfuRH2bp6LOa8xwH/M5g85vxF6Db6D3lTIrL8YiaFv7xrGRmBh6FPd5++S M+SsOwrcRmyowfnSbE6JzL1qwqqghmF7kNXO1Om/b/iy3erXMqCJaBbF0XMbCS4ZObPJU9X0+Sw 8sdc2BXT8G23slaRyfZU+baIrjigFVrqRUBsiV/LNqQ5A/GAkJLGFQFYoJZQDOei6N7Rhw0O4o6 e0/H6xBSSIx0q0uf7V8tQubtV95q4BPdvrirhPV55N1Grzc0WH15KjjXgibgn3IdWcP9/c8ciK7 slGBosrtnUWV4+qCimdHd0PQ4Dew5/DC9h5YDGm/S8qtTgEecDyd3Y4= X-Google-Smtp-Source: AGHT+IETG1BLckpYQeMYfkPrEwFXwYPv2Omh8OPjRMArZjXM5rsRWl9PGXiogwtZ15KaOuxEIqr3VirFlky9 X-Received: by 2002:a05:6102:161e:b0:533:44d4:d624 with SMTP id ada2fe7eead31-5d3fe51eb17mr465280137.8.1759261777712; Tue, 30 Sep 2025 12:49:37 -0700 (PDT) Received: from postal.iol.unh.edu (postal.iol.unh.edu. [2606:4100:3880:1234::84]) by smtp-relay.gmail.com with ESMTPS id ada2fe7eead31-5ae302f2b7csm1234664137.1.2025.09.30.12.49.37 (version=TLS1_2 cipher=ECDHE-ECDSA-AES128-GCM-SHA256 bits=128/128); Tue, 30 Sep 2025 12:49:37 -0700 (PDT) X-Relaying-Domain: iol.unh.edu Date: Tue, 30 Sep 2025 12:49:37 -0700 (PDT) Message-ID: <68dc3451.050a0220.16637c.979fSMTPIN_ADDED_MISSING@mx.google.com> Received: from [172.21.0.2] (unknown [172.18.0.240]) by postal.iol.unh.edu (Postfix) with ESMTP id 641F4604D420; Tue, 30 Sep 2025 15:49:37 -0400 (EDT) Subject: |SUCCESS| pw157147-157150 [PATCH] [v5,4/4] net/cpfl: add cpchnl get From: dpdklab@iol.unh.edu To: Test Report Cc: dpdk-test-reports@iol.unh.edu, Bruce Richardson In-Reply-To: <20250930182718.2997819-5-praveen.shetty@intel.com> References: <20250930182718.2997819-5-praveen.shetty@intel.com> Content-Type: text/plain X-BeenThere: test-report@dpdk.org X-Mailman-Version: 2.1.29 Precedence: list List-Id: automatic DPDK test reports List-Unsubscribe: , List-Archive: List-Post: List-Help: List-Subscribe: , Errors-To: test-report-bounces@dpdk.org Test-Label: iol-compile-amd64-testing Test-Status: SUCCESS http://dpdk.org/patch/157150 _Testing PASS_ Submitter: Shetty, Praveen Date: Tuesday, September 30 2025 18:27:18 DPDK git baseline: Repo:dpdk-next-net-intel Branch: master CommitID:9845e5848bbe337306fb6ae2a6b1ce5e6ab5b714 157147-157150 --> testing pass Upstream job id: Windows-Compile-DPDK-Native#31333 Test environment and result as below: +---------------------+--------------------+-------------------+-------------------------+ | Environment | dpdk_meson_compile | dpdk_msvc_compile | dpdk_llvm_clang_compile | +=====================+====================+===================+=========================+ | Ubuntu 20.04 | PASS | SKIPPED | SKIPPED | +---------------------+--------------------+-------------------+-------------------------+ | FreeBSD 14.2 | PASS | SKIPPED | SKIPPED | +---------------------+--------------------+-------------------+-------------------------+ | Windows Server 2022 | SKIPPED | PASS | PASS | +---------------------+--------------------+-------------------+-------------------------+ Ubuntu 20.04 Kernel: 4.19 Compiler: gcc gcc (Ubuntu 9.4.0-1ubuntu1~20.04.2) 9.4.0 FreeBSD 14.2 Kernel: 14.2-RELEASE Compiler: clang 18.1.6 Windows Server 2022 Kernel: 10.0.20348.2031 Compiler: clang 15.0.7, gcc 14.1.0 (MinGW), and MSVC VS 19.39.33521 To view detailed results, visit: https://lab.dpdk.org/results/dashboard/patchsets/34186/ UNH-IOL DPDK Community Lab To manage your email subscriptions, visit: https://lab.dpdk.org/results/dashboard/preferences/subscriptions/