From mboxrd@z Thu Jan 1 00:00:00 1970 Return-Path: Received: from mails.dpdk.org (mails.dpdk.org [217.70.189.124]) by inbox.dpdk.org (Postfix) with ESMTP id 3DD5948874 for ; Tue, 30 Sep 2025 21:58:35 +0200 (CEST) Received: from mails.dpdk.org (localhost [127.0.0.1]) by mails.dpdk.org (Postfix) with ESMTP id 17610400EF; Tue, 30 Sep 2025 21:58:35 +0200 (CEST) Received: from mail-il1-f228.google.com (mail-il1-f228.google.com [209.85.166.228]) by mails.dpdk.org (Postfix) with ESMTP id 3D5C9400EF for ; Tue, 30 Sep 2025 21:58:33 +0200 (CEST) Received: by mail-il1-f228.google.com with SMTP id e9e14a558f8ab-42480cb42e9so30047595ab.0 for ; Tue, 30 Sep 2025 12:58:33 -0700 (PDT) DKIM-Signature: v=1; a=rsa-sha256; c=relaxed/relaxed; d=iol.unh.edu; s=unh-iol; t=1759262312; x=1759867112; darn=dpdk.org; h=references:in-reply-to:cc:to:from:subject:message-id:date:from:to :cc:subject:date:message-id:reply-to; bh=8JYrVHArYjYP4wOj+6AnAUdgQNmgoGtHEWE8qnW27u4=; b=bDsiee4jy1WTNJE+08R7oaUS/di/ksnmyxWetZi2+2pp8sydD75tHMbOfidzCzgnsf v8vCt0vo6BQu+6hNDaUyKu6ZBbkOyPPKbbb2iGjeElB+EWJWSMW/Vs770QS0a+9i5H7X QGbyzlvApJR41+jDgHqiRFohBK7EnDiQae9yQ= X-Google-DKIM-Signature: v=1; a=rsa-sha256; c=relaxed/relaxed; d=1e100.net; s=20230601; t=1759262312; x=1759867112; h=references:in-reply-to:cc:to:from:subject:message-id:date :x-gm-message-state:from:to:cc:subject:date:message-id:reply-to; bh=8JYrVHArYjYP4wOj+6AnAUdgQNmgoGtHEWE8qnW27u4=; b=h75D41+OhDgjsI+ejeEvu6/mR6jpcBDG1GvVxGdULPiyj0+i6K7BGQFAukEQvrADOM I0J5J/9ixUp7glbFFE9BcM/x9XW2y7ZCUTtJa1bcYi//ibTDjVViKx5TNAlLouD8pGrx lY20lZGUgTabhlfHsaFX4V+bx3c3TXRtPbbbguhElfZxWf6Su8l6SzMjTUV1OifgVInP DWUP3SHL8dV6/y4hFb1QwntF1Y6N1V6+cutnbIzILeZL6UsZT1JVH8DJl4Oj0E8dxbeW +hi6m4GNY+143fHEA26tSjxByQHEufxgBGN/9JPi/EkD9/KvmCRWw6hlqTAGjsvt7I+O Ie1A== X-Gm-Message-State: AOJu0YxSQWB6vpJGT+inOWJwt5hjlOYa+QQ3grVvwz3uIPxHEEwa1Kbd LvacVyWO61mZ+fPNxsjbdY/F7/eVt66nGfyoFiohJ2N/omkBXeKpE4VKljz2njc3iGnEQEhj5dS JkTMQ12vhh6stqWFBYru8l6Sb6r9Q0Jz4Opr9vQ3TXup6 X-Gm-Gg: ASbGncsbQP0bJZyaMYPyncSr8pagPYVNzCAhBYaxEUwnDUD1D8MOudusyrH9gJSQpMZ UfzPnFO772ozT50dgRKkFrK9PUYsjIuvSfDp9BcEUWs8jrNdTYjGCO7bhNiao1uuFngDU+01FUL 26Qx5Slz1GbvBTRBPJ14Qk3D0STdbmmggboFhw62FiElJBjH0nCmw8/Iv8cZe+ANT9qjoNnTW9Z gOu52sftlakxi0pRVNuY3N+2hphDxv2RUTg2cpOyNwBJrllrqzagPcatmAx/B+d8kjl903apKiK /pyHw3GlvsKijAVvWAM8DXJKPjSvsonVdx+u2zlZyLpCbuFs7iyMJB1Iqe3+Xf649RXJF8qIGV6 SQg== X-Google-Smtp-Source: AGHT+IGrU4yAXbuWXMmni4Y5kWwAtm6mgY9wbkcPgSdTSBe6FJixlMyS/jMGjQYBAnzHKEcPJR9U3kWQg+W8 X-Received: by 2002:a92:cd89:0:b0:429:5f74:3bad with SMTP id e9e14a558f8ab-42d8168c42dmr18050525ab.30.1759262312472; Tue, 30 Sep 2025 12:58:32 -0700 (PDT) Received: from postal.iol.unh.edu (postal.iol.unh.edu. [132.177.123.84]) by smtp-relay.gmail.com with ESMTPS id e9e14a558f8ab-425bb8e342csm11335345ab.9.2025.09.30.12.58.32 (version=TLS1_2 cipher=ECDHE-ECDSA-AES128-GCM-SHA256 bits=128/128); Tue, 30 Sep 2025 12:58:32 -0700 (PDT) X-Relaying-Domain: iol.unh.edu Date: Tue, 30 Sep 2025 12:58:32 -0700 (PDT) Message-ID: <68dc3668.920a0220.23d613.3430SMTPIN_ADDED_MISSING@mx.google.com> Received: from [172.21.0.2] (unknown [172.18.0.240]) by postal.iol.unh.edu (Postfix) with ESMTP id 81E7B604D420; Tue, 30 Sep 2025 15:58:31 -0400 (EDT) Subject: |SUCCESS| pw157147-157150 [PATCH] [v5,4/4] net/cpfl: add cpchnl get From: dpdklab@iol.unh.edu To: Test Report Cc: dpdk-test-reports@iol.unh.edu, Bruce Richardson In-Reply-To: <20250930182718.2997819-5-praveen.shetty@intel.com> References: <20250930182718.2997819-5-praveen.shetty@intel.com> Content-Type: text/plain X-BeenThere: test-report@dpdk.org X-Mailman-Version: 2.1.29 Precedence: list List-Id: automatic DPDK test reports List-Unsubscribe: , List-Archive: List-Post: List-Help: List-Subscribe: , Errors-To: test-report-bounces@dpdk.org Test-Label: iol-unit-amd64-testing Test-Status: SUCCESS http://dpdk.org/patch/157150 _Testing PASS_ Submitter: Shetty, Praveen Date: Tuesday, September 30 2025 18:27:18 DPDK git baseline: Repo:dpdk-next-net-intel Branch: master CommitID:9845e5848bbe337306fb6ae2a6b1ce5e6ab5b714 157147-157150 --> testing pass Upstream job id: Generic-VM-Unit-Test-DPDK#31502 Test environment and result as below: +-------------------------------+----------------+ | Environment | dpdk_unit_test | +===============================+================+ | Debian GNU/Linux 12 | PASS | +-------------------------------+----------------+ | CentOS Stream 10 | PASS | +-------------------------------+----------------+ | CentOS Stream 9 | PASS | +-------------------------------+----------------+ | Fedora Linux 42 | PASS | +-------------------------------+----------------+ | Fedora Linux 40 | PASS | +-------------------------------+----------------+ | Ubuntu 20.04 | PASS | +-------------------------------+----------------+ | Fedora Linux 41 | PASS | +-------------------------------+----------------+ | Red Hat Enterprise Linux 9.5 | PASS | +-------------------------------+----------------+ | Red Hat Enterprise Linux 8.10 | PASS | +-------------------------------+----------------+ | Ubuntu 24.04 | PASS | +-------------------------------+----------------+ | Ubuntu 22.04 | PASS | +-------------------------------+----------------+ | Windows Server 2022 | PASS | +-------------------------------+----------------+ Debian GNU/Linux 12 Kernel: 5.15 Compiler: gcc gcc (Debian 12.2.0-14+deb12u1) 12.2.0 CentOS Stream 10 Kernel: 5.15 Compiler: gcc gcc (GCC) 14.2.1 20250110 (Red Hat 14.2.1-8) CentOS Stream 9 Kernel: 5.15 Compiler: gcc gcc (GCC) 11.5.0 20240719 (Red Hat 11.5.0-11) Fedora Linux 42 Kernel: 5.15 Compiler: clang gcc (GCC) 15.2.1 20250808 (Red Hat 15.2.1-1) Fedora Linux 40 Kernel: 5.15 Compiler: clang gcc (GCC) 14.2.1 20240912 (Red Hat 14.2.1-3) Ubuntu 20.04 Kernel: 5.15 Compiler: gcc gcc (Ubuntu 9.4.0-1ubuntu1~20.04.2) 9.4.0 Fedora Linux 41 Kernel: 5.15 Compiler: gcc gcc (GCC) 14.3.1 20250523 (Red Hat 14.3.1-1) Red Hat Enterprise Linux 9.5 Kernel: 5.15 Compiler: gcc gcc (GCC) 11.5.0 20240719 (Red Hat 11.5.0-2) Red Hat Enterprise Linux 8.10 Kernel: 5.15 Compiler: gcc gcc (GCC) 8.5.0 20210514 (Red Hat 8.5.0-22) Ubuntu 24.04 Kernel: 5.15 Compiler: gcc gcc (Ubuntu 13.3.0-6ubuntu2~24.04) 13.3.0 Ubuntu 22.04 Kernel: 5.15 Compiler: gcc gcc (Ubuntu 11.4.0-1ubuntu1~22.04) 11.4.0 Windows Server 2022 Kernel: 10.0.20348.2031 Compiler: clang 15.0.7, gcc 14.1.0 (MinGW), and MSVC VS 19.39.33521 To view detailed results, visit: https://lab.dpdk.org/results/dashboard/patchsets/34186/ UNH-IOL DPDK Community Lab To manage your email subscriptions, visit: https://lab.dpdk.org/results/dashboard/preferences/subscriptions/