From mboxrd@z Thu Jan 1 00:00:00 1970 Return-Path: Received: from mails.dpdk.org (mails.dpdk.org [217.70.189.124]) by inbox.dpdk.org (Postfix) with ESMTP id 4138248874 for ; Tue, 30 Sep 2025 21:59:43 +0200 (CEST) Received: from mails.dpdk.org (localhost [127.0.0.1]) by mails.dpdk.org (Postfix) with ESMTP id 39855400EF; Tue, 30 Sep 2025 21:59:43 +0200 (CEST) Received: from mail-io1-f99.google.com (mail-io1-f99.google.com [209.85.166.99]) by mails.dpdk.org (Postfix) with ESMTP id D6907400EF for ; Tue, 30 Sep 2025 21:59:41 +0200 (CEST) Received: by mail-io1-f99.google.com with SMTP id ca18e2360f4ac-92aee734485so102164039f.1 for ; Tue, 30 Sep 2025 12:59:41 -0700 (PDT) DKIM-Signature: v=1; a=rsa-sha256; c=relaxed/relaxed; d=iol.unh.edu; s=unh-iol; t=1759262381; x=1759867181; darn=dpdk.org; h=references:in-reply-to:cc:to:from:subject:message-id:date:from:to :cc:subject:date:message-id:reply-to; bh=kAmM5byZW6XmGoHnbfUPYiTLanmocoFY0bZpKgMAs5k=; b=JvgTEi0LpvsqF5yl++/SZUNVkRQf6Iw0p6zJ+znmUr2K7YNcrUditJQd0DtMBbyhrM VKYsfij76w6ST5Nbs19Y4WqveV9T7Dq1qWkhqB2E10S2GCXsreJtHYrhZNlQotOzGuyb k2SDi6ftwe9CUuSg4n28BryVPZh9Nhe+b1fJI= X-Google-DKIM-Signature: v=1; a=rsa-sha256; c=relaxed/relaxed; d=1e100.net; s=20230601; t=1759262381; x=1759867181; h=references:in-reply-to:cc:to:from:subject:message-id:date :x-gm-message-state:from:to:cc:subject:date:message-id:reply-to; bh=kAmM5byZW6XmGoHnbfUPYiTLanmocoFY0bZpKgMAs5k=; b=wxsc0uNK4lDSreJ4A/WLJjmoTaoEP7Lya9iTdtsFl30F33+Ys82waCkiw0sFW+qV6R SPrRQtaXiNH1Y/ceJJqVJgleZfnfy449JHbA76cHxn1ThtP1dJKCQMr4GSoszMOOr0MS eS2CBceKxZGVcPpZ9vMeEoxu1ai8R7Fu7YlR5fJfZUi51Eu2K1vQXA1NIDm+aVL5EAtt Ka8MSVmnUk6pADCUyiX54WPXwkiJPNwckA1zF3q4vvAPeXJN7sdzWgHqbbk05G4jeMOX QkLA5jZL8HBOafzagoMOc0U1mzTzhItCmA/zOTx5BfAdQL3IfeQXQuF1WhmBUAqfKf8s i4Hw== X-Gm-Message-State: AOJu0YwucmeHX8qGzxq+XJymW7X1c3uYfg3oZhOp4M41Qj2NIKWABy3/ cIhxsDCa84zs5di2CRoQnCU6VbjC/200cBpzFFdWfn7XK/U0MM/wJiyp+6/vBjdBrJjxQCShODR 6YaCLz8ZYa1G9V96W4nNtZfVK527hfdIAuMJpvXWk0fBR X-Gm-Gg: ASbGncu9nAd0ELVxAwY8yp7jsriXW2bMnCS1hD0/IHfKYmFz9TYTuWdzshkfMXvcp+/ M27cuN8ZyStkqmnKTWDKDh3CtVKRxwJQeReQWLCap47Dtns06Kk+fZn5OHwB5ceUyC2IAFQXmaj P7wYeZAqyuOoC2hPDacLiz6HkMqVjoel7Pav0732izJ9HXpY2aVeDiImVFwBRoDTGptGSw0k1q3 uERvddyyMmLGTysCXWeLDqgMMvvVu8clor3tk74K7yp6cGQPdlzrdMfQTsamfMN07+uM2MYo+Ao OLjy2iq1lMCLgnzO8TnmKYIWqGbDzXtPPl3HyWDa+bsiHt8dL5oqCRwwjW1pY8QkM9wG5E9Fovr 7mQ== X-Google-Smtp-Source: AGHT+IETMVj8SfF+r27jkBIMWuMtLmnHzVNIRLFzbTHyvvRHd+4XEvGZTnmxPRSvtip3FCaOBJOsY2O+Z0bg X-Received: by 2002:a05:6e02:2195:b0:429:4c65:e8f5 with SMTP id e9e14a558f8ab-42d8167e796mr18834135ab.23.1759262381002; Tue, 30 Sep 2025 12:59:41 -0700 (PDT) Received: from postal.iol.unh.edu (postal.iol.unh.edu. [132.177.123.84]) by smtp-relay.gmail.com with ESMTPS id e9e14a558f8ab-425bbacfd42sm11506125ab.8.2025.09.30.12.59.40 (version=TLS1_2 cipher=ECDHE-ECDSA-AES128-GCM-SHA256 bits=128/128); Tue, 30 Sep 2025 12:59:40 -0700 (PDT) X-Relaying-Domain: iol.unh.edu Date: Tue, 30 Sep 2025 12:59:40 -0700 (PDT) Message-ID: <68dc36ac.050a0220.25e0e.4a91SMTPIN_ADDED_MISSING@mx.google.com> Received: from [172.21.0.3] (unknown [172.18.0.240]) by postal.iol.unh.edu (Postfix) with ESMTP id 89D49604D420; Tue, 30 Sep 2025 15:59:40 -0400 (EDT) Subject: |SUCCESS| pw157134-157137 [PATCH] [v1,4/4] net/ice/base: add support From: dpdklab@iol.unh.edu To: Test Report Cc: dpdk-test-reports@iol.unh.edu, Bruce Richardson In-Reply-To: References: Content-Type: text/plain X-BeenThere: test-report@dpdk.org X-Mailman-Version: 2.1.29 Precedence: list List-Id: automatic DPDK test reports List-Unsubscribe: , List-Archive: List-Post: List-Help: List-Subscribe: , Errors-To: test-report-bounces@dpdk.org Test-Label: iol-compile-amd64-testing Test-Status: SUCCESS http://dpdk.org/patch/157137 _Testing PASS_ Submitter: Burakov, Anatoly Date: Tuesday, September 30 2025 11:21:17 DPDK git baseline: Repo:dpdk-next-net-intel Branch: master CommitID:9845e5848bbe337306fb6ae2a6b1ce5e6ab5b714 157134-157137 --> testing pass Upstream job id: Generic-DPDK-Compile-Meson#430111 Test environment and result as below: +-------------------------------+--------------------+-------------------+-------------------------+----------------------+-------------------+------------------+ | Environment | dpdk_meson_compile | dpdk_msvc_compile | dpdk_llvm_clang_compile | dpdk_mingw64_compile | dpdk_compile_spdk | dpdk_compile_ovs | +===============================+====================+===================+=========================+======================+===================+==================+ | FreeBSD 14.2 | PASS | SKIPPED | SKIPPED | SKIPPED | SKIPPED | SKIPPED | +-------------------------------+--------------------+-------------------+-------------------------+----------------------+-------------------+------------------+ | Ubuntu 20.04 | PASS | SKIPPED | SKIPPED | SKIPPED | SKIPPED | SKIPPED | +-------------------------------+--------------------+-------------------+-------------------------+----------------------+-------------------+------------------+ | CentOS Stream 9 | PASS | SKIPPED | SKIPPED | SKIPPED | PASS | SKIPPED | +-------------------------------+--------------------+-------------------+-------------------------+----------------------+-------------------+------------------+ | CentOS Stream 10 | PASS | SKIPPED | SKIPPED | SKIPPED | SKIPPED | SKIPPED | +-------------------------------+--------------------+-------------------+-------------------------+----------------------+-------------------+------------------+ | Debian GNU/Linux 12 | PASS | SKIPPED | SKIPPED | SKIPPED | PASS | SKIPPED | +-------------------------------+--------------------+-------------------+-------------------------+----------------------+-------------------+------------------+ | Fedora Linux 42 | PASS | SKIPPED | SKIPPED | SKIPPED | PASS | PASS | +-------------------------------+--------------------+-------------------+-------------------------+----------------------+-------------------+------------------+ | openSUSE Leap 15.6 | PASS | SKIPPED | SKIPPED | SKIPPED | SKIPPED | SKIPPED | +-------------------------------+--------------------+-------------------+-------------------------+----------------------+-------------------+------------------+ | Red Hat Enterprise Linux 8.10 | PASS | SKIPPED | SKIPPED | SKIPPED | SKIPPED | SKIPPED | +-------------------------------+--------------------+-------------------+-------------------------+----------------------+-------------------+------------------+ | Red Hat Enterprise Linux 9.5 | PASS | SKIPPED | SKIPPED | SKIPPED | SKIPPED | SKIPPED | +-------------------------------+--------------------+-------------------+-------------------------+----------------------+-------------------+------------------+ | Ubuntu 22.04 | PASS | SKIPPED | SKIPPED | SKIPPED | PASS | SKIPPED | +-------------------------------+--------------------+-------------------+-------------------------+----------------------+-------------------+------------------+ | Ubuntu 24.04 | PASS | SKIPPED | SKIPPED | SKIPPED | PASS | PASS | +-------------------------------+--------------------+-------------------+-------------------------+----------------------+-------------------+------------------+ | Alpine Linux 3.22.0 | PASS | SKIPPED | SKIPPED | SKIPPED | SKIPPED | SKIPPED | +-------------------------------+--------------------+-------------------+-------------------------+----------------------+-------------------+------------------+ | Windows Server 2022 | SKIPPED | PASS | PASS | PASS | SKIPPED | SKIPPED | +-------------------------------+--------------------+-------------------+-------------------------+----------------------+-------------------+------------------+ FreeBSD 14.2 Kernel: 14.2-RELEASE Compiler: clang 18.1.6 Ubuntu 20.04 Kernel: 4.19 Compiler: gcc gcc (Ubuntu 9.4.0-1ubuntu1~20.04.2) 9.4.0 CentOS Stream 9 Kernel: 5.15 Compiler: gcc gcc (GCC) 11.5.0 20240719 (Red Hat 11.5.0-11) CentOS Stream 10 Kernel: 5.15 Compiler: gcc gcc (GCC) 14.2.1 20250110 (Red Hat 14.2.1-8) Debian GNU/Linux 12 Kernel: 5.15 Compiler: gcc gcc (Debian 12.2.0-14+deb12u1) 12.2.0 Fedora Linux 42 Kernel: 5.15 Compiler: clang gcc (GCC) 15.2.1 20250808 (Red Hat 15.2.1-1) openSUSE Leap 15.6 Kernel: 5.15 Compiler: gcc gcc (SUSE Linux) 7.5.0 Red Hat Enterprise Linux 8.10 Kernel: 5.15 Compiler: gcc gcc (GCC) 8.5.0 20210514 (Red Hat 8.5.0-22) Red Hat Enterprise Linux 9.5 Kernel: 5.15 Compiler: gcc gcc (GCC) 11.5.0 20240719 (Red Hat 11.5.0-2) Ubuntu 22.04 Kernel: 5.15 Compiler: gcc gcc (Ubuntu 11.4.0-1ubuntu1~22.04) 11.4.0 Ubuntu 24.04 Kernel: 5.15 Compiler: gcc gcc (Ubuntu 13.3.0-6ubuntu2~24.04) 13.3.0 Alpine Linux 3.22.0 Kernel: 5.15 Compiler: gcc gcc (Alpine 14.2.0) 14.2.0 Windows Server 2022 Kernel: 10.0.20348.2031 Compiler: clang 15.0.7, gcc 14.1.0 (MinGW), and MSVC VS 19.39.33521 To view detailed results, visit: https://lab.dpdk.org/results/dashboard/patchsets/34181/ UNH-IOL DPDK Community Lab To manage your email subscriptions, visit: https://lab.dpdk.org/results/dashboard/preferences/subscriptions/