automatic DPDK test reports
 help / color / mirror / Atom feed
From: dpdklab@iol.unh.edu
To: Test Report <test-report@dpdk.org>
Cc: dpdk-test-reports@iol.unh.edu,
	Bruce Richardson <bruce.richardson@intel.com>
Subject: |SUCCESS| pw157147-157150 [PATCH] [v5,4/4] net/cpfl: add cpchnl get
Date: Tue, 30 Sep 2025 12:59:49 -0700 (PDT)	[thread overview]
Message-ID: <68dc36b5.050a0220.4f2f6.4486SMTPIN_ADDED_MISSING@mx.google.com> (raw)
In-Reply-To: <20250930182718.2997819-5-praveen.shetty@intel.com>

Test-Label: iol-compile-amd64-testing
Test-Status: SUCCESS
http://dpdk.org/patch/157150

_Testing PASS_

Submitter: Shetty, Praveen <praveen.shetty@intel.com>
Date: Tuesday, September 30 2025 18:27:18 
DPDK git baseline: Repo:dpdk-next-net-intel
  Branch: master
  CommitID:9845e5848bbe337306fb6ae2a6b1ce5e6ab5b714

157147-157150 --> testing pass

Upstream job id: Windows-Compile-DPDK-Native#31334

Test environment and result as below:

+---------------------+--------------------+-------------------+-------------------------+----------------------+
|     Environment     | dpdk_meson_compile | dpdk_msvc_compile | dpdk_llvm_clang_compile | dpdk_mingw64_compile |
+=====================+====================+===================+=========================+======================+
| Ubuntu 20.04        | PASS               | SKIPPED           | SKIPPED                 | SKIPPED              |
+---------------------+--------------------+-------------------+-------------------------+----------------------+
| FreeBSD 14.2        | PASS               | SKIPPED           | SKIPPED                 | SKIPPED              |
+---------------------+--------------------+-------------------+-------------------------+----------------------+
| Windows Server 2022 | SKIPPED            | PASS              | PASS                    | PASS                 |
+---------------------+--------------------+-------------------+-------------------------+----------------------+


Ubuntu 20.04
	Kernel: 4.19
	Compiler: gcc gcc (Ubuntu 9.4.0-1ubuntu1~20.04.2) 9.4.0

FreeBSD 14.2
	Kernel: 14.2-RELEASE
	Compiler: clang 18.1.6

Windows Server 2022
	Kernel: 10.0.20348.2031
	Compiler: clang 15.0.7, gcc 14.1.0 (MinGW), and MSVC VS 19.39.33521

To view detailed results, visit:
https://lab.dpdk.org/results/dashboard/patchsets/34186/

UNH-IOL DPDK Community Lab

To manage your email subscriptions, visit: 
https://lab.dpdk.org/results/dashboard/preferences/subscriptions/

  parent reply	other threads:[~2025-09-30 19:59 UTC|newest]

Thread overview: 32+ messages / expand[flat|nested]  mbox.gz  Atom feed  top
     [not found] <20250930182718.2997819-5-praveen.shetty@intel.com>
2025-09-30 17:53 ` |SUCCESS| pw157147-157150 [PATCH v5 4/4] net/cpfl: add cpchnl get vport info support qemudev
2025-09-30 17:58 ` qemudev
2025-09-30 18:28 ` |SUCCESS| pw157150 " checkpatch
2025-09-30 19:02 ` |PENDING| pw157147-157150 [PATCH] [v5,4/4] net/cpfl: add cpchnl get dpdklab
2025-09-30 19:06 ` |SUCCESS| " dpdklab
2025-09-30 19:08 ` |PENDING| " dpdklab
2025-09-30 19:10 ` |SUCCESS| " dpdklab
2025-09-30 19:10 ` dpdklab
2025-09-30 19:14 ` |PENDING| " dpdklab
2025-09-30 19:19 ` dpdklab
2025-09-30 19:28 ` |SUCCESS| " dpdklab
2025-09-30 19:28 ` dpdklab
2025-09-30 19:32 ` dpdklab
2025-09-30 19:45 ` dpdklab
2025-09-30 19:49 ` dpdklab
2025-09-30 19:50 ` dpdklab
2025-09-30 19:58 ` dpdklab
2025-09-30 19:59 ` dpdklab [this message]
2025-09-30 20:04 ` dpdklab
2025-09-30 21:31 ` |SUCCESS| pw157150 [PATCH v5 4/4] net/cpfl: add cpchnl get vport info support 0-day Robot
2025-09-30 21:31 ` 0-day Robot
2025-09-30 22:05 ` |SUCCESS| pw157147-157150 [PATCH] [v5,4/4] net/cpfl: add cpchnl get dpdklab
2025-09-30 22:22 ` dpdklab
2025-10-01  5:47 ` |PENDING| " dpdklab
2025-10-01  6:18 ` |SUCCESS| " dpdklab
2025-10-01  6:18 ` dpdklab
2025-10-01  6:34 ` dpdklab
2025-10-01  6:35 ` dpdklab
2025-10-01  6:57 ` dpdklab
2025-10-01  9:40 ` dpdklab
2025-10-01 12:09 ` dpdklab
2025-10-01 17:45 ` dpdklab

Reply instructions:

You may reply publicly to this message via plain-text email
using any one of the following methods:

* Save the following mbox file, import it into your mail client,
  and reply-to-all from there: mbox

  Avoid top-posting and favor interleaved quoting:
  https://en.wikipedia.org/wiki/Posting_style#Interleaved_style

* Reply using the --to, --cc, and --in-reply-to
  switches of git-send-email(1):

  git send-email \
    --in-reply-to=68dc36b5.050a0220.4f2f6.4486SMTPIN_ADDED_MISSING@mx.google.com \
    --to=dpdklab@iol.unh.edu \
    --cc=bruce.richardson@intel.com \
    --cc=dpdk-test-reports@iol.unh.edu \
    --cc=test-report@dpdk.org \
    /path/to/YOUR_REPLY

  https://kernel.org/pub/software/scm/git/docs/git-send-email.html

* If your mail client supports setting the In-Reply-To header
  via mailto: links, try the mailto: link
Be sure your reply has a Subject: header at the top and a blank line before the message body.
This is a public inbox, see mirroring instructions
for how to clone and mirror all data and code used for this inbox;
as well as URLs for NNTP newsgroup(s).