From mboxrd@z Thu Jan 1 00:00:00 1970 Return-Path: Received: from mails.dpdk.org (mails.dpdk.org [217.70.189.124]) by inbox.dpdk.org (Postfix) with ESMTP id 4DC8548874 for ; Tue, 30 Sep 2025 21:59:51 +0200 (CEST) Received: from mails.dpdk.org (localhost [127.0.0.1]) by mails.dpdk.org (Postfix) with ESMTP id 4990A400EF; Tue, 30 Sep 2025 21:59:51 +0200 (CEST) Received: from mail-io1-f100.google.com (mail-io1-f100.google.com [209.85.166.100]) by mails.dpdk.org (Postfix) with ESMTP id C7D37400EF for ; Tue, 30 Sep 2025 21:59:49 +0200 (CEST) Received: by mail-io1-f100.google.com with SMTP id ca18e2360f4ac-8ca2e53c0d3so277534339f.1 for ; Tue, 30 Sep 2025 12:59:49 -0700 (PDT) DKIM-Signature: v=1; a=rsa-sha256; c=relaxed/relaxed; d=iol.unh.edu; s=unh-iol; t=1759262389; x=1759867189; darn=dpdk.org; h=references:in-reply-to:cc:to:from:subject:message-id:date:from:to :cc:subject:date:message-id:reply-to; bh=/OdiEm36xGYCytxdOTHuFcpFBxjhjpP2+XM+onNd5vA=; b=IFFXasQBwxYphA2O0k/6Y89r07SPoxna7GKPaTUKDWY45Vj0uKSNzY0vLFXbN0q2+m lc2SRggNLL9UIuvk/PZEufLFo3+h4zbakN1GgJ/4qitzO95eEj5EHMcgE1igRbc9yMaW 98ZKVUQyvIqOwwnWMV+JLRJj8qGaP1q/xjZZs= X-Google-DKIM-Signature: v=1; a=rsa-sha256; c=relaxed/relaxed; d=1e100.net; s=20230601; t=1759262389; x=1759867189; h=references:in-reply-to:cc:to:from:subject:message-id:date :x-gm-message-state:from:to:cc:subject:date:message-id:reply-to; bh=/OdiEm36xGYCytxdOTHuFcpFBxjhjpP2+XM+onNd5vA=; b=k4gEGHCjJ48Wck1O+dXr2xn0wG5AvtoS+xIZD0gltd8yI2pQzQ6+1J6jZ+yJvDb1ae mrvvufT12+Qxcd5GK8MiuAxw/q4S2OIC5G9LWC/wPKSrC1xbK2+ACJO2CI6oSxtL36GR PtX9lHByXVX4vLYhd2W0Vy3G0WPE11q8lpunJoSvbRs2xHGK2ddDhmBR934DPeHr9vw0 jn/uPZ4DpGPnXXXVN4ROMQnN4xxWY22omDjZ1kxIpCTJry3ZW2h6AxQemXLH7LK48Xf0 ldWyAA9Wv433CK1aPER0T8XxRqWBihQE/uT9HyYlXTaEZsZLADiulrKnAFPFAKo+2njk CgrQ== X-Gm-Message-State: AOJu0YwSy5I9dBLdh/0FSetkcnI3jHWBPmyckViPoZ7y0Qw2QeeUJ5hy /L1edOkECY6+wieY3TPZ/VthEEb1X9blgL549FT8pyWOpH6TeS1x0uWXphN1g0tAHxZNH+7Qk4V GlnI8QdZSHAvO/m44z9r3e1BF9G8gV3Dah3a+SQx17U4NQha4WLoxwusvblfJ X-Gm-Gg: ASbGncvIkrok1cleB4ZOO59rJpS4ecnb+R1uMRIwy7y2Equro5lrnONwruczo1HuQcT yu8LYsprQKFBPaXKxhAg0QGy2ZASv3nHyp6mJ4k5W2UaMbBbZp0H/hzYGSDuL1QV/JaPthQ/fjX t5M8KQ2biZs+90+RwKRbUvEpWJOqcPmNdi1OzZz8z60Kz1xeEaEGSM89xnla0fcK5szLEELDcDH FD9g7DU51BYwPGqBOnejfGVBgCQ30DTBSsA4yRfIZ+fIan5eIWJUqM9SajMF+d5SHkOKMu9lAf/ kvuAa6POJlLqhHUchhXwT+72Lcc7tPagT7Z0RkOd0n8dG3nHNgh4mXA= X-Google-Smtp-Source: AGHT+IEW7+6tlPT9KqKBbsZaqql9DhpGrAPv5hH2YZvyvMFg1rSdEF7G4duGhOL9rYOTrpTEH4cnlodXPz84 X-Received: by 2002:a05:6e02:1fc8:b0:426:e20b:f5d4 with SMTP id e9e14a558f8ab-42d81612aacmr20984155ab.10.1759262389088; Tue, 30 Sep 2025 12:59:49 -0700 (PDT) Received: from postal.iol.unh.edu (postal.iol.unh.edu. [2606:4100:3880:1234::84]) by smtp-relay.gmail.com with ESMTPS id e9e14a558f8ab-425c02654efsm10933475ab.39.2025.09.30.12.59.49 (version=TLS1_2 cipher=ECDHE-ECDSA-AES128-GCM-SHA256 bits=128/128); Tue, 30 Sep 2025 12:59:49 -0700 (PDT) X-Relaying-Domain: iol.unh.edu Date: Tue, 30 Sep 2025 12:59:49 -0700 (PDT) Message-ID: <68dc36b5.050a0220.4f2f6.4486SMTPIN_ADDED_MISSING@mx.google.com> Received: from [172.21.0.4] (unknown [172.18.0.240]) by postal.iol.unh.edu (Postfix) with ESMTP id A7589604D420; Tue, 30 Sep 2025 15:59:48 -0400 (EDT) Subject: |SUCCESS| pw157147-157150 [PATCH] [v5,4/4] net/cpfl: add cpchnl get From: dpdklab@iol.unh.edu To: Test Report Cc: dpdk-test-reports@iol.unh.edu, Bruce Richardson In-Reply-To: <20250930182718.2997819-5-praveen.shetty@intel.com> References: <20250930182718.2997819-5-praveen.shetty@intel.com> Content-Type: text/plain X-BeenThere: test-report@dpdk.org X-Mailman-Version: 2.1.29 Precedence: list List-Id: automatic DPDK test reports List-Unsubscribe: , List-Archive: List-Post: List-Help: List-Subscribe: , Errors-To: test-report-bounces@dpdk.org Test-Label: iol-compile-amd64-testing Test-Status: SUCCESS http://dpdk.org/patch/157150 _Testing PASS_ Submitter: Shetty, Praveen Date: Tuesday, September 30 2025 18:27:18 DPDK git baseline: Repo:dpdk-next-net-intel Branch: master CommitID:9845e5848bbe337306fb6ae2a6b1ce5e6ab5b714 157147-157150 --> testing pass Upstream job id: Windows-Compile-DPDK-Native#31334 Test environment and result as below: +---------------------+--------------------+-------------------+-------------------------+----------------------+ | Environment | dpdk_meson_compile | dpdk_msvc_compile | dpdk_llvm_clang_compile | dpdk_mingw64_compile | +=====================+====================+===================+=========================+======================+ | Ubuntu 20.04 | PASS | SKIPPED | SKIPPED | SKIPPED | +---------------------+--------------------+-------------------+-------------------------+----------------------+ | FreeBSD 14.2 | PASS | SKIPPED | SKIPPED | SKIPPED | +---------------------+--------------------+-------------------+-------------------------+----------------------+ | Windows Server 2022 | SKIPPED | PASS | PASS | PASS | +---------------------+--------------------+-------------------+-------------------------+----------------------+ Ubuntu 20.04 Kernel: 4.19 Compiler: gcc gcc (Ubuntu 9.4.0-1ubuntu1~20.04.2) 9.4.0 FreeBSD 14.2 Kernel: 14.2-RELEASE Compiler: clang 18.1.6 Windows Server 2022 Kernel: 10.0.20348.2031 Compiler: clang 15.0.7, gcc 14.1.0 (MinGW), and MSVC VS 19.39.33521 To view detailed results, visit: https://lab.dpdk.org/results/dashboard/patchsets/34186/ UNH-IOL DPDK Community Lab To manage your email subscriptions, visit: https://lab.dpdk.org/results/dashboard/preferences/subscriptions/