From mboxrd@z Thu Jan 1 00:00:00 1970 Return-Path: Received: from mails.dpdk.org (mails.dpdk.org [217.70.189.124]) by inbox.dpdk.org (Postfix) with ESMTP id EC4A648875 for ; Tue, 30 Sep 2025 22:04:06 +0200 (CEST) Received: from mails.dpdk.org (localhost [127.0.0.1]) by mails.dpdk.org (Postfix) with ESMTP id E530E400EF; Tue, 30 Sep 2025 22:04:06 +0200 (CEST) Received: from mail-il1-f227.google.com (mail-il1-f227.google.com [209.85.166.227]) by mails.dpdk.org (Postfix) with ESMTP id AD923400EF for ; Tue, 30 Sep 2025 22:04:05 +0200 (CEST) Received: by mail-il1-f227.google.com with SMTP id e9e14a558f8ab-42861442e8eso19275945ab.2 for ; Tue, 30 Sep 2025 13:04:05 -0700 (PDT) DKIM-Signature: v=1; a=rsa-sha256; c=relaxed/relaxed; d=iol.unh.edu; s=unh-iol; t=1759262645; x=1759867445; darn=dpdk.org; h=references:in-reply-to:cc:to:from:subject:message-id:date:from:to :cc:subject:date:message-id:reply-to; bh=8G5Wj8w7WYhsGljMdT3/cTn8GbteqXv69tnyoWmbNqc=; b=Swzan6wtn6ZU8dlEWdM8PDoshpl9GoYFUApXLKre3Z0A7lt2o43c5btM8GwcbFjwFh Z0RS9tApGG5gOs0tc3rSQ+4Y4rUv5jh8HQqmFZ2PukrJo46ySdCRYSaIrFqn967i/vr7 lWdrObSDx6oBFOLYomXQE8dpHrr7zr1FfDioM= X-Google-DKIM-Signature: v=1; a=rsa-sha256; c=relaxed/relaxed; d=1e100.net; s=20230601; t=1759262645; x=1759867445; h=references:in-reply-to:cc:to:from:subject:message-id:date :x-gm-message-state:from:to:cc:subject:date:message-id:reply-to; bh=8G5Wj8w7WYhsGljMdT3/cTn8GbteqXv69tnyoWmbNqc=; b=nlAQFooWpgsQ8T9Za1PZjFSBog8fI7Sa1PETlnYQ4045vvR0KEvLGUaiqADJhcgyoJ kiCd394R82VdtMcW9G5ueRI0/9KSaQN/yLveXXpheZkAfYl82c0vEjkWeJXQ6GL//xzK zBPIO0fGw9LJjwp78Ju1lamcU7o6zpoRZPfPwqfGTBm9zq8RGzCBg8/lg1ilqzL5zxqk T5PnlVMkvjQxY4tsJVv4yM9qv+OKz8ylxsCdAYt2uk+hjC3qsH3bdnOc3t/KoZRD6iPP 8IslCBvHuwDcPleZ8GIUdymZFRNiCaNdqdPStYA2+DB0AEEEhAw2pe0ffKPyUMFMHoC8 LaeA== X-Gm-Message-State: AOJu0YwU6IuCd1zp0WVzepfLDOG/vmWXfriKbNVn5j5gjrp0Tb/Hq58V qw9UrWb8FJeucjKuKC/4zF9PL4CuDqqAgviLyGI3Vc5lGFEXGtayXYrQ5A6myS1ruzC0ezNzQrY dtSaSrSqgPM/l5Jr0jS8gMs44/c74+RggXBcFhdlojgPR X-Gm-Gg: ASbGncs98pl9YLyJNETcK5tpzmMC1NTN53y97gFjrGPeFbNqpsPS22+EXNSFrefAwMH BDw+eKZeB6ksJCEfrDLg1tlfi7ofSoGjGaMpkCGqXDOO/nvU8t2VA8zboPepsheuW5INenozX2Z BfR9hcN6d+c0R13Pa6o9YzhFKm/tDj/+vbdhhEb5pMAyquufo8RE94qOAjr6eBTtnIWSc62BusC xdKdWjlrKw/XcGsvuXBnfz/7Xko57RrE6P0SO3rI1e+zK2T2rFXk0ZvY9UzHF8nRsqpeR20iFPk PWGSqNi6vSuaX5M5FJIvrYaNovxPnYUCCRxCqfhqoITk29HzUJHCQ+vmWxSniPNY36vYt6ZBGRp uHQ== X-Google-Smtp-Source: AGHT+IEAOjeBTQ2x5SCusD2lKo6SEFN9gD46UC3FuHUcXPJREzNp2XCIOKW6v2R1yXjavxdWb9+KobuB755M X-Received: by 2002:a05:6e02:b21:b0:42d:7e2c:78b8 with SMTP id e9e14a558f8ab-42d815abbfdmr17954345ab.2.1759262644834; Tue, 30 Sep 2025 13:04:04 -0700 (PDT) Received: from postal.iol.unh.edu (postal.iol.unh.edu. [132.177.123.84]) by smtp-relay.gmail.com with ESMTPS id e9e14a558f8ab-425bf6d5023sm11401395ab.24.2025.09.30.13.04.04 (version=TLS1_2 cipher=ECDHE-ECDSA-AES128-GCM-SHA256 bits=128/128); Tue, 30 Sep 2025 13:04:04 -0700 (PDT) X-Relaying-Domain: iol.unh.edu Date: Tue, 30 Sep 2025 13:04:04 -0700 (PDT) Message-ID: <68dc37b4.050a0220.355782.42eeSMTPIN_ADDED_MISSING@mx.google.com> Received: from [172.21.0.2] (unknown [172.18.0.240]) by postal.iol.unh.edu (Postfix) with ESMTP id 5B8FA60003E8; Tue, 30 Sep 2025 16:04:04 -0400 (EDT) Subject: |SUCCESS| pw157147-157150 [PATCH] [v5,4/4] net/cpfl: add cpchnl get From: dpdklab@iol.unh.edu To: Test Report Cc: dpdk-test-reports@iol.unh.edu, Bruce Richardson In-Reply-To: <20250930182718.2997819-5-praveen.shetty@intel.com> References: <20250930182718.2997819-5-praveen.shetty@intel.com> Content-Type: text/plain X-BeenThere: test-report@dpdk.org X-Mailman-Version: 2.1.29 Precedence: list List-Id: automatic DPDK test reports List-Unsubscribe: , List-Archive: List-Post: List-Help: List-Subscribe: , Errors-To: test-report-bounces@dpdk.org Test-Label: iol-unit-amd64-testing Test-Status: SUCCESS http://dpdk.org/patch/157150 _Testing PASS_ Submitter: Shetty, Praveen Date: Tuesday, September 30 2025 18:27:18 DPDK git baseline: Repo:dpdk-next-net-intel Branch: master CommitID:9845e5848bbe337306fb6ae2a6b1ce5e6ab5b714 157147-157150 --> testing pass Upstream job id: Generic-VM-Unit-Test-DPDK#31503 Test environment and result as below: +-------------------------------+----------------+ | Environment | dpdk_unit_test | +===============================+================+ | Debian GNU/Linux 12 | PASS | +-------------------------------+----------------+ | CentOS Stream 10 | PASS | +-------------------------------+----------------+ | CentOS Stream 9 | PASS | +-------------------------------+----------------+ | Fedora Linux 42 | PASS | +-------------------------------+----------------+ | Fedora Linux 40 | PASS | +-------------------------------+----------------+ | Ubuntu 20.04 | PASS | +-------------------------------+----------------+ | Fedora Linux 41 | PASS | +-------------------------------+----------------+ | Red Hat Enterprise Linux 9.5 | PASS | +-------------------------------+----------------+ | Red Hat Enterprise Linux 8.10 | PASS | +-------------------------------+----------------+ | Ubuntu 24.04 | PASS | +-------------------------------+----------------+ | Ubuntu 22.04 | PASS | +-------------------------------+----------------+ | Windows Server 2022 | PASS | +-------------------------------+----------------+ Debian GNU/Linux 12 Kernel: 5.15 Compiler: gcc gcc (Debian 12.2.0-14+deb12u1) 12.2.0 CentOS Stream 10 Kernel: 5.15 Compiler: gcc gcc (GCC) 14.2.1 20250110 (Red Hat 14.2.1-8) CentOS Stream 9 Kernel: 5.15 Compiler: gcc gcc (GCC) 11.5.0 20240719 (Red Hat 11.5.0-11) Fedora Linux 42 Kernel: 5.15 Compiler: clang gcc (GCC) 15.2.1 20250808 (Red Hat 15.2.1-1) Fedora Linux 40 Kernel: 5.15 Compiler: clang gcc (GCC) 14.2.1 20240912 (Red Hat 14.2.1-3) Ubuntu 20.04 Kernel: 5.15 Compiler: gcc gcc (Ubuntu 9.4.0-1ubuntu1~20.04.2) 9.4.0 Fedora Linux 41 Kernel: 5.15 Compiler: gcc gcc (GCC) 14.3.1 20250523 (Red Hat 14.3.1-1) Red Hat Enterprise Linux 9.5 Kernel: 5.15 Compiler: gcc gcc (GCC) 11.5.0 20240719 (Red Hat 11.5.0-2) Red Hat Enterprise Linux 8.10 Kernel: 5.15 Compiler: gcc gcc (GCC) 8.5.0 20210514 (Red Hat 8.5.0-22) Ubuntu 24.04 Kernel: 5.15 Compiler: gcc gcc (Ubuntu 13.3.0-6ubuntu2~24.04) 13.3.0 Ubuntu 22.04 Kernel: 5.15 Compiler: gcc gcc (Ubuntu 11.4.0-1ubuntu1~22.04) 11.4.0 Windows Server 2022 Kernel: 10.0.20348.2031 Compiler: clang 15.0.7, gcc 14.1.0 (MinGW), and MSVC VS 19.39.33521 To view detailed results, visit: https://lab.dpdk.org/results/dashboard/patchsets/34186/ UNH-IOL DPDK Community Lab To manage your email subscriptions, visit: https://lab.dpdk.org/results/dashboard/preferences/subscriptions/