From mboxrd@z Thu Jan 1 00:00:00 1970 Return-Path: Received: from mails.dpdk.org (mails.dpdk.org [217.70.189.124]) by inbox.dpdk.org (Postfix) with ESMTP id 6A54248875 for ; Tue, 30 Sep 2025 22:35:24 +0200 (CEST) Received: from mails.dpdk.org (localhost [127.0.0.1]) by mails.dpdk.org (Postfix) with ESMTP id 63BFE400EF; Tue, 30 Sep 2025 22:35:24 +0200 (CEST) Received: from mail-pg1-f225.google.com (mail-pg1-f225.google.com [209.85.215.225]) by mails.dpdk.org (Postfix) with ESMTP id 1E6E0400EF for ; Tue, 30 Sep 2025 22:35:23 +0200 (CEST) Received: by mail-pg1-f225.google.com with SMTP id 41be03b00d2f7-b55517e74e3so6756106a12.2 for ; Tue, 30 Sep 2025 13:35:23 -0700 (PDT) DKIM-Signature: v=1; a=rsa-sha256; c=relaxed/relaxed; d=iol.unh.edu; s=unh-iol; t=1759264522; x=1759869322; darn=dpdk.org; h=cc:to:from:subject:message-id:date:from:to:cc:subject:date :message-id:reply-to; bh=CpG4o4he8nQD8NpfOYc2aL8uRKTLGV1iUFnTXgYsT6w=; b=Pq2E2dxphirlL3FoZcpu0XqBJ3MhLmRYAvpXlqOEEnsQ1eV0haPk39+29s0mnLA05e 8OUP6/G8R5eS5x0uvbsxulJZGMMW/juIeponDUSGrfsTGjD5N4dU1Raaq6UrD4lZvOoA nIMwft0yGnSfPZWy8uj1h2BW1RSE5MEu4WUmk= X-Google-DKIM-Signature: v=1; a=rsa-sha256; c=relaxed/relaxed; d=1e100.net; s=20230601; t=1759264522; x=1759869322; h=cc:to:from:subject:message-id:date:x-gm-message-state:from:to:cc :subject:date:message-id:reply-to; bh=CpG4o4he8nQD8NpfOYc2aL8uRKTLGV1iUFnTXgYsT6w=; b=rKeIcPCm2Nnde6JCBwmZibX6o6iW8LdjTw6gRO9AudjGrblSooBnLc4EQTZ5PiMM2l RIWklNCmeaWbCglLcTBaC0Ner7VgOsuPUdLE/qH9NUJmhHP+tkt1XNrDBZcBW9R7wju8 Z+a21czKYhOpVDoeTSFzFsJlNckhKnV008QBypek1QMxzvKXy9RsT8+GtZK16BCynCTJ HOWOxAxMKQN4iQIHCcyOgpLwuQLy0R/zj0YCFbczWx6aQGae7UfubhIyC3LxE6vRft4p tvQojk7Xj36iZnzC1r+wPXJylJ/wGCGhQZtcq0xntV0pUMXLK5oEFeaqBIYr4aODlwNa ttcA== X-Gm-Message-State: AOJu0YzHFjsAJc2Yz8e0Pza5vDZ+c7H03KeCsUPKhE1MeY86vLugDnbZ qM9jaESX0hvaYZlIE0XbhITxCZLPE0kQHZGP+Pb3dGpp2SKN+QKOikEXB6hDVG3P+fX9RWqq7WH QMMdhCWeS0HkxUnh1rm8/mx3p0zhlFVfg3QyE6iYrkanN X-Gm-Gg: ASbGncvzfj2sqgJQcoj0L+J+fQoNDoX6g8oQ6pCUwn/8HQfgnQ+xHZQzxEIBSgPPRwe yfTy4QC/ddNyd7xXVaf//I/n0Qr4n1Ujy2/gIwKrg3UAFyg5gYKYFBxA2DAtMx1V2trfhwQ1irt Kl6gX/hD7/lUiz9FVY8/LhX/yYvZF6E2xMhtthQhSJWyYcoO6Rwb+E7D04fd1da7H2tKCZxxSxb ooiJkvbeGjwt8GniyiXSaD6L9iuKuEfbgb49mDLXknb6Q0JpA9Rid4mh1uNkW/pF5eEGiWdzKqh IoHCNeveSFaYzDVYoHQVOzljUrnf+CnBwWTO4innFbVkh4VYLk/ggGL1LFq7SJe+ppivK60v6ZV VEw== X-Google-Smtp-Source: AGHT+IH3QHfuMMa/JyW4Oqua1PVFQw06glWEDmW5rVmsROaH6x4QzYm4IrcbHkTub/5YQP+L44Qq6vOR9XJe X-Received: by 2002:a17:902:e552:b0:24b:24dc:91a7 with SMTP id d9443c01a7336-28e7f2ff464mr12329725ad.45.1759264522186; Tue, 30 Sep 2025 13:35:22 -0700 (PDT) Received: from postal.iol.unh.edu (postal.iol.unh.edu. [132.177.123.84]) by smtp-relay.gmail.com with ESMTPS id d9443c01a7336-27ed66bbbe8sm12508805ad.7.2025.09.30.13.35.22 (version=TLS1_2 cipher=ECDHE-ECDSA-AES128-GCM-SHA256 bits=128/128); Tue, 30 Sep 2025 13:35:22 -0700 (PDT) X-Relaying-Domain: iol.unh.edu Date: Tue, 30 Sep 2025 13:35:22 -0700 (PDT) Message-ID: <68dc3f0a.170a0220.3b10bf.ab03SMTPIN_ADDED_MISSING@mx.google.com> Received: from [172.21.0.3] (unknown [172.18.0.240]) by postal.iol.unh.edu (Postfix) with ESMTP id A489A604D420; Tue, 30 Sep 2025 16:35:21 -0400 (EDT) Subject: |SUCCESS| [GIT MASTER] 8fafc107475f8456cf90cbb7e805236aafa6d547 From: dpdklab@iol.unh.edu To: Test Report Cc: dpdk-test-reports@iol.unh.edu, Akhil Goyal Content-Type: text/plain X-BeenThere: test-report@dpdk.org X-Mailman-Version: 2.1.29 Precedence: list List-Id: automatic DPDK test reports List-Unsubscribe: , List-Archive: List-Post: List-Help: List-Subscribe: , Errors-To: test-report-bounces@dpdk.org _Testing PASS_ Branch: dpdk-next-crypto 8fafc107475f8456cf90cbb7e805236aafa6d547 --> testing pass Upstream job id: Windows-Compile-DPDK-Native#31335 Test environment and result as below: +---------------------+--------------------+-------------------+-------------------------+ | Environment | dpdk_meson_compile | dpdk_msvc_compile | dpdk_llvm_clang_compile | +=====================+====================+===================+=========================+ | Ubuntu 20.04 | PASS | SKIPPED | SKIPPED | +---------------------+--------------------+-------------------+-------------------------+ | FreeBSD 14.2 | PASS | SKIPPED | SKIPPED | +---------------------+--------------------+-------------------+-------------------------+ | Windows Server 2022 | SKIPPED | PASS | PASS | +---------------------+--------------------+-------------------+-------------------------+ Ubuntu 20.04 Kernel: 4.19 Compiler: gcc gcc (Ubuntu 9.4.0-1ubuntu1~20.04.2) 9.4.0 FreeBSD 14.2 Kernel: 14.2-RELEASE Compiler: clang 18.1.6 Windows Server 2022 Kernel: 10.0.20348.2031 Compiler: clang 15.0.7, gcc 14.1.0 (MinGW), and MSVC VS 19.39.33521 To view detailed results, visit: https://lab.dpdk.org/results/dashboard/tarballs/35065/ UNH-IOL DPDK Community Lab To manage your email subscriptions, visit: https://lab.dpdk.org/results/dashboard/preferences/subscriptions/