From mboxrd@z Thu Jan 1 00:00:00 1970 Return-Path: Received: from mails.dpdk.org (mails.dpdk.org [217.70.189.124]) by inbox.dpdk.org (Postfix) with ESMTP id 1D32D48875 for ; Tue, 30 Sep 2025 22:41:57 +0200 (CEST) Received: from mails.dpdk.org (localhost [127.0.0.1]) by mails.dpdk.org (Postfix) with ESMTP id 14CB7400EF; Tue, 30 Sep 2025 22:41:57 +0200 (CEST) Received: from mail-pl1-f225.google.com (mail-pl1-f225.google.com [209.85.214.225]) by mails.dpdk.org (Postfix) with ESMTP id 902EC400EF for ; Tue, 30 Sep 2025 22:41:55 +0200 (CEST) Received: by mail-pl1-f225.google.com with SMTP id d9443c01a7336-27ee41e074dso59886445ad.1 for ; Tue, 30 Sep 2025 13:41:55 -0700 (PDT) DKIM-Signature: v=1; a=rsa-sha256; c=relaxed/relaxed; d=iol.unh.edu; s=unh-iol; t=1759264915; x=1759869715; darn=dpdk.org; h=references:in-reply-to:cc:to:from:subject:message-id:date:from:to :cc:subject:date:message-id:reply-to; bh=dKhmL7viLMkyXCS9Ntv+mjTBFutAoLlrgpZcYRogth8=; b=NuBNRXreNex7htk7XorCuAgUN/p3YngPXLXVV1VYZVMHKJPFORo3kEJNRzHwJfKBYO DpNOjCX8WZj/jTt2ATAanAljs6w6BJvjIzsje19nYjcoU76m5Bc3w+7FLfBLlyN2OLwP 4/n/Bgz7hqX/AuuzQxCPnwQ+G8+vj1nyKMGO8= X-Google-DKIM-Signature: v=1; a=rsa-sha256; c=relaxed/relaxed; d=1e100.net; s=20230601; t=1759264915; x=1759869715; h=references:in-reply-to:cc:to:from:subject:message-id:date :x-gm-message-state:from:to:cc:subject:date:message-id:reply-to; bh=dKhmL7viLMkyXCS9Ntv+mjTBFutAoLlrgpZcYRogth8=; b=Pz39jeL7znNhwsosJsvdEuhv+XesCxVFgQlnZlDks8l6nuc9UeH6W1VRcE1QBEh6qX MyVmkma+xsPU4ZEU4RtqKBZHyWw5mAiA9BKzMS5k5KpdfWmCa10+RcU64Z4wII6lKO2W IaBVXANFbXODpSiIsXlmnwR9NCsHjJFxe7Af0e1y2JHqLzAR7u0+ZakQprEljulD5zn+ ub9mDTJ3D+0gZB28YWxuCmvGuEi0zfTl8v3AkeWpilvPB8M2ko1FKzyKu5SB03wVLX23 mOWv4QNCtWY/A8hDxOzGtM3Qff9iKFl6+hGgX9kwV7d1o/7hG/rnFnGIbYtKy3YR4Kl8 SiTA== X-Gm-Message-State: AOJu0YyatzAS9bIpbwYTjq1cldqN218uA32mwfZ0MZEanYy58EaIb7Ee xcfiI+3vf4BxfJDV7v335+h2XM5ArzhiLUUugNVkx05rgeWCGgvPXdIVSQYSiUMXE2gIHYkzeRZ KHN8dlu6lMSd/qV/FvkatSxkib9QkviUzkPQJ2FuJ/FBL0rHhU0LJKAyNNCcL X-Gm-Gg: ASbGnct0pJXGpUqfHZs9dThEMRgIafhSTeYrCpeE5lZN8lsMMBjP79NtuxRbmwR+8MG 1B5xOFuhqi+Sp2BAFaqA4bYaws23xnsjGi2r5mTeMaAEe78FfK96G6zmNu+ljKVJLrndkIzCcPR QqtlU1mzLky6/+HrZyh5xrjs7hZNKD6Lthqj1O4FxrfBAaaDQ/cdPxZGRfS/jQNQukm/AYyD4J5 ZYT2yyO0Nd5U2pa/W37mTM5xryqlxt7jaFKi78B32wQ2yI9eosWUYgCMbRTOR9HpwgWpgiqDiUc Qqb5JCletuev9i+K1GUr79T8n2phD4g2T8u3PBIHXRCD+hDcldvVg84= X-Google-Smtp-Source: AGHT+IGsAxXju5n7SU7KcTXj13Uo3JLVef3ewCVyf4gvZdtKJO2m5p4ksejghNHvVQwai1NggWAbSSNT0RnQ X-Received: by 2002:a17:903:1112:b0:278:704:d6d0 with SMTP id d9443c01a7336-28e7f29403cmr12019485ad.19.1759264914710; Tue, 30 Sep 2025 13:41:54 -0700 (PDT) Received: from postal.iol.unh.edu (postal.iol.unh.edu. [2606:4100:3880:1234::84]) by smtp-relay.gmail.com with ESMTPS id d9443c01a7336-28e7fa8f825sm485685ad.21.2025.09.30.13.41.54 (version=TLS1_2 cipher=ECDHE-ECDSA-AES128-GCM-SHA256 bits=128/128); Tue, 30 Sep 2025 13:41:54 -0700 (PDT) X-Relaying-Domain: iol.unh.edu Date: Tue, 30 Sep 2025 13:41:54 -0700 (PDT) Message-ID: <68dc4092.170a0220.4814e.2d25SMTPIN_ADDED_MISSING@mx.google.com> Received: from [172.21.0.3] (unknown [172.18.0.240]) by postal.iol.unh.edu (Postfix) with ESMTP id EAB7E604D420; Tue, 30 Sep 2025 16:41:53 -0400 (EDT) Subject: |SUCCESS| pw157143 [PATCH] net/ice: fix initialization with 8 ports From: dpdklab@iol.unh.edu To: Test Report Cc: dpdk-test-reports@iol.unh.edu, Bruce Richardson In-Reply-To: <20250930142850.1782615-1-bruce.richardson@intel.com> References: <20250930142850.1782615-1-bruce.richardson@intel.com> Content-Type: text/plain X-BeenThere: test-report@dpdk.org X-Mailman-Version: 2.1.29 Precedence: list List-Id: automatic DPDK test reports List-Unsubscribe: , List-Archive: List-Post: List-Help: List-Subscribe: , Errors-To: test-report-bounces@dpdk.org Test-Label: iol-compile-amd64-testing Test-Status: SUCCESS http://dpdk.org/patch/157143 _Testing PASS_ Submitter: Bruce Richardson Date: Tuesday, September 30 2025 14:28:50 DPDK git baseline: Repo:dpdk-next-net-intel Branch: master CommitID:9845e5848bbe337306fb6ae2a6b1ce5e6ab5b714 157143 --> testing pass Upstream job id: Generic-DPDK-Compile-Meson#430120 Test environment and result as below: +-------------------------------+--------------------+-------------------------+-------------------+----------------------+-------------------+------------------+ | Environment | dpdk_meson_compile | dpdk_llvm_clang_compile | dpdk_msvc_compile | dpdk_mingw64_compile | dpdk_compile_spdk | dpdk_compile_ovs | +===============================+====================+=========================+===================+======================+===================+==================+ | Ubuntu 20.04 | PASS | SKIPPED | SKIPPED | SKIPPED | SKIPPED | SKIPPED | +-------------------------------+--------------------+-------------------------+-------------------+----------------------+-------------------+------------------+ | FreeBSD 14.2 | PASS | SKIPPED | SKIPPED | SKIPPED | SKIPPED | SKIPPED | +-------------------------------+--------------------+-------------------------+-------------------+----------------------+-------------------+------------------+ | CentOS Stream 9 | PASS | SKIPPED | SKIPPED | SKIPPED | PASS | SKIPPED | +-------------------------------+--------------------+-------------------------+-------------------+----------------------+-------------------+------------------+ | Debian GNU/Linux 12 | PASS | SKIPPED | SKIPPED | SKIPPED | PASS | SKIPPED | +-------------------------------+--------------------+-------------------------+-------------------+----------------------+-------------------+------------------+ | CentOS Stream 10 | PASS | SKIPPED | SKIPPED | SKIPPED | SKIPPED | SKIPPED | +-------------------------------+--------------------+-------------------------+-------------------+----------------------+-------------------+------------------+ | Fedora Linux 42 | PASS | SKIPPED | SKIPPED | SKIPPED | PASS | PASS | +-------------------------------+--------------------+-------------------------+-------------------+----------------------+-------------------+------------------+ | openSUSE Leap 15.6 | PASS | SKIPPED | SKIPPED | SKIPPED | SKIPPED | SKIPPED | +-------------------------------+--------------------+-------------------------+-------------------+----------------------+-------------------+------------------+ | Red Hat Enterprise Linux 8.10 | PASS | SKIPPED | SKIPPED | SKIPPED | SKIPPED | SKIPPED | +-------------------------------+--------------------+-------------------------+-------------------+----------------------+-------------------+------------------+ | Red Hat Enterprise Linux 9.5 | PASS | SKIPPED | SKIPPED | SKIPPED | SKIPPED | SKIPPED | +-------------------------------+--------------------+-------------------------+-------------------+----------------------+-------------------+------------------+ | Windows Server 2022 | SKIPPED | PASS | PASS | PASS | SKIPPED | SKIPPED | +-------------------------------+--------------------+-------------------------+-------------------+----------------------+-------------------+------------------+ Ubuntu 20.04 Kernel: 4.19 Compiler: gcc gcc (Ubuntu 9.4.0-1ubuntu1~20.04.2) 9.4.0 FreeBSD 14.2 Kernel: 14.2-RELEASE Compiler: clang 18.1.6 CentOS Stream 9 Kernel: 5.15 Compiler: gcc gcc (GCC) 11.5.0 20240719 (Red Hat 11.5.0-11) Debian GNU/Linux 12 Kernel: 5.15 Compiler: gcc gcc (Debian 12.2.0-14+deb12u1) 12.2.0 CentOS Stream 10 Kernel: 5.15 Compiler: gcc gcc (GCC) 14.2.1 20250110 (Red Hat 14.2.1-8) Fedora Linux 42 Kernel: 5.15 Compiler: clang gcc (GCC) 15.2.1 20250808 (Red Hat 15.2.1-1) openSUSE Leap 15.6 Kernel: 5.15 Compiler: gcc gcc (SUSE Linux) 7.5.0 Red Hat Enterprise Linux 8.10 Kernel: 5.15 Compiler: gcc gcc (GCC) 8.5.0 20210514 (Red Hat 8.5.0-22) Red Hat Enterprise Linux 9.5 Kernel: 5.15 Compiler: gcc gcc (GCC) 11.5.0 20240719 (Red Hat 11.5.0-2) Windows Server 2022 Kernel: 10.0.20348.2031 Compiler: clang 15.0.7, gcc 14.1.0 (MinGW), and MSVC VS 19.39.33521 To view detailed results, visit: https://lab.dpdk.org/results/dashboard/patchsets/34184/ UNH-IOL DPDK Community Lab To manage your email subscriptions, visit: https://lab.dpdk.org/results/dashboard/preferences/subscriptions/