From mboxrd@z Thu Jan 1 00:00:00 1970 Return-Path: Received: from mails.dpdk.org (mails.dpdk.org [217.70.189.124]) by inbox.dpdk.org (Postfix) with ESMTP id 8A9F748875 for ; Tue, 30 Sep 2025 22:46:10 +0200 (CEST) Received: from mails.dpdk.org (localhost [127.0.0.1]) by mails.dpdk.org (Postfix) with ESMTP id 72D8D400EF; Tue, 30 Sep 2025 22:46:10 +0200 (CEST) Received: from mail-il1-f225.google.com (mail-il1-f225.google.com [209.85.166.225]) by mails.dpdk.org (Postfix) with ESMTP id 09273400EF for ; Tue, 30 Sep 2025 22:46:09 +0200 (CEST) Received: by mail-il1-f225.google.com with SMTP id e9e14a558f8ab-424d3c1256fso1710815ab.1 for ; Tue, 30 Sep 2025 13:46:08 -0700 (PDT) DKIM-Signature: v=1; a=rsa-sha256; c=relaxed/relaxed; d=iol.unh.edu; s=unh-iol; t=1759265168; x=1759869968; darn=dpdk.org; h=cc:to:from:subject:message-id:date:from:to:cc:subject:date :message-id:reply-to; bh=h1/JISMB/gmglXB3opWABYMLeN9aPXOY7lFvYY+kKhA=; b=ekAE102L++XNsr51klO9yQyCAhC2vzSTpXo5iO2bgpzkac/O5/Aw3c7azvBYJFfVZ2 pmyerS2X9CdWCWdieoR3FrrFsyJd5Ad6o2TVg1f8QI7bAhaLyvtOyPLYadqtI8bVR3F3 PFdox83KbNR93QsUZjqZcdfj/V19rpED+l8g8= X-Google-DKIM-Signature: v=1; a=rsa-sha256; c=relaxed/relaxed; d=1e100.net; s=20230601; t=1759265168; x=1759869968; h=cc:to:from:subject:message-id:date:x-gm-message-state:from:to:cc :subject:date:message-id:reply-to; bh=h1/JISMB/gmglXB3opWABYMLeN9aPXOY7lFvYY+kKhA=; b=N7KRrAJ+XSfZxG7OxTnWv9/GICHyvsd5etofFibRiqZ6VA/g1zmIjfI4ryD+AkfiIP kDvTaxRk6KjTRCszrY6bWXljJL2GsI2b/LMfTI3yd2WXETyW3yqECaNb6Us+RwwA9Az5 AwBXJ+qHdY3FtYrKsTISqYjr2iD+H5KsnodXRgN3/Vm4X7pZYxrcXwr1piIy8B1Lqvhi La+42Qg7cpBn8yMr3tmVPNoHhZXV5I4iQ9nF7CJN4U8o4b/Py84Hybqq2di5aqi4f0aG 93Ki4h+5TG+LQLTgRKRGOTDtvbIUh0FuL/LAAvLX7lTqseYDsCGhFo0vHOnrQXa8rk1r 73LA== X-Gm-Message-State: AOJu0Yya9b9CLFash2I3cp2GkRJqnEqJvVxqwS1/XOKoP9g/JU9bSSEx dfNhBvk4/7LPvqqXLNIehgUHUDsWsUbovuwQ9/ZHs1ZXasuYiW9QDE1EvSgIaYGwRKk29VWdt8W eDtiNtYEuqApVTi+Frdy10AkvV2KuQfWhksdBI3hXpbB0c7r8Vv8nGm4XtHsa X-Gm-Gg: ASbGnctWhOXJgb+Jr+/YxL7++Y/1bcbSyD7/ibWZPEKdKJ42Omzav1fuS62Bh59iMRx SrTqEW04MdfMK/okZnT7IgwIP0D3w+y+K0uy7SvMgsJKU4e+0XyLm6H4FV7tYrr37KyyCXpctbA XqAH0gKUBZWbAFfzfKtE76GbTneuEf6lvuH7XN5uxEq4w8cmeLdDnBRXI9SPGmMlsXmZ5bwNajV VTWrFSzyMQlsP+38linu98iPN9UaOqNAtJP3szyJS8tkwepy1RwK3WVbveCa93M/5M9DAPYf/kn cYMVt+Ecz5g6jjWAQYkYI1yfqGQYX7VEGEzp7+a8vHSDhY2JvlPxMGo= X-Google-Smtp-Source: AGHT+IGb2Vz/9lcjvkal46TuMggswbnzfP9hAES7TB8SnL9edd2ONgZfHCdhEf4Q8fN+Ql4jMwnWbB3JY7np X-Received: by 2002:a05:6e02:1a47:b0:424:8535:651c with SMTP id e9e14a558f8ab-42d815a8e26mr22858365ab.3.1759265168193; Tue, 30 Sep 2025 13:46:08 -0700 (PDT) Received: from postal.iol.unh.edu (postal.iol.unh.edu. [2606:4100:3880:1234::84]) by smtp-relay.gmail.com with ESMTPS id e9e14a558f8ab-427450ef948sm9242025ab.40.2025.09.30.13.46.08 (version=TLS1_2 cipher=ECDHE-ECDSA-AES128-GCM-SHA256 bits=128/128); Tue, 30 Sep 2025 13:46:08 -0700 (PDT) X-Relaying-Domain: iol.unh.edu Date: Tue, 30 Sep 2025 13:46:08 -0700 (PDT) Message-ID: <68dc4190.050a0220.aba80.8490SMTPIN_ADDED_MISSING@mx.google.com> Received: from [172.21.0.2] (unknown [172.18.0.240]) by postal.iol.unh.edu (Postfix) with ESMTP id B3197604D420; Tue, 30 Sep 2025 16:46:07 -0400 (EDT) Subject: |SUCCESS| [GIT MASTER] 8fafc107475f8456cf90cbb7e805236aafa6d547 From: dpdklab@iol.unh.edu To: Test Report Cc: dpdk-test-reports@iol.unh.edu, Akhil Goyal Content-Type: text/plain X-BeenThere: test-report@dpdk.org X-Mailman-Version: 2.1.29 Precedence: list List-Id: automatic DPDK test reports List-Unsubscribe: , List-Archive: List-Post: List-Help: List-Subscribe: , Errors-To: test-report-bounces@dpdk.org _Testing PASS_ Branch: dpdk-next-crypto 8fafc107475f8456cf90cbb7e805236aafa6d547 --> testing pass Upstream job id: Generic-VM-Unit-Test-DPDK#31504 Test environment and result as below: +-------------------------------+----------------+ | Environment | dpdk_unit_test | +===============================+================+ | CentOS Stream 9 | PASS | +-------------------------------+----------------+ | CentOS Stream 10 | PASS | +-------------------------------+----------------+ | Debian GNU/Linux 12 | PASS | +-------------------------------+----------------+ | Fedora Linux 41 | PASS | +-------------------------------+----------------+ | Fedora Linux 40 | PASS | +-------------------------------+----------------+ | Fedora Linux 42 | PASS | +-------------------------------+----------------+ | Red Hat Enterprise Linux 8.10 | PASS | +-------------------------------+----------------+ | Ubuntu 20.04 | PASS | +-------------------------------+----------------+ | Ubuntu 22.04 | PASS | +-------------------------------+----------------+ | Red Hat Enterprise Linux 9.5 | PASS | +-------------------------------+----------------+ | Ubuntu 24.04 | PASS | +-------------------------------+----------------+ | Windows Server 2022 | PASS | +-------------------------------+----------------+ CentOS Stream 9 Kernel: 5.15 Compiler: gcc gcc (GCC) 11.5.0 20240719 (Red Hat 11.5.0-11) CentOS Stream 10 Kernel: 5.15 Compiler: gcc gcc (GCC) 14.2.1 20250110 (Red Hat 14.2.1-8) Debian GNU/Linux 12 Kernel: 5.15 Compiler: gcc gcc (Debian 12.2.0-14+deb12u1) 12.2.0 Fedora Linux 41 Kernel: 5.15 Compiler: gcc gcc (GCC) 14.3.1 20250523 (Red Hat 14.3.1-1) Fedora Linux 40 Kernel: 5.15 Compiler: clang gcc (GCC) 14.2.1 20240912 (Red Hat 14.2.1-3) Fedora Linux 42 Kernel: 5.15 Compiler: gcc gcc (GCC) 15.2.1 20250808 (Red Hat 15.2.1-1) Red Hat Enterprise Linux 8.10 Kernel: 5.15 Compiler: gcc gcc (GCC) 8.5.0 20210514 (Red Hat 8.5.0-22) Ubuntu 20.04 Kernel: 5.15 Compiler: gcc gcc (Ubuntu 9.4.0-1ubuntu1~20.04.2) 9.4.0 Ubuntu 22.04 Kernel: 5.15 Compiler: gcc gcc (Ubuntu 11.4.0-1ubuntu1~22.04) 11.4.0 Red Hat Enterprise Linux 9.5 Kernel: 5.15 Compiler: gcc gcc (GCC) 11.5.0 20240719 (Red Hat 11.5.0-2) Ubuntu 24.04 Kernel: 5.15 Compiler: gcc gcc (Ubuntu 13.3.0-6ubuntu2~24.04) 13.3.0 Windows Server 2022 Kernel: 10.0.20348.2031 Compiler: clang 15.0.7, gcc 14.1.0 (MinGW), and MSVC VS 19.39.33521 To view detailed results, visit: https://lab.dpdk.org/results/dashboard/tarballs/35065/ UNH-IOL DPDK Community Lab To manage your email subscriptions, visit: https://lab.dpdk.org/results/dashboard/preferences/subscriptions/